BEGIN:VCALENDAR
VERSION:2.0
PRODID:-//St. Andrew Lutheran Church - ECPv6.15.20//NONSGML v1.0//EN
CALSCALE:GREGORIAN
METHOD:PUBLISH
X-ORIGINAL-URL:https://standrewlu.org
X-WR-CALDESC:Events for St. Andrew Lutheran Church
REFRESH-INTERVAL;VALUE=DURATION:PT1H
X-Robots-Tag:noindex
X-PUBLISHED-TTL:PT1H
BEGIN:VTIMEZONE
TZID:UTC
BEGIN:STANDARD
TZOFFSETFROM:+0000
TZOFFSETTO:+0000
TZNAME:UTC
DTSTART:20250101T000000
END:STANDARD
END:VTIMEZONE
BEGIN:VEVENT
DTSTART;TZID=UTC:20260508T090000
DTEND;TZID=UTC:20260508T160000
DTSTAMP:20260422T220725
CREATED:20260422T174154Z
LAST-MODIFIED:20260422T174154Z
UID:10001106-1778230800-1778256000@standrewlu.org
SUMMARY:Serve and Play Release Day May 8\, 2026
DESCRIPTION:Enjoy the break from school by spending a day in service\, enjoying a pizza lunch and going to Grand Slam in Burnsville Cost: $60 – open to 1st-8th Grade students
URL:https://standrewlu.org/event/serve-and-play-release-day-may-8-2026/
LOCATION:St. Andrew Lutheran Church
CATEGORIES:Children, Youth & Family,Elementary,St. Andrew Lutheran Church
ATTACH;FMTTYPE=image/png:https://standrewlu.org/wp-content/uploads/2026/04/serve-and-play-may-8th.png
END:VEVENT
END:VCALENDAR