BEGIN:VCALENDAR
VERSION:2.0
PRODID:-//St. Andrew Lutheran Church - ECPv6.15.20//NONSGML v1.0//EN
CALSCALE:GREGORIAN
METHOD:PUBLISH
X-WR-CALNAME:St. Andrew Lutheran Church
X-ORIGINAL-URL:https://standrewlu.org
X-WR-CALDESC:Events for St. Andrew Lutheran Church
REFRESH-INTERVAL;VALUE=DURATION:PT1H
X-Robots-Tag:noindex
X-PUBLISHED-TTL:PT1H
BEGIN:VTIMEZONE
TZID:Europe/Lisbon
BEGIN:DAYLIGHT
TZOFFSETFROM:+0000
TZOFFSETTO:+0100
TZNAME:WEST
DTSTART:20250330T010000
END:DAYLIGHT
BEGIN:STANDARD
TZOFFSETFROM:+0100
TZOFFSETTO:+0000
TZNAME:WET
DTSTART:20251026T010000
END:STANDARD
BEGIN:DAYLIGHT
TZOFFSETFROM:+0000
TZOFFSETTO:+0100
TZNAME:WEST
DTSTART:20260329T010000
END:DAYLIGHT
BEGIN:STANDARD
TZOFFSETFROM:+0100
TZOFFSETTO:+0000
TZNAME:WET
DTSTART:20261025T010000
END:STANDARD
BEGIN:DAYLIGHT
TZOFFSETFROM:+0000
TZOFFSETTO:+0100
TZNAME:WEST
DTSTART:20270328T010000
END:DAYLIGHT
BEGIN:STANDARD
TZOFFSETFROM:+0100
TZOFFSETTO:+0000
TZNAME:WET
DTSTART:20271031T010000
END:STANDARD
END:VTIMEZONE
BEGIN:VEVENT
DTSTART;TZID=Europe/Lisbon:20260603T133000
DTEND;TZID=Europe/Lisbon:20260603T150000
DTSTAMP:20260419T190325
CREATED:20260111T145459Z
LAST-MODIFIED:20260319T085945Z
UID:10000627-1780493400-1780498800@standrewlu.org
SUMMARY:Loom Knitting Class and Gathering
DESCRIPTION:Those with no loom knitting experience along with experienced loom knitters are invited to gather for an easy-to-learn hat knitting class and connect with others from St. Andrew.\nBeginner knitters will be provided the loom\, tools\, yarn\, and instructions to knit a hat that will be donated to charity. Beginners will complete the brim of a hat\, and will knit the balance of the hat on their own at home. At the next gathering you will remove the hat from the loom\, cinch it closed\, make and attach a pompom.\nAdvanced knitters may bring their own loom and yarn or use those available in class. Advanced knitters may have the opportunity to learn a new stitch or pattern.\nAll knitters will enjoy sharing tips\, tricks\, and challenges of loom knitting.
URL:https://standrewlu.org/event/loom-knitting-class-and-gathering-7/
LOCATION:St. Andrew Lutheran Church
CATEGORIES:Adult,Small Group,St. Andrew Lutheran Church,Women's Groups
ATTACH;FMTTYPE=image/jpeg:https://standrewlu.org/wp-content/uploads/2025/12/loom-knitting.jpg
END:VEVENT
BEGIN:VEVENT
DTSTART;TZID=Europe/Lisbon:20260603T073000
DTEND;TZID=Europe/Lisbon:20260603T083000
DTSTAMP:20260419T190325
CREATED:20260106T072732Z
LAST-MODIFIED:20260319T085945Z
UID:10000751-1780471800-1780475400@standrewlu.org
SUMMARY:Band of Brothers
DESCRIPTION:Join fellow Christian men each week to examine how faith affects our daily life and relationships. Participate weekly\, when you can.
URL:https://standrewlu.org/event/band-of-brothers-23/
LOCATION:St. Andrew Lutheran Church
CATEGORIES:Adult,Bible and Book Studies,Men's Groups,Small Group,St. Andrew Lutheran Church
ATTACH;FMTTYPE=image/jpeg:https://standrewlu.org/wp-content/uploads/2025/12/Small-Group-MP-Event-Widget-Image.jpg
END:VEVENT
BEGIN:VEVENT
DTSTART;TZID=Europe/Lisbon:20260531T113000
DTEND;TZID=Europe/Lisbon:20260531T122000
DTSTAMP:20260419T190325
CREATED:20260407T091342Z
LAST-MODIFIED:20260407T091342Z
UID:10000987-1780227000-1780230000@standrewlu.org
SUMMARY:Worship - Contemporary
DESCRIPTION:
URL:https://standrewlu.org/event/worship-contemporary-10/
LOCATION:St. Andrew Lutheran Church
CATEGORIES:St. Andrew Lutheran Church,Worship
ATTACH;FMTTYPE=image/jpeg:https://standrewlu.org/wp-content/uploads/2026/01/worship.jpg
END:VEVENT
BEGIN:VEVENT
DTSTART;TZID=Europe/Lisbon:20260531T100000
DTEND;TZID=Europe/Lisbon:20260531T111000
DTSTAMP:20260419T190325
CREATED:20260407T091227Z
LAST-MODIFIED:20260407T091227Z
UID:10000986-1780221600-1780225800@standrewlu.org
SUMMARY:Worship -- Traditional
DESCRIPTION:
URL:https://standrewlu.org/event/worship-traditional-10/
LOCATION:St. Andrew Lutheran Church
CATEGORIES:St. Andrew Lutheran Church,Worship
ATTACH;FMTTYPE=image/jpeg:https://standrewlu.org/wp-content/uploads/2026/01/worship.jpg
END:VEVENT
BEGIN:VEVENT
DTSTART;TZID=Europe/Lisbon:20260530T100000
DTEND;TZID=Europe/Lisbon:20260530T120000
DTSTAMP:20260419T190325
CREATED:20260116T141118Z
LAST-MODIFIED:20260319T085945Z
UID:10000750-1780135200-1780142400@standrewlu.org
SUMMARY:Saturday Morning Men's Bible Study
DESCRIPTION:The Saturday morning men’s group is a lighthearted bunch from several churches in the Southwest Metro that enjoys Christian fellowship and learning. \nWe have a particular liking to Andy Stanley and other contemporary Christian preachers. We use videos and Bible studies as conversation starters on living a Christian man’s life in today’s world. Join us anytime\, you don’t need to wait until we start a new series. \nAll mature (from 50 to 115) Christian men (St. Andrew membership not required) welcome. Come as you are as often as you can.\nLocation:\nFlagstone Retirement Community\n8350 Commonwealth Drive\, Eden Prairie\n1st Floor Conference Room (behind reception desk)
URL:https://standrewlu.org/event/saturday-morning-mens-bible-study-22/
LOCATION:Offsite
CATEGORIES:Adult,Bible and Book Studies,Men's Groups,Offsite,Small Group
ATTACH;FMTTYPE=image/jpeg:https://standrewlu.org/wp-content/uploads/2025/12/Small-Group-MP-Event-Widget-Image.jpg
END:VEVENT
BEGIN:VEVENT
DTSTART;TZID=Europe/Lisbon:20260528T193000
DTEND;TZID=Europe/Lisbon:20260528T210000
DTSTAMP:20260419T190325
CREATED:20260111T151629Z
LAST-MODIFIED:20260319T085945Z
UID:10000625-1779996600-1780002000@standrewlu.org
SUMMARY:NAMI Friends & Family Support Group - Room 207
DESCRIPTION:Do you have a friend or loved one that lives with a mental illness? Gain insight from the challenges and successes of others facing similar experiences\, build understanding and awareness\, and connect with others. The group is led by trained leaders with lived experience. Join us\, this journey is better traveled in community with others.\nContact Laura Hoffer at lauraehoffer@gmail.com
URL:https://standrewlu.org/event/nami-friends-family-support-group-room-207-6/
LOCATION:St. Andrew Lutheran Church
CATEGORIES:Adult,Mixed Groups,Small Group,St. Andrew Lutheran Church,Support Groups
ATTACH;FMTTYPE=image/png:https://standrewlu.org/wp-content/uploads/2025/11/NAMI-3.png
END:VEVENT
BEGIN:VEVENT
DTSTART;TZID=Europe/Lisbon:20260528T103000
DTEND;TZID=Europe/Lisbon:20260528T113000
DTSTAMP:20260419T190325
CREATED:20260110T121840Z
LAST-MODIFIED:20260319T085945Z
UID:10000846-1779964200-1779967800@standrewlu.org
SUMMARY:Be Still And Know... Yoga & Devotion
DESCRIPTION:9:30 AM most Thursdays September through May.\nContact Carole to be placed on the email list to receive updates on dates and locations.\nThis is an open group and welcomes new participants each week. Each session opens with scripture and closes with a devotion and prayer. No previous yoga experience necessary. Participants wear yoga type stretchy pants with a semi-fitted top that allows for movement and bring a yoga mat or beach towel. Classes are taught by an experienced certified yoga instructor. You are welcome to come once\, twice\, or any time that works in your schedule. There is no charge for participation.
URL:https://standrewlu.org/event/be-still-and-know-yoga-devotion-20/
LOCATION:St. Andrew Lutheran Church
CATEGORIES:Adult,Small Group,St. Andrew Lutheran Church,Women's Groups
ATTACH;FMTTYPE=image/jpeg:https://standrewlu.org/wp-content/uploads/2026/01/yoga-and-devotion.jpg
END:VEVENT
BEGIN:VEVENT
DTSTART;TZID=Europe/Lisbon:20260528T100000
DTEND;TZID=Europe/Lisbon:20260528T110000
DTSTAMP:20260419T190325
CREATED:20260407T091136Z
LAST-MODIFIED:20260407T091136Z
UID:10001090-1779962400-1779966000@standrewlu.org
SUMMARY:Pastor's Book Study - Summer Book TBD
DESCRIPTION:
URL:https://standrewlu.org/event/pastors-book-study-summer-book-tbd-4/
LOCATION:St. Andrew Lutheran Church
CATEGORIES:Adult,Bible and Book Studies,Mixed Groups,Small Group,St. Andrew Lutheran Church
ATTACH;FMTTYPE=image/jpeg:https://standrewlu.org/wp-content/uploads/2026/01/pastors-book-study.jpg
END:VEVENT
BEGIN:VEVENT
DTSTART;TZID=Europe/Lisbon:20260527T090000
DTEND;TZID=Europe/Lisbon:20260527T100000
DTSTAMP:20260419T190325
CREATED:20260110T140026Z
LAST-MODIFIED:20260319T085945Z
UID:10000885-1779872400-1779876000@standrewlu.org
SUMMARY:Early Risers Bible Study - Book TBD
DESCRIPTION:Simon Peter–an ordinary fisherman who heard an extraordinary call. He left everything to follow his teacher and possessed a passion that would change the world. That’s one way to describe Peter. Here’s another: poor\, uneducated\, quick-tempered\, and full of doubts and fears. Doesn’t even sound like the same man.\nAnd that’s the point of Simon Peter\, a new book by Adam Hamilton. Peter was just an ordinary guy who heard and followed God’s extraordinary call. Discover how you\, too\, have special gifts\, talents\, and abilities that God can use to make a difference today.\nBooks will be available for purchase at the Front Desk soon.
URL:https://standrewlu.org/event/early-risers-bible-study-simon-peter-flawed-but-faithful-disciple-20/
LOCATION:St. Andrew Lutheran Church
CATEGORIES:Adult,Bible and Book Studies,Mixed Groups,Small Group,St. Andrew Lutheran Church
ATTACH;FMTTYPE=image/jpeg:https://standrewlu.org/wp-content/uploads/2026/01/early-risers-book-club.jpg
END:VEVENT
BEGIN:VEVENT
DTSTART;TZID=Europe/Lisbon:20260527T073000
DTEND;TZID=Europe/Lisbon:20260527T083000
DTSTAMP:20260419T190325
CREATED:20260106T072700Z
LAST-MODIFIED:20260319T085945Z
UID:10000749-1779867000-1779870600@standrewlu.org
SUMMARY:Band of Brothers
DESCRIPTION:Join fellow Christian men each week to examine how faith affects our daily life and relationships. Participate weekly\, when you can.
URL:https://standrewlu.org/event/band-of-brothers-22/
LOCATION:St. Andrew Lutheran Church
CATEGORIES:Adult,Bible and Book Studies,Men's Groups,Small Group,St. Andrew Lutheran Church
ATTACH;FMTTYPE=image/jpeg:https://standrewlu.org/wp-content/uploads/2025/12/Small-Group-MP-Event-Widget-Image.jpg
END:VEVENT
BEGIN:VEVENT
DTSTART;TZID=Europe/Lisbon:20260526T193000
DTEND;TZID=Europe/Lisbon:20260526T213000
DTSTAMP:20260419T190325
CREATED:20260407T091052Z
LAST-MODIFIED:20260407T091052Z
UID:10000914-1779823800-1779831000@standrewlu.org
SUMMARY:Council 2026
DESCRIPTION:
URL:https://standrewlu.org/event/council-2026-2/
LOCATION:St. Andrew Lutheran Church
CATEGORIES:St. Andrew Lutheran Church
END:VEVENT
BEGIN:VEVENT
DTSTART;TZID=Europe/Lisbon:20260526T190000
DTEND;TZID=Europe/Lisbon:20260526T201500
DTSTAMP:20260419T190325
CREATED:20260110T120208Z
LAST-MODIFIED:20260319T085945Z
UID:10000694-1779822000-1779826500@standrewlu.org
SUMMARY:Basketball (16 yrs +)
DESCRIPTION:Join members and friends of St. Andrew for a friendly game of basketball and fellowship in the St. Andrew gym. Men and women are welcome. It is a great way to stay in shape\, meet some new people\, and bond over a shared interest in the sport. If interested\, contact Mark Domyahn at mdomyahn@gmail.com so that he can be in touch with you.
URL:https://standrewlu.org/event/basketball-16-yrs-19/
LOCATION:St. Andrew Lutheran Church
CATEGORIES:Adult,Children, Youth & Family,High School,Mixed Groups,St. Andrew Lutheran Church,Young Adult
ATTACH;FMTTYPE=image/jpeg:https://standrewlu.org/wp-content/uploads/2026/01/basketball.jpg
END:VEVENT
BEGIN:VEVENT
DTSTART;TZID=Europe/Lisbon:20260524T113000
DTEND;TZID=Europe/Lisbon:20260524T122000
DTSTAMP:20260419T190325
CREATED:20260407T090923Z
LAST-MODIFIED:20260407T090923Z
UID:10000985-1779622200-1779625200@standrewlu.org
SUMMARY:Worship - Contemporary
DESCRIPTION:
URL:https://standrewlu.org/event/worship-contemporary-9/
LOCATION:St. Andrew Lutheran Church
CATEGORIES:St. Andrew Lutheran Church,Worship
ATTACH;FMTTYPE=image/jpeg:https://standrewlu.org/wp-content/uploads/2026/01/worship.jpg
END:VEVENT
BEGIN:VEVENT
DTSTART;TZID=Europe/Lisbon:20260524T104500
DTEND;TZID=Europe/Lisbon:20260524T124500
DTSTAMP:20260419T190325
CREATED:20260407T091008Z
LAST-MODIFIED:20260407T091008Z
UID:10000624-1779619500-1779626700@standrewlu.org
SUMMARY:Sunday Morning Fellowship
DESCRIPTION:Gather for weekly refreshment through fellowship over coffee and donuts. Visitors\, friends\, and members alike are invited.
URL:https://standrewlu.org/event/sunday-morning-fellowship-8/
LOCATION:St. Andrew Lutheran Church
CATEGORIES:St. Andrew Lutheran Church,Worship
ATTACH;FMTTYPE=image/jpeg:https://standrewlu.org/wp-content/uploads/2026/01/fellowship.jpg
END:VEVENT
BEGIN:VEVENT
DTSTART;TZID=Europe/Lisbon:20260524T100000
DTEND;TZID=Europe/Lisbon:20260524T111000
DTSTAMP:20260419T190325
CREATED:20260407T090856Z
LAST-MODIFIED:20260407T090856Z
UID:10000984-1779616800-1779621000@standrewlu.org
SUMMARY:Worship -- Traditional
DESCRIPTION:
URL:https://standrewlu.org/event/worship-traditional-9/
LOCATION:St. Andrew Lutheran Church
CATEGORIES:St. Andrew Lutheran Church,Worship
ATTACH;FMTTYPE=image/jpeg:https://standrewlu.org/wp-content/uploads/2026/01/worship.jpg
END:VEVENT
BEGIN:VEVENT
DTSTART;TZID=Europe/Lisbon:20260523T100000
DTEND;TZID=Europe/Lisbon:20260523T120000
DTSTAMP:20260419T190325
CREATED:20260116T141047Z
LAST-MODIFIED:20260319T085944Z
UID:10000748-1779530400-1779537600@standrewlu.org
SUMMARY:Saturday Morning Men's Bible Study
DESCRIPTION:The Saturday morning men’s group is a lighthearted bunch from several churches in the Southwest Metro that enjoys Christian fellowship and learning. \nWe have a particular liking to Andy Stanley and other contemporary Christian preachers. We use videos and Bible studies as conversation starters on living a Christian man’s life in today’s world. Join us anytime\, you don’t need to wait until we start a new series. \nAll mature (from 50 to 115) Christian men (St. Andrew membership not required) welcome. Come as you are as often as you can.\nLocation:\nFlagstone Retirement Community\n8350 Commonwealth Drive\, Eden Prairie\n1st Floor Conference Room (behind reception desk)
URL:https://standrewlu.org/event/saturday-morning-mens-bible-study-21/
LOCATION:Offsite
CATEGORIES:Adult,Bible and Book Studies,Men's Groups,Offsite,Small Group
ATTACH;FMTTYPE=image/jpeg:https://standrewlu.org/wp-content/uploads/2025/12/Small-Group-MP-Event-Widget-Image.jpg
END:VEVENT
BEGIN:VEVENT
DTSTART;TZID=Europe/Lisbon:20260521T200000
DTEND;TZID=Europe/Lisbon:20260521T213000
DTSTAMP:20260419T190325
CREATED:20260407T090659Z
LAST-MODIFIED:20260407T090659Z
UID:10000623-1779393600-1779399000@standrewlu.org
SUMMARY:Suicide Bereavement Support Group
DESCRIPTION:This support group aims to provide a safe\, accepting and non-judgmental place for people struggling with the challenge of suicide loss. Leadership of this support group have experienced personal loss of their own and have received specialized training.\nFor more information\, please contact Pastor Kristin Skare at pastorkristin@standrewlu.org.
URL:https://standrewlu.org/event/suicide-bereavement-support-group-7/
LOCATION:St. Andrew Lutheran Church
CATEGORIES:Adult,St. Andrew Lutheran Church,Support Groups
ATTACH;FMTTYPE=image/jpeg:https://standrewlu.org/wp-content/uploads/2025/12/Suicide_Bereavement_Support_Group.jpg
END:VEVENT
BEGIN:VEVENT
DTSTART;TZID=Europe/Lisbon:20260521T193000
DTEND;TZID=Europe/Lisbon:20260521T210000
DTSTAMP:20260419T190325
CREATED:20260407T090616Z
LAST-MODIFIED:20260407T090616Z
UID:10001055-1779391800-1779397200@standrewlu.org
SUMMARY:Patio Crawl
DESCRIPTION:Location: Boom Island Brewing Company\, Minnetonka\nLooking for an easy way to connect with others from St. Andrew in a friendly and relaxed setting? In order for us to grow in our friendships and Christian faith\, we are encouraged to engage with others from our church community. Join St. Andrew staff and other members and friends for casual conversation and easy discussion topics. No preparation is needed. Come as you are.
URL:https://standrewlu.org/event/patio-crawl-5/
LOCATION:Offsite
CATEGORIES:Adult,Mixed Groups,Offsite,Small Group
ATTACH;FMTTYPE=image/jpeg:https://standrewlu.org/wp-content/uploads/2026/01/patio-crawl.jpg
END:VEVENT
BEGIN:VEVENT
DTSTART;TZID=Europe/Lisbon:20260521T193000
DTEND;TZID=Europe/Lisbon:20260521T210000
DTSTAMP:20260419T190325
CREATED:20260407T090347Z
LAST-MODIFIED:20260407T090347Z
UID:10000622-1779391800-1779397200@standrewlu.org
SUMMARY:Women of the Word (WOW) -- PM
DESCRIPTION:Join us for a women’s Bible study of faith and fellowship using streaming video\, workbook lessons\, and small group discussions. For beginners and advanced! All women are welcome\, members and non-members.\nJoin us for our eight-week study of The Way of Wisdom: A Study of the Book of Proverbs by Jen Wilkin\, Ruth Chou Simons\, Kelly Minter\, Adrienne Camp\, Elizabeth Woodson\, and Courtney Doctor beginning January 8.
URL:https://standrewlu.org/event/women-of-the-word-wow-pm-8/
LOCATION:St. Andrew Lutheran Church
CATEGORIES:Adult,Bible and Book Studies,Small Group,St. Andrew Lutheran Church,Women's Groups
ATTACH;FMTTYPE=image/png:https://standrewlu.org/wp-content/uploads/2026/03/W.O.W.-PM-1.png
END:VEVENT
BEGIN:VEVENT
DTSTART;TZID=Europe/Lisbon:20260521T103000
DTEND;TZID=Europe/Lisbon:20260521T113000
DTSTAMP:20260419T190325
CREATED:20260110T121756Z
LAST-MODIFIED:20260319T085944Z
UID:10000845-1779359400-1779363000@standrewlu.org
SUMMARY:Be Still And Know... Yoga & Devotion
DESCRIPTION:9:30 AM most Thursdays September through May.\nContact Carole to be placed on the email list to receive updates on dates and locations.\nThis is an open group and welcomes new participants each week. Each session opens with scripture and closes with a devotion and prayer. No previous yoga experience necessary. Participants wear yoga type stretchy pants with a semi-fitted top that allows for movement and bring a yoga mat or beach towel. Classes are taught by an experienced certified yoga instructor. You are welcome to come once\, twice\, or any time that works in your schedule. There is no charge for participation.
URL:https://standrewlu.org/event/be-still-and-know-yoga-devotion-19/
LOCATION:St. Andrew Lutheran Church
CATEGORIES:Adult,Small Group,St. Andrew Lutheran Church,Women's Groups
ATTACH;FMTTYPE=image/jpeg:https://standrewlu.org/wp-content/uploads/2026/01/yoga-and-devotion.jpg
END:VEVENT
BEGIN:VEVENT
DTSTART;TZID=Europe/Lisbon:20260521T100000
DTEND;TZID=Europe/Lisbon:20260521T110000
DTSTAMP:20260419T190325
CREATED:20260407T090012Z
LAST-MODIFIED:20260407T090012Z
UID:10001089-1779357600-1779361200@standrewlu.org
SUMMARY:Pastor's Book Study - Summer Book TBD
DESCRIPTION:
URL:https://standrewlu.org/event/pastors-book-study-summer-book-tbd-3/
LOCATION:St. Andrew Lutheran Church
CATEGORIES:Adult,Bible and Book Studies,Mixed Groups,Small Group,St. Andrew Lutheran Church
ATTACH;FMTTYPE=image/jpeg:https://standrewlu.org/wp-content/uploads/2026/01/pastors-book-study.jpg
END:VEVENT
BEGIN:VEVENT
DTSTART;TZID=Europe/Lisbon:20260520T090000
DTEND;TZID=Europe/Lisbon:20260520T100000
DTSTAMP:20260419T190325
CREATED:20260110T140004Z
LAST-MODIFIED:20260319T085944Z
UID:10000884-1779267600-1779271200@standrewlu.org
SUMMARY:Early Risers Bible Study - Book TBD
DESCRIPTION:Simon Peter–an ordinary fisherman who heard an extraordinary call. He left everything to follow his teacher and possessed a passion that would change the world. That’s one way to describe Peter. Here’s another: poor\, uneducated\, quick-tempered\, and full of doubts and fears. Doesn’t even sound like the same man.\nAnd that’s the point of Simon Peter\, a new book by Adam Hamilton. Peter was just an ordinary guy who heard and followed God’s extraordinary call. Discover how you\, too\, have special gifts\, talents\, and abilities that God can use to make a difference today.\nBooks will be available for purchase at the Front Desk soon.
URL:https://standrewlu.org/event/early-risers-bible-study-simon-peter-flawed-but-faithful-disciple-19/
LOCATION:St. Andrew Lutheran Church
CATEGORIES:Adult,Bible and Book Studies,Mixed Groups,Small Group,St. Andrew Lutheran Church
ATTACH;FMTTYPE=image/jpeg:https://standrewlu.org/wp-content/uploads/2026/01/early-risers-book-club.jpg
END:VEVENT
BEGIN:VEVENT
DTSTART;TZID=Europe/Lisbon:20260520T073000
DTEND;TZID=Europe/Lisbon:20260520T083000
DTSTAMP:20260419T190325
CREATED:20260106T072632Z
LAST-MODIFIED:20260319T085944Z
UID:10000747-1779262200-1779265800@standrewlu.org
SUMMARY:Band of Brothers
DESCRIPTION:Join fellow Christian men each week to examine how faith affects our daily life and relationships. Participate weekly\, when you can.
URL:https://standrewlu.org/event/band-of-brothers-21/
LOCATION:St. Andrew Lutheran Church
CATEGORIES:Adult,Bible and Book Studies,Men's Groups,Small Group,St. Andrew Lutheran Church
ATTACH;FMTTYPE=image/jpeg:https://standrewlu.org/wp-content/uploads/2025/12/Small-Group-MP-Event-Widget-Image.jpg
END:VEVENT
BEGIN:VEVENT
DTSTART;TZID=Europe/Lisbon:20260519T190000
DTEND;TZID=Europe/Lisbon:20260519T201500
DTSTAMP:20260419T190325
CREATED:20260110T120144Z
LAST-MODIFIED:20260319T085944Z
UID:10000693-1779217200-1779221700@standrewlu.org
SUMMARY:Basketball (16 yrs +)
DESCRIPTION:Join members and friends of St. Andrew for a friendly game of basketball and fellowship in the St. Andrew gym. Men and women are welcome. It is a great way to stay in shape\, meet some new people\, and bond over a shared interest in the sport. If interested\, contact Mark Domyahn at mdomyahn@gmail.com so that he can be in touch with you.
URL:https://standrewlu.org/event/basketball-16-yrs-18/
LOCATION:St. Andrew Lutheran Church
CATEGORIES:Adult,Children, Youth & Family,High School,Mixed Groups,St. Andrew Lutheran Church,Young Adult
ATTACH;FMTTYPE=image/jpeg:https://standrewlu.org/wp-content/uploads/2026/01/basketball.jpg
END:VEVENT
BEGIN:VEVENT
DTSTART;TZID=Europe/Lisbon:20260518T203000
DTEND;TZID=Europe/Lisbon:20260518T213000
DTSTAMP:20260419T190325
CREATED:20260115T135350Z
LAST-MODIFIED:20260319T085944Z
UID:10000844-1779136200-1779139800@standrewlu.org
SUMMARY:River Valley AA Group
DESCRIPTION:Alcoholics Anonymous is an international fellowship of men and women who have a drinking problem. It is nonprofessional\, self-supporting\, multiracial and apolitical. There are no age or education requirements. Membership is open to anyone who wants to do something about his or her drinking problem. Welcome to all who are in need.
URL:https://standrewlu.org/event/river-valley-aa-group-18/
LOCATION:St. Andrew Lutheran Church
CATEGORIES:Adult,Mixed Groups,Small Group,St. Andrew Lutheran Church,Support Groups
ATTACH;FMTTYPE=image/jpeg:https://standrewlu.org/wp-content/uploads/2026/01/river-valley-aa.jpg
END:VEVENT
BEGIN:VEVENT
DTSTART;TZID=Europe/Lisbon:20260518T200000
DTEND;TZID=Europe/Lisbon:20260518T213000
DTSTAMP:20260419T190325
CREATED:20260407T085901Z
LAST-MODIFIED:20260407T085901Z
UID:10001054-1779134400-1779139800@standrewlu.org
SUMMARY:Young Adult:  Shh.. Book Club
DESCRIPTION:Location: Chapel\nDays/Times: 3rd Monday of the Month @ 7-8:30 PM\nDescription: Join us for a cozy\, no-pressure reading hour with fellow book lovers. No assigned books\, no discussion required—just bring whatever you’re reading and enjoy quiet time together. Come as you are and let me know if you have any questions\nContact: Caleb Wragge at cwragge@standrewlu.org
URL:https://standrewlu.org/event/young-adult-shh-book-club-2/
LOCATION:St. Andrew Lutheran Church
CATEGORIES:Bible and Book Studies,St. Andrew Lutheran Church,Young Adult
ATTACH;FMTTYPE=image/png:https://standrewlu.org/wp-content/uploads/2026/03/Shh-Book-Club.png
END:VEVENT
BEGIN:VEVENT
DTSTART;TZID=Europe/Lisbon:20260518T190000
DTEND;TZID=Europe/Lisbon:20260518T210000
DTSTAMP:20260419T190325
CREATED:20260407T085652Z
LAST-MODIFIED:20260407T085712Z
UID:10001064-1779130800-1779138000@standrewlu.org
SUMMARY:Southwest Grief Coalition - Spring 2026 - St. Hubert
DESCRIPTION:Losing someone we love is one of life’s most challenging passages.\nThe churches of the Southwest Grief Coalition have bound together to provide support to those who are grieving the death of a family member or friend.\nThis is a caring\, supportive\, and confidential setting\, where you can learn about how your grief leads to personal growth and healing.\nThe Spring 2026 session will be hosted by St. Hubert Catholic Church located at 8201 Main Street in Chanhassen on six Mondays\, beginning April 13 through May 18.\nRegister on the Southwest Grief Coalition website: swgriefcoalition.org.
URL:https://standrewlu.org/event/southwest-grief-coalition-spring-2026-st-hubert-6/
LOCATION:Offsite
CATEGORIES:Adult,Offsite,Support Groups
ATTACH;FMTTYPE=image/png:https://standrewlu.org/wp-content/uploads/2026/03/Southwest-Grief-Coalition.png
END:VEVENT
BEGIN:VEVENT
DTSTART;TZID=Europe/Lisbon:20260518T183000
DTEND;TZID=Europe/Lisbon:20260518T194500
DTSTAMP:20260419T190325
CREATED:20260111T150519Z
LAST-MODIFIED:20260319T085944Z
UID:10000746-1779129000-1779133500@standrewlu.org
SUMMARY:Monday Evening Men's Group
DESCRIPTION:We generally meet on the 1st and 3rd Monday of the month. PLEASE reach out to Gary Spears at gspears012@msn.com or Bill McMonigal at bmcmonigal@comcast.net to confirm dates.\nWith so many places to go and things to do\, it is often hard to take time for yourself. We want to gather adult men together to share experiences and wisdom about life and being a good dad\, husband\, and Christian. The group uses various videos and readings to stimulate conversation and learning – and there’s NO homework. We provide men with networking and relationship-building opportunities\, giving one another a source of support\, laughter\, and a chance to share their faith.
URL:https://standrewlu.org/event/monday-evening-mens-group-9/
LOCATION:St. Andrew Lutheran Church
CATEGORIES:Adult,Bible and Book Studies,Men's Groups,Small Group,St. Andrew Lutheran Church
ATTACH;FMTTYPE=image/jpeg:https://standrewlu.org/wp-content/uploads/2025/12/Small-Group-MP-Event-Widget-Image.jpg
END:VEVENT
BEGIN:VEVENT
DTSTART;TZID=Europe/Lisbon:20260517T200000
DTEND;TZID=Europe/Lisbon:20260517T213000
DTSTAMP:20260419T190325
CREATED:20260407T084523Z
LAST-MODIFIED:20260407T084523Z
UID:10000621-1779048000-1779053400@standrewlu.org
SUMMARY:Young Adult: Bible Study & Board games
DESCRIPTION:Every week\, young adults gather for a laid-back evening of board games and Bible study at St. Andrew. It’s a space to laugh\, connect\, and dive into Scripture in a way that’s both meaningful and fun. Whether you’re competitive or contemplative\, there’s a seat at the table for you. 🎲📖
URL:https://standrewlu.org/event/young-adult-bible-study-board-games-8/
LOCATION:St. Andrew Lutheran Church
CATEGORIES:Bible and Book Studies,Small Group,St. Andrew Lutheran Church,Young Adult
ATTACH;FMTTYPE=image/png:https://standrewlu.org/wp-content/uploads/2026/03/Young-Adults-Games-and-Bible-Study.png
END:VEVENT
BEGIN:VEVENT
DTSTART;TZID=Europe/Lisbon:20260517T113000
DTEND;TZID=Europe/Lisbon:20260517T123000
DTSTAMP:20260419T190325
CREATED:20260407T070251Z
LAST-MODIFIED:20260407T070251Z
UID:10000620-1779017400-1779021000@standrewlu.org
SUMMARY:Sunday School 10:30 AM
DESCRIPTION:Children’s Ministry is for kids birth – 5th grade and friends. We embrace the teachings of Jesus when he calls us to Love God and Love Others!\nWe have opportunities for families and kids to connect\, learn\, play and grow in faith! All of our programming is intentionally crafted for kids to hear and experience the love of God and live out that faith in their daily lives.\nSunday School is offered during the 9:00 AM and 10:30 AM worship services on Sunday mornings for ages 3 years old to 5th grade. We have a staffed nursery for children ages 0-3 years old every Sunday.
URL:https://standrewlu.org/event/sunday-school-1030-am-8/
LOCATION:St. Andrew Lutheran Church
CATEGORIES:Children,Children, Youth & Family,Elementary,St. Andrew Lutheran Church,Worship
ATTACH;FMTTYPE=image/png:https://standrewlu.org/wp-content/uploads/2026/01/St-Andrew-Kids-logo-.png
END:VEVENT
END:VCALENDAR