BEGIN:VCALENDAR
VERSION:2.0
PRODID:-//St. Andrew Lutheran Church - ECPv6.15.20//NONSGML v1.0//EN
CALSCALE:GREGORIAN
METHOD:PUBLISH
X-WR-CALNAME:St. Andrew Lutheran Church
X-ORIGINAL-URL:https://standrewlu.org
X-WR-CALDESC:Events for St. Andrew Lutheran Church
REFRESH-INTERVAL;VALUE=DURATION:PT1H
X-Robots-Tag:noindex
X-PUBLISHED-TTL:PT1H
BEGIN:VTIMEZONE
TZID:UTC
BEGIN:STANDARD
TZOFFSETFROM:+0000
TZOFFSETTO:+0000
TZNAME:UTC
DTSTART:20250101T000000
END:STANDARD
END:VTIMEZONE
BEGIN:VEVENT
DTSTART;TZID=UTC:20260506T173000
DTEND;TZID=UTC:20260506T180000
DTSTAMP:20260420T035514
CREATED:20260110T133128Z
LAST-MODIFIED:20260319T085943Z
UID:10000579-1778088600-1778090400@standrewlu.org
SUMMARY:Choir - Starlight Singers 2025-2026
DESCRIPTION:Starlight Singers welcomes the youngest children with a variety of activities. Children 3-years–kindergarten sing\, dance\, make music\, and learn of Jesus’ love for them. Participate in worship approximately once per month\, as well as additional Wiggle & Worship services. Parents are always invited to attend.
URL:https://standrewlu.org/event/choir-starlight-singers-2025-2026-17/
LOCATION:St. Andrew Lutheran Church
CATEGORIES:Children,Children, Youth & Family,Music,St. Andrew Lutheran Church
ATTACH;FMTTYPE=image/jpeg:https://standrewlu.org/wp-content/uploads/2026/01/starlight-singers.jpg
END:VEVENT
BEGIN:VEVENT
DTSTART;TZID=UTC:20260506T170000
DTEND;TZID=UTC:20260506T173000
DTSTAMP:20260420T035514
CREATED:20260110T125321Z
LAST-MODIFIED:20260319T085942Z
UID:10000580-1778086800-1778088600@standrewlu.org
SUMMARY:Bell Choir - Ring of Fire 2025-2026
DESCRIPTION:Ring of Fire is a great opportunity for 4th-6th graders to learn the basics of handbell ringing\, grow as a musician and make new friends in a supportive atmosphere! We play in worship several times throughout the year. No prior experience ringing handbells is necessary\, everyone is welcome!
URL:https://standrewlu.org/event/bell-choir-ring-of-fire-2025-2026-17/
LOCATION:St. Andrew Lutheran Church
CATEGORIES:Children, Youth & Family,Middle School,Music,St. Andrew Lutheran Church
ATTACH;FMTTYPE=image/jpeg:https://standrewlu.org/wp-content/uploads/2025/11/MP-Images28-1.jpg
END:VEVENT
BEGIN:VEVENT
DTSTART;TZID=UTC:20260506T164500
DTEND;TZID=UTC:20260506T183000
DTSTAMP:20260420T035514
CREATED:20260406T165650Z
LAST-MODIFIED:20260406T165650Z
UID:10000904-1778085900-1778092200@standrewlu.org
SUMMARY:Wednesday Night Dinner
DESCRIPTION:Menu: walking tacos\nSmall Portion: $6\nLarge Portion: $9\nIncluded in the Small $6:\nMain Course\nFruit and Salad\nDessert\n(Large $9 includes a double portion of the Main course.)\nCash\, checks\, credit cards\, and digital pay are accepted.\nAll are welcome to Wednesday Night Dinner.
URL:https://standrewlu.org/event/wednesday-night-dinner-5/
LOCATION:St. Andrew Lutheran Church
CATEGORIES:St. Andrew Lutheran Church
ATTACH;FMTTYPE=image/png:https://standrewlu.org/wp-content/uploads/2026/03/Food.png
END:VEVENT
BEGIN:VEVENT
DTSTART;TZID=UTC:20260506T123000
DTEND;TZID=UTC:20260506T140000
DTSTAMP:20260420T035514
CREATED:20260111T145431Z
LAST-MODIFIED:20260319T085942Z
UID:10000576-1778070600-1778076000@standrewlu.org
SUMMARY:Loom Knitting Class and Gathering
DESCRIPTION:Those with no loom knitting experience along with experienced loom knitters are invited to gather for an easy-to-learn hat knitting class and connect with others from St. Andrew.\nBeginner knitters will be provided the loom\, tools\, yarn\, and instructions to knit a hat that will be donated to charity. Beginners will complete the brim of a hat\, and will knit the balance of the hat on their own at home. At the next gathering you will remove the hat from the loom\, cinch it closed\, make and attach a pompom.\nAdvanced knitters may bring their own loom and yarn or use those available in class. Advanced knitters may have the opportunity to learn a new stitch or pattern.\nAll knitters will enjoy sharing tips\, tricks\, and challenges of loom knitting.
URL:https://standrewlu.org/event/loom-knitting-class-and-gathering-6/
LOCATION:St. Andrew Lutheran Church
CATEGORIES:Adult,Small Group,St. Andrew Lutheran Church,Women's Groups
ATTACH;FMTTYPE=image/jpeg:https://standrewlu.org/wp-content/uploads/2025/12/loom-knitting.jpg
END:VEVENT
BEGIN:VEVENT
DTSTART;TZID=UTC:20260506T093000
DTEND;TZID=UTC:20260506T113000
DTSTAMP:20260420T035514
CREATED:20260406T165503Z
LAST-MODIFIED:20260406T165503Z
UID:10000575-1778059800-1778067000@standrewlu.org
SUMMARY:Women of the Word (WOW) -- AM
DESCRIPTION:A women’s Bible study of faith and fellowship. Each week includes large group lecture\, small group discussion and weekly homework assignments. Each small group includes both in person and virtual options. For beginners through advanced! Study materials need to be purchased by each participant. Scholarships are available.\nOur Winter/Spring study of The Chosen season 5 begins January 7.  The table is set. The people of Israel welcome Jesus as king while His disciples anticipate His crowning. But—instead of confronting Rome—He turns the tables on the Jewish religious festival. Their power threatened\, the country’s religious and political leaders will go to any length to ensure this Passover meal is Jesus’ last. With the accompanying study guide\, The Stronghold of the Chosen\, we’ll learn that Jesus is our safe place\, along with all the reasons we should run to and remain in Him when hard times come.
URL:https://standrewlu.org/event/women-of-the-word-wow-am-6/
LOCATION:St. Andrew Lutheran Church
CATEGORIES:Adult,Bible and Book Studies,St. Andrew Lutheran Church,Women's Groups
ATTACH;FMTTYPE=image/png:https://standrewlu.org/wp-content/uploads/2026/03/W.O.W.-AM.png
END:VEVENT
BEGIN:VEVENT
DTSTART;TZID=UTC:20260506T080000
DTEND;TZID=UTC:20260506T090000
DTSTAMP:20260420T035514
CREATED:20260110T135854Z
LAST-MODIFIED:20260319T085942Z
UID:10000882-1778054400-1778058000@standrewlu.org
SUMMARY:Early Risers Bible Study - Making Sense of the Bible
DESCRIPTION:Simon Peter–an ordinary fisherman who heard an extraordinary call. He left everything to follow his teacher and possessed a passion that would change the world. That’s one way to describe Peter. Here’s another: poor\, uneducated\, quick-tempered\, and full of doubts and fears. Doesn’t even sound like the same man.\nAnd that’s the point of Simon Peter\, a new book by Adam Hamilton. Peter was just an ordinary guy who heard and followed God’s extraordinary call. Discover how you\, too\, have special gifts\, talents\, and abilities that God can use to make a difference today.\nBooks will be available for purchase at the Front Desk soon.
URL:https://standrewlu.org/event/early-risers-bible-study-simon-peter-flawed-but-faithful-disciple-17/
LOCATION:St. Andrew Lutheran Church
CATEGORIES:Adult,Bible and Book Studies,Mixed Groups,Small Group,St. Andrew Lutheran Church
ATTACH;FMTTYPE=image/jpeg:https://standrewlu.org/wp-content/uploads/2026/01/early-risers-book-club.jpg
END:VEVENT
BEGIN:VEVENT
DTSTART;TZID=UTC:20260506T063000
DTEND;TZID=UTC:20260506T073000
DTSTAMP:20260420T035514
CREATED:20260106T072538Z
LAST-MODIFIED:20260319T085942Z
UID:10000742-1778049000-1778052600@standrewlu.org
SUMMARY:Band of Brothers
DESCRIPTION:Join fellow Christian men each week to examine how faith affects our daily life and relationships. Participate weekly\, when you can.
URL:https://standrewlu.org/event/band-of-brothers-19/
LOCATION:St. Andrew Lutheran Church
CATEGORIES:Adult,Bible and Book Studies,Men's Groups,Small Group,St. Andrew Lutheran Church
ATTACH;FMTTYPE=image/jpeg:https://standrewlu.org/wp-content/uploads/2025/12/Small-Group-MP-Event-Widget-Image.jpg
END:VEVENT
BEGIN:VEVENT
DTSTART;TZID=UTC:20260505T190000
DTEND;TZID=UTC:20260505T203000
DTSTAMP:20260420T035514
CREATED:20260406T165409Z
LAST-MODIFIED:20260406T165409Z
UID:10000574-1778007600-1778013000@standrewlu.org
SUMMARY:Suicide Bereavement Support Group
DESCRIPTION:This support group aims to provide a safe\, accepting and non-judgmental place for people struggling with the challenge of suicide loss. Leadership of this support group have experienced personal loss of their own and have received specialized training.\nFor more information\, please contact Pastor Kristin Skare at pastorkristin@standrewlu.org.
URL:https://standrewlu.org/event/suicide-bereavement-support-group-6/
LOCATION:St. Andrew Lutheran Church
CATEGORIES:Adult,St. Andrew Lutheran Church,Support Groups
ATTACH;FMTTYPE=image/jpeg:https://standrewlu.org/wp-content/uploads/2025/12/Suicide_Bereavement_Support_Group.jpg
END:VEVENT
BEGIN:VEVENT
DTSTART;TZID=UTC:20260505T180000
DTEND;TZID=UTC:20260505T191500
DTSTAMP:20260420T035514
CREATED:20260110T115959Z
LAST-MODIFIED:20260319T085942Z
UID:10000691-1778004000-1778008500@standrewlu.org
SUMMARY:Basketball (16 yrs +)
DESCRIPTION:Join members and friends of St. Andrew for a friendly game of basketball and fellowship in the St. Andrew gym. Men and women are welcome. It is a great way to stay in shape\, meet some new people\, and bond over a shared interest in the sport. If interested\, contact Mark Domyahn at mdomyahn@gmail.com so that he can be in touch with you.
URL:https://standrewlu.org/event/basketball-16-yrs-15/
LOCATION:St. Andrew Lutheran Church
CATEGORIES:Adult,Children, Youth & Family,High School,Mixed Groups,St. Andrew Lutheran Church,Young Adult
ATTACH;FMTTYPE=image/jpeg:https://standrewlu.org/wp-content/uploads/2026/01/basketball.jpg
END:VEVENT
BEGIN:VEVENT
DTSTART;TZID=UTC:20260504T193000
DTEND;TZID=UTC:20260504T203000
DTSTAMP:20260420T035514
CREATED:20260115T135236Z
LAST-MODIFIED:20260319T085942Z
UID:10000840-1777923000-1777926600@standrewlu.org
SUMMARY:River Valley AA Group
DESCRIPTION:Alcoholics Anonymous is an international fellowship of men and women who have a drinking problem. It is nonprofessional\, self-supporting\, multiracial and apolitical. There are no age or education requirements. Membership is open to anyone who wants to do something about his or her drinking problem. Welcome to all who are in need.
URL:https://standrewlu.org/event/river-valley-aa-group-16/
LOCATION:St. Andrew Lutheran Church
CATEGORIES:Adult,Mixed Groups,Small Group,St. Andrew Lutheran Church,Support Groups
ATTACH;FMTTYPE=image/jpeg:https://standrewlu.org/wp-content/uploads/2026/01/river-valley-aa.jpg
END:VEVENT
BEGIN:VEVENT
DTSTART;TZID=UTC:20260504T180000
DTEND;TZID=UTC:20260504T200000
DTSTAMP:20260420T035514
CREATED:20260406T165302Z
LAST-MODIFIED:20260406T165302Z
UID:10001062-1777917600-1777924800@standrewlu.org
SUMMARY:Southwest Grief Coalition - Spring 2026 - St. Hubert
DESCRIPTION:Losing someone we love is one of life’s most challenging passages.\nThe churches of the Southwest Grief Coalition have bound together to provide support to those who are grieving the death of a family member or friend.\nThis is a caring\, supportive\, and confidential setting\, where you can learn about how your grief leads to personal growth and healing.\nThe Spring 2026 session will be hosted by St. Hubert Catholic Church located at 8201 Main Street in Chanhassen on six Mondays\, beginning April 13 through May 18.\nRegister on the Southwest Grief Coalition website: swgriefcoalition.org.
URL:https://standrewlu.org/event/southwest-grief-coalition-spring-2026-st-hubert-4/
LOCATION:Offsite
CATEGORIES:Adult,Offsite,Support Groups
ATTACH;FMTTYPE=image/png:https://standrewlu.org/wp-content/uploads/2026/03/Southwest-Grief-Coalition.png
END:VEVENT
BEGIN:VEVENT
DTSTART;TZID=UTC:20260504T173000
DTEND;TZID=UTC:20260504T184500
DTSTAMP:20260420T035514
CREATED:20260111T150434Z
LAST-MODIFIED:20260319T085942Z
UID:10000741-1777915800-1777920300@standrewlu.org
SUMMARY:Monday Evening Men's Group
DESCRIPTION:We generally meet on the 1st and 3rd Monday of the month. PLEASE reach out to Gary Spears at gspears012@msn.com or Bill McMonigal at bmcmonigal@comcast.net to confirm dates.\nWith so many places to go and things to do\, it is often hard to take time for yourself. We want to gather adult men together to share experiences and wisdom about life and being a good dad\, husband\, and Christian. The group uses various videos and readings to stimulate conversation and learning – and there’s NO homework. We provide men with networking and relationship-building opportunities\, giving one another a source of support\, laughter\, and a chance to share their faith.
URL:https://standrewlu.org/event/monday-evening-mens-group-8/
LOCATION:St. Andrew Lutheran Church
CATEGORIES:Adult,Bible and Book Studies,Men's Groups,Small Group,St. Andrew Lutheran Church
ATTACH;FMTTYPE=image/jpeg:https://standrewlu.org/wp-content/uploads/2025/12/Small-Group-MP-Event-Widget-Image.jpg
END:VEVENT
BEGIN:VEVENT
DTSTART;TZID=UTC:20260503T190000
DTEND;TZID=UTC:20260503T203000
DTSTAMP:20260420T035514
CREATED:20260406T165213Z
LAST-MODIFIED:20260406T165213Z
UID:10000573-1777834800-1777840200@standrewlu.org
SUMMARY:Young Adult: Bible Study & Board games
DESCRIPTION:Every week\, young adults gather for a laid-back evening of board games and Bible study at St. Andrew. It’s a space to laugh\, connect\, and dive into Scripture in a way that’s both meaningful and fun. Whether you’re competitive or contemplative\, there’s a seat at the table for you. 🎲📖
URL:https://standrewlu.org/event/young-adult-bible-study-board-games-6/
LOCATION:St. Andrew Lutheran Church
CATEGORIES:Bible and Book Studies,Small Group,St. Andrew Lutheran Church,Young Adult
ATTACH;FMTTYPE=image/png:https://standrewlu.org/wp-content/uploads/2026/03/Young-Adults-Games-and-Bible-Study.png
END:VEVENT
BEGIN:VEVENT
DTSTART;TZID=UTC:20260503T103000
DTEND;TZID=UTC:20260503T113000
DTSTAMP:20260420T035514
CREATED:20260406T164926Z
LAST-MODIFIED:20260406T164926Z
UID:10000572-1777804200-1777807800@standrewlu.org
SUMMARY:Sunday School 10:30 AM
DESCRIPTION:Children’s Ministry is for kids birth – 5th grade and friends. We embrace the teachings of Jesus when he calls us to Love God and Love Others!\nWe have opportunities for families and kids to connect\, learn\, play and grow in faith! All of our programming is intentionally crafted for kids to hear and experience the love of God and live out that faith in their daily lives.\nSunday School is offered during the 9:00 AM and 10:30 AM worship services on Sunday mornings for ages 3 years old to 5th grade. We have a staffed nursery for children ages 0-3 years old every Sunday.
URL:https://standrewlu.org/event/sunday-school-1030-am-6/
LOCATION:St. Andrew Lutheran Church
CATEGORIES:Children,Children, Youth & Family,Elementary,St. Andrew Lutheran Church,Worship
ATTACH;FMTTYPE=image/png:https://standrewlu.org/wp-content/uploads/2026/01/St-Andrew-Kids-logo-.png
END:VEVENT
BEGIN:VEVENT
DTSTART;TZID=UTC:20260503T103000
DTEND;TZID=UTC:20260503T112000
DTSTAMP:20260420T035514
CREATED:20260406T164841Z
LAST-MODIFIED:20260406T164841Z
UID:10000978-1777804200-1777807200@standrewlu.org
SUMMARY:Worship - Contemporary
DESCRIPTION:
URL:https://standrewlu.org/event/worship-contemporary-6/
LOCATION:St. Andrew Lutheran Church
CATEGORIES:St. Andrew Lutheran Church,Worship
ATTACH;FMTTYPE=image/jpeg:https://standrewlu.org/wp-content/uploads/2026/01/worship.jpg
END:VEVENT
BEGIN:VEVENT
DTSTART;TZID=UTC:20260503T101500
DTEND;TZID=UTC:20260503T111500
DTSTAMP:20260420T035514
CREATED:20260406T164808Z
LAST-MODIFIED:20260406T164808Z
UID:10000571-1777803300-1777806900@standrewlu.org
SUMMARY:High School Bible study
DESCRIPTION:Each week\, high school students gather for Bible study at St. Andrew to explore Scripture and grow in faith together. It’s a space for honest questions\, meaningful conversations\, and building friendships rooted in Christ. Whether you’re new to the Bible or have grown up with it\, there’s always something fresh to discover. 🙌📖
URL:https://standrewlu.org/event/high-school-bible-study-6/
LOCATION:St. Andrew Lutheran Church
CATEGORIES:Children, Youth & Family,High School,St. Andrew Lutheran Church
ATTACH;FMTTYPE=image/png:https://standrewlu.org/wp-content/uploads/2026/03/High-School-Bible-Study.png
END:VEVENT
BEGIN:VEVENT
DTSTART;TZID=UTC:20260503T094500
DTEND;TZID=UTC:20260503T114500
DTSTAMP:20260420T035514
CREATED:20260406T165040Z
LAST-MODIFIED:20260406T165040Z
UID:10000570-1777801500-1777808700@standrewlu.org
SUMMARY:Sunday Morning Fellowship
DESCRIPTION:Gather for weekly refreshment through fellowship over coffee and donuts. Visitors\, friends\, and members alike are invited.
URL:https://standrewlu.org/event/sunday-morning-fellowship-5/
LOCATION:St. Andrew Lutheran Church
CATEGORIES:St. Andrew Lutheran Church,Worship
ATTACH;FMTTYPE=image/jpeg:https://standrewlu.org/wp-content/uploads/2026/01/fellowship.jpg
END:VEVENT
BEGIN:VEVENT
DTSTART;TZID=UTC:20260503T090000
DTEND;TZID=UTC:20260503T101000
DTSTAMP:20260420T035514
CREATED:20260406T154129Z
LAST-MODIFIED:20260406T154129Z
UID:10000979-1777798800-1777803000@standrewlu.org
SUMMARY:Worship -- Traditional
DESCRIPTION:
URL:https://standrewlu.org/event/worship-traditional-6/
LOCATION:St. Andrew Lutheran Church
CATEGORIES:St. Andrew Lutheran Church,Worship
ATTACH;FMTTYPE=image/jpeg:https://standrewlu.org/wp-content/uploads/2026/01/worship.jpg
END:VEVENT
BEGIN:VEVENT
DTSTART;TZID=UTC:20260503T090000
DTEND;TZID=UTC:20260503T100000
DTSTAMP:20260420T035514
CREATED:20260406T154101Z
LAST-MODIFIED:20260406T154101Z
UID:10000569-1777798800-1777802400@standrewlu.org
SUMMARY:Sunday School 9 AM
DESCRIPTION:Children’s Ministry is for kids birth – 5th grade and friends. We embrace the teachings of Jesus when he calls us to Love God and Love Others!\nWe have opportunities for families and kids to connect\, learn\, play and grow in faith! All of our programming is intentionally crafted for kids to hear and experience the love of God and live out that faith in their daily lives.\nSunday School is offered during the 9:00 AM and 10:30 AM worship services on Sunday mornings for ages 3 years old to 5th grade. We have a staffed nursery for children ages 0-3 years old every Sunday.
URL:https://standrewlu.org/event/sunday-school-9-am-6/
LOCATION:St. Andrew Lutheran Church
CATEGORIES:Children,Children, Youth & Family,Elementary,St. Andrew Lutheran Church,Worship
ATTACH;FMTTYPE=image/png:https://standrewlu.org/wp-content/uploads/2026/01/St-Andrew-Kids-logo-.png
END:VEVENT
BEGIN:VEVENT
DTSTART;TZID=UTC:20260502T090000
DTEND;TZID=UTC:20260502T110000
DTSTAMP:20260420T035514
CREATED:20260115T143145Z
LAST-MODIFIED:20260319T085942Z
UID:10000740-1777712400-1777719600@standrewlu.org
SUMMARY:Saturday Morning Men's Bible Study
DESCRIPTION:The Saturday morning men’s group is a lighthearted bunch from several churches in the Southwest Metro that enjoys Christian fellowship and learning. \nWe have a particular liking to Andy Stanley and other contemporary Christian preachers. We use videos and Bible studies as conversation starters on living a Christian man’s life in today’s world. Join us anytime\, you don’t need to wait until we start a new series. \nAll mature (from 50 to 115) Christian men (St. Andrew membership not required) welcome. Come as you are as often as you can.\nLocation:\nFlagstone Retirement Community\n8350 Commonwealth Drive\, Eden Prairie\n1st Floor Conference Room (behind reception desk)
URL:https://standrewlu.org/event/saturday-morning-mens-bible-study-18/
LOCATION:Offsite
CATEGORIES:Adult,Bible and Book Studies,Men's Groups,Offsite,Small Group
ATTACH;FMTTYPE=image/jpeg:https://standrewlu.org/wp-content/uploads/2025/12/Small-Group-MP-Event-Widget-Image.jpg
END:VEVENT
BEGIN:VEVENT
DTSTART;TZID=UTC:20260430T183000
DTEND;TZID=UTC:20260430T200000
DTSTAMP:20260420T035514
CREATED:20260406T154018Z
LAST-MODIFIED:20260406T154018Z
UID:10000568-1777573800-1777579200@standrewlu.org
SUMMARY:Women of the Word (WOW) -- PM
DESCRIPTION:Join us for a women’s Bible study of faith and fellowship using streaming video\, workbook lessons\, and small group discussions. For beginners and advanced! All women are welcome\, members and non-members.\nJoin us for our eight-week study of The Way of Wisdom: A Study of the Book of Proverbs by Jen Wilkin\, Ruth Chou Simons\, Kelly Minter\, Adrienne Camp\, Elizabeth Woodson\, and Courtney Doctor beginning January 8.
URL:https://standrewlu.org/event/women-of-the-word-wow-pm-5/
LOCATION:St. Andrew Lutheran Church
CATEGORIES:Adult,Bible and Book Studies,Small Group,St. Andrew Lutheran Church,Women's Groups
ATTACH;FMTTYPE=image/png:https://standrewlu.org/wp-content/uploads/2026/03/W.O.W.-PM-1.png
END:VEVENT
BEGIN:VEVENT
DTSTART;TZID=UTC:20260430T093000
DTEND;TZID=UTC:20260430T103000
DTSTAMP:20260420T035514
CREATED:20260110T121311Z
LAST-MODIFIED:20260319T085942Z
UID:10000839-1777541400-1777545000@standrewlu.org
SUMMARY:Be Still And Know... Yoga & Devotion
DESCRIPTION:9:30 AM most Thursdays September through May.\nContact Carole to be placed on the email list to receive updates on dates and locations.\nThis is an open group and welcomes new participants each week. Each session opens with scripture and closes with a devotion and prayer. No previous yoga experience necessary. Participants wear yoga type stretchy pants with a semi-fitted top that allows for movement and bring a yoga mat or beach towel. Classes are taught by an experienced certified yoga instructor. You are welcome to come once\, twice\, or any time that works in your schedule. There is no charge for participation.
URL:https://standrewlu.org/event/be-still-and-know-yoga-devotion-16/
LOCATION:St. Andrew Lutheran Church
CATEGORIES:Adult,Small Group,St. Andrew Lutheran Church,Women's Groups
ATTACH;FMTTYPE=image/jpeg:https://standrewlu.org/wp-content/uploads/2026/01/yoga-and-devotion.jpg
END:VEVENT
BEGIN:VEVENT
DTSTART;TZID=UTC:20260430T090000
DTEND;TZID=UTC:20260430T100000
DTSTAMP:20260420T035514
CREATED:20260406T122208Z
LAST-MODIFIED:20260406T122229Z
UID:10001086-1777539600-1777543200@standrewlu.org
SUMMARY:Pastor's Book Study - The Tears of Things
DESCRIPTION:Join us beginning Thursday\, March 26\, as we read and discuss The Tears of Things: Prophetic Wisdom for an Age of Outrage by Richard Rohr\, a man considered to be a modern mystic.\nThis book is a good introduction into his work and fitting for this time. How do we live compassionately in a time of violence and despair? What can we do with our private disappointments and the anger we feel in such an unjust world? Richard Rohr turns to the writings of the Jewish prophets\, revealing how some of the lesser read books of the Bible offer us a crucial path forward today.\nBooks are available for purchase from the Front Desk for $15.
URL:https://standrewlu.org/event/pastors-book-study-the-tears-of-things-4/
LOCATION:St. Andrew Lutheran Church
CATEGORIES:Adult,Bible and Book Studies,Mixed Groups,Small Group,St. Andrew Lutheran Church
ATTACH;FMTTYPE=image/jpeg:https://standrewlu.org/wp-content/uploads/2026/01/pastors-book-study.jpg
END:VEVENT
BEGIN:VEVENT
DTSTART;TZID=UTC:20260429T190000
DTEND;TZID=UTC:20260429T210000
DTSTAMP:20260420T035514
CREATED:20260406T122059Z
LAST-MODIFIED:20260406T122059Z
UID:10000567-1777489200-1777496400@standrewlu.org
SUMMARY:WNYG (High School Youth Group)
DESCRIPTION:WNYG is our High school Youth group. This is a community focused on growing closer to God and each other. No need to sign up Just stop by on any given Wednesday night around 7 and enjoy the snacks\, games\, and faith conversations.
URL:https://standrewlu.org/event/wnyg-high-school-youth-group-6/
LOCATION:St. Andrew Lutheran Church
CATEGORIES:Children, Youth & Family,High School,St. Andrew Lutheran Church
END:VEVENT
BEGIN:VEVENT
DTSTART;TZID=UTC:20260429T190000
DTEND;TZID=UTC:20260429T201500
DTSTAMP:20260420T035514
CREATED:20260110T130731Z
LAST-MODIFIED:20260319T085942Z
UID:10000566-1777489200-1777493700@standrewlu.org
SUMMARY:Canticle Choir 2025-2026
DESCRIPTION:The Canticle Choir singers lead the congregation at two 9:00 AM Sunday services a month by singing the liturgy\, special hymn arrangements\, anthems\, calls to worship\, and the occasional major choral/orchestral compositions.
URL:https://standrewlu.org/event/canticle-choir-2025-2026-16/
LOCATION:St. Andrew Lutheran Church
CATEGORIES:Adult,Mixed Groups,Music,St. Andrew Lutheran Church
ATTACH;FMTTYPE=image/jpeg:https://standrewlu.org/wp-content/uploads/2026/01/canticle-choir.jpg
END:VEVENT
BEGIN:VEVENT
DTSTART;TZID=UTC:20260429T183000
DTEND;TZID=UTC:20260429T192500
DTSTAMP:20260420T035514
CREATED:20260110T122931Z
LAST-MODIFIED:20260319T085942Z
UID:10000558-1777487400-1777490700@standrewlu.org
SUMMARY:Bell Choir - Bells of Joy 2025-2026
DESCRIPTION:This 5-octave handbell choir for adults meets once a week to rehearse and plays in worship about once a month. Bells of Joy is a small group opportunity for those who enjoy praising God through\nmusic. Ringing experience is helpful in this advanced bell choir.
URL:https://standrewlu.org/event/bell-choir-bells-of-joy-2025-2026-16/
LOCATION:St. Andrew Lutheran Church
CATEGORIES:Adult,Mixed Groups,Music,Small Group,St. Andrew Lutheran Church
ATTACH;FMTTYPE=image/jpeg:https://standrewlu.org/wp-content/uploads/2026/01/bells-of-joy.jpg
END:VEVENT
BEGIN:VEVENT
DTSTART;TZID=UTC:20260429T180500
DTEND;TZID=UTC:20260429T183000
DTSTAMP:20260420T035514
CREATED:20260111T154741Z
LAST-MODIFIED:20260319T085942Z
UID:10000559-1777485900-1777487400@standrewlu.org
SUMMARY:Pray and Play 2025-26
DESCRIPTION:Kids from age 3 through Kindergarten are invited to join us from 6:00 – 6:30 PM (after Starlight Singers choir). We’ll meet the kids in Room 206 and take them to the gym for a story\, prayer\, and play time in the gym with the Children’s Ministry staff!
URL:https://standrewlu.org/event/pray-and-play-2025-26-14/
LOCATION:St. Andrew Lutheran Church
CATEGORIES:Children,Children, Youth & Family,St. Andrew Lutheran Church
ATTACH;FMTTYPE=image/png:https://standrewlu.org/wp-content/uploads/2026/01/St-Andrew-Kids-logo-.png
END:VEVENT
BEGIN:VEVENT
DTSTART;TZID=UTC:20260429T180000
DTEND;TZID=UTC:20260429T183000
DTSTAMP:20260420T035514
CREATED:20260110T132027Z
LAST-MODIFIED:20260319T085942Z
UID:10000564-1777485600-1777487400@standrewlu.org
SUMMARY:Choir - Sonshine Singers 2025-2026
DESCRIPTION:Sonshine Singers is an exciting and energetic children’s choir for 1st–5th graders. Singers learn age-appropriate choral singing basics in a nurturing and fun environment. Kids will make new friends and have a blast with Jill Boyd. The choir sings during worship approximately once a month.
URL:https://standrewlu.org/event/choir-sonshine-singers-2025-2026-15/
LOCATION:St. Andrew Lutheran Church
CATEGORIES:Children, Youth & Family,Elementary,Music,St. Andrew Lutheran Church
ATTACH;FMTTYPE=image/jpeg:https://standrewlu.org/wp-content/uploads/2026/01/sonshine-singers.jpg
END:VEVENT
BEGIN:VEVENT
DTSTART;TZID=UTC:20260429T174500
DTEND;TZID=UTC:20260429T182500
DTSTAMP:20260420T035514
CREATED:20260110T141546Z
LAST-MODIFIED:20260319T085941Z
UID:10000562-1777484700-1777487100@standrewlu.org
SUMMARY:Grace Notes (Intro to Handbells) 2025-2026
DESCRIPTION:St. Andrew member Vicki Grant leads Intro to Handbells for beginning adult handbell ringers. No experience with handbells is required but attendees should be able to read music.
URL:https://standrewlu.org/event/grace-notes-intro-to-handbells-2025-2026-17/
LOCATION:St. Andrew Lutheran Church
CATEGORIES:Adult,Mixed Groups,Music,St. Andrew Lutheran Church
ATTACH;FMTTYPE=image/jpeg:https://standrewlu.org/wp-content/uploads/2026/01/grace-notes.jpg
END:VEVENT
BEGIN:VEVENT
DTSTART;TZID=UTC:20260429T174500
DTEND;TZID=UTC:20260429T182500
DTSTAMP:20260420T035514
CREATED:20260110T124128Z
LAST-MODIFIED:20260319T085941Z
UID:10000561-1777484700-1777487100@standrewlu.org
SUMMARY:Bell Choir - Peace Ringers 2025-2026
DESCRIPTION:In Peace Ringers\, 6th–12th graders will focus on learning and refining their handbell technique and musicianship while having a great time together! We play in worship several times throughout the year\, and we may do one performance out in the community through the year. No experience is necessary\, everyone is welcome!
URL:https://standrewlu.org/event/bell-choir-peace-ringers-2025-2026-16/
LOCATION:St. Andrew Lutheran Church
CATEGORIES:Children, Youth & Family,High School,Middle School,Music,St. Andrew Lutheran Church
ATTACH;FMTTYPE=image/jpeg:https://standrewlu.org/wp-content/uploads/2026/01/peace-ringers.jpg
END:VEVENT
END:VCALENDAR