BEGIN:VCALENDAR
VERSION:2.0
PRODID:-//St. Andrew Lutheran Church - ECPv6.15.20//NONSGML v1.0//EN
CALSCALE:GREGORIAN
METHOD:PUBLISH
X-ORIGINAL-URL:https://standrewlu.org
X-WR-CALDESC:Events for St. Andrew Lutheran Church
REFRESH-INTERVAL;VALUE=DURATION:PT1H
X-Robots-Tag:noindex
X-PUBLISHED-TTL:PT1H
BEGIN:VTIMEZONE
TZID:UTC
BEGIN:STANDARD
TZOFFSETFROM:+0000
TZOFFSETTO:+0000
TZNAME:UTC
DTSTART:20250101T000000
END:STANDARD
END:VTIMEZONE
BEGIN:VEVENT
DTSTART;TZID=UTC:20261015T170000
DTEND;TZID=UTC:20261015T183000
DTSTAMP:20260419T180645
CREATED:20251105T221207Z
LAST-MODIFIED:20260319T105949Z
UID:10000653-1792083600-1792089000@standrewlu.org
SUMMARY:Suicide Bereavement Support Group
DESCRIPTION:This support group aims to provide a safe\, accepting and non-judgmental place for people struggling with the challenge of suicide loss. Leadership of this support group have experienced personal loss of their own and have received specialized training.\nFor more information\, please contact Pastor Kristin Skare at pastorkristin@standrewlu.org.
URL:https://standrewlu.org/event/suicide-bereavement-support-group-2/
LOCATION:St. Andrew Lutheran Church
CATEGORIES:St. Andrew Lutheran Church
END:VEVENT
BEGIN:VEVENT
DTSTART;TZID=UTC:20261017T070000
DTEND;TZID=UTC:20261017T090000
DTSTAMP:20260419T180645
CREATED:20260116T161948Z
LAST-MODIFIED:20260319T105949Z
UID:10000790-1792220400-1792227600@standrewlu.org
SUMMARY:Saturday Morning Men's Bible Study
DESCRIPTION:The Saturday morning men’s group is a lighthearted bunch from several churches in the Southwest Metro that enjoys Christian fellowship and learning. \nWe have a particular liking to Andy Stanley and other contemporary Christian preachers. We use videos and Bible studies as conversation starters on living a Christian man’s life in today’s world. Join us anytime\, you don’t need to wait until we start a new series. \nAll mature (from 50 to 115) Christian men (St. Andrew membership not required) welcome. Come as you are as often as you can.\nLocation:\nFlagstone Retirement Community\n8350 Commonwealth Drive\, Eden Prairie\n1st Floor Conference Room (behind reception desk)
URL:https://standrewlu.org/event/saturday-morning-mens-bible-study-42/
LOCATION:Offsite
CATEGORIES:Adult,Bible and Book Studies,Men's Groups,Offsite,Small Group
ATTACH;FMTTYPE=image/jpeg:https://standrewlu.org/wp-content/uploads/2025/12/Small-Group-MP-Event-Widget-Image.jpg
END:VEVENT
BEGIN:VEVENT
DTSTART;TZID=UTC:20261021T043000
DTEND;TZID=UTC:20261021T053000
DTSTAMP:20260419T180645
CREATED:20260110T134529Z
LAST-MODIFIED:20260319T105949Z
UID:10000791-1792557000-1792560600@standrewlu.org
SUMMARY:Band of Brothers
DESCRIPTION:Join fellow Christian men each week to examine how faith affects our daily life and relationships. Participate weekly\, when you can.
URL:https://standrewlu.org/event/band-of-brothers-43/
LOCATION:St. Andrew Lutheran Church
CATEGORIES:Adult,Bible and Book Studies,Men's Groups,Small Group,St. Andrew Lutheran Church
ATTACH;FMTTYPE=image/jpeg:https://standrewlu.org/wp-content/uploads/2025/12/Small-Group-MP-Event-Widget-Image.jpg
END:VEVENT
BEGIN:VEVENT
DTSTART;TZID=UTC:20261022T163000
DTEND;TZID=UTC:20261022T180000
DTSTAMP:20260419T180645
CREATED:20251105T221207Z
LAST-MODIFIED:20260319T105949Z
UID:10000654-1792686600-1792692000@standrewlu.org
SUMMARY:NAMI Friends & Family Support Group - Room 207
DESCRIPTION:Do you have a friend or loved one that lives with a mental illness? Gain insight from the challenges and successes of others facing similar experiences\, build understanding and awareness\, and connect with others. The group is led by trained leaders with lived experience. Join us\, this journey is better traveled in community with others.\nContact Laura Hoffer at lauraehoffer@gmail.com
URL:https://standrewlu.org/event/nami-friends-family-support-group-room-207/
LOCATION:St. Andrew Lutheran Church
CATEGORIES:Adult,Mixed Groups,Small Group,St. Andrew Lutheran Church,Support Groups
ATTACH;FMTTYPE=image/png:https://standrewlu.org/wp-content/uploads/2025/11/NAMI-3.png
END:VEVENT
BEGIN:VEVENT
DTSTART;TZID=UTC:20261024T070000
DTEND;TZID=UTC:20261024T090000
DTSTAMP:20260419T180645
CREATED:20260116T162003Z
LAST-MODIFIED:20260319T105949Z
UID:10000792-1792825200-1792832400@standrewlu.org
SUMMARY:Saturday Morning Men's Bible Study
DESCRIPTION:The Saturday morning men’s group is a lighthearted bunch from several churches in the Southwest Metro that enjoys Christian fellowship and learning. \nWe have a particular liking to Andy Stanley and other contemporary Christian preachers. We use videos and Bible studies as conversation starters on living a Christian man’s life in today’s world. Join us anytime\, you don’t need to wait until we start a new series. \nAll mature (from 50 to 115) Christian men (St. Andrew membership not required) welcome. Come as you are as often as you can.\nLocation:\nFlagstone Retirement Community\n8350 Commonwealth Drive\, Eden Prairie\n1st Floor Conference Room (behind reception desk)
URL:https://standrewlu.org/event/saturday-morning-mens-bible-study-43/
LOCATION:Offsite
CATEGORIES:Adult,Bible and Book Studies,Men's Groups,Offsite,Small Group
ATTACH;FMTTYPE=image/jpeg:https://standrewlu.org/wp-content/uploads/2025/12/Small-Group-MP-Event-Widget-Image.jpg
END:VEVENT
BEGIN:VEVENT
DTSTART;TZID=UTC:20261028T043000
DTEND;TZID=UTC:20261028T053000
DTSTAMP:20260419T180645
CREATED:20260110T134611Z
LAST-MODIFIED:20260319T105949Z
UID:10000793-1793161800-1793165400@standrewlu.org
SUMMARY:Band of Brothers
DESCRIPTION:Join fellow Christian men each week to examine how faith affects our daily life and relationships. Participate weekly\, when you can.
URL:https://standrewlu.org/event/band-of-brothers-44/
LOCATION:St. Andrew Lutheran Church
CATEGORIES:Adult,Bible and Book Studies,Men's Groups,Small Group,St. Andrew Lutheran Church
ATTACH;FMTTYPE=image/jpeg:https://standrewlu.org/wp-content/uploads/2025/12/Small-Group-MP-Event-Widget-Image.jpg
END:VEVENT
BEGIN:VEVENT
DTSTART;TZID=UTC:20261031T070000
DTEND;TZID=UTC:20261031T090000
DTSTAMP:20260419T180645
CREATED:20260116T162025Z
LAST-MODIFIED:20260319T105949Z
UID:10000794-1793430000-1793437200@standrewlu.org
SUMMARY:Saturday Morning Men's Bible Study
DESCRIPTION:The Saturday morning men’s group is a lighthearted bunch from several churches in the Southwest Metro that enjoys Christian fellowship and learning. \nWe have a particular liking to Andy Stanley and other contemporary Christian preachers. We use videos and Bible studies as conversation starters on living a Christian man’s life in today’s world. Join us anytime\, you don’t need to wait until we start a new series. \nAll mature (from 50 to 115) Christian men (St. Andrew membership not required) welcome. Come as you are as often as you can.\nLocation:\nFlagstone Retirement Community\n8350 Commonwealth Drive\, Eden Prairie\n1st Floor Conference Room (behind reception desk)
URL:https://standrewlu.org/event/saturday-morning-mens-bible-study-44/
LOCATION:Offsite
CATEGORIES:Adult,Bible and Book Studies,Men's Groups,Offsite,Small Group
ATTACH;FMTTYPE=image/jpeg:https://standrewlu.org/wp-content/uploads/2025/12/Small-Group-MP-Event-Widget-Image.jpg
END:VEVENT
BEGIN:VEVENT
DTSTART;TZID=UTC:20261103T170000
DTEND;TZID=UTC:20261103T183000
DTSTAMP:20260419T180645
CREATED:20251105T221207Z
LAST-MODIFIED:20260319T105949Z
UID:10000655-1793725200-1793730600@standrewlu.org
SUMMARY:Suicide Bereavement Support Group
DESCRIPTION:This support group aims to provide a safe\, accepting and non-judgmental place for people struggling with the challenge of suicide loss. Leadership of this support group have experienced personal loss of their own and have received specialized training.\nFor more information\, please contact Pastor Kristin Skare at pastorkristin@standrewlu.org.
URL:https://standrewlu.org/event/suicide-bereavement-support-group/
LOCATION:St. Andrew Lutheran Church
CATEGORIES:St. Andrew Lutheran Church
END:VEVENT
BEGIN:VEVENT
DTSTART;TZID=UTC:20261104T043000
DTEND;TZID=UTC:20261104T053000
DTSTAMP:20260419T180645
CREATED:20260110T134649Z
LAST-MODIFIED:20260319T105949Z
UID:10000795-1793766600-1793770200@standrewlu.org
SUMMARY:Band of Brothers
DESCRIPTION:Join fellow Christian men each week to examine how faith affects our daily life and relationships. Participate weekly\, when you can.
URL:https://standrewlu.org/event/band-of-brothers-45/
LOCATION:St. Andrew Lutheran Church
CATEGORIES:Adult,Bible and Book Studies,Men's Groups,Small Group,St. Andrew Lutheran Church
ATTACH;FMTTYPE=image/jpeg:https://standrewlu.org/wp-content/uploads/2025/12/Small-Group-MP-Event-Widget-Image.jpg
END:VEVENT
BEGIN:VEVENT
DTSTART;TZID=UTC:20261104T103000
DTEND;TZID=UTC:20261104T120000
DTSTAMP:20260419T180645
CREATED:20251105T221206Z
LAST-MODIFIED:20260319T105949Z
UID:10000656-1793788200-1793793600@standrewlu.org
SUMMARY:Loom Knitting Class and Gathering
DESCRIPTION:Those with no loom knitting experience along with experienced loom knitters are invited to gather for an easy-to-learn hat knitting class and connect with others from St. Andrew.\nBeginner knitters will be provided the loom\, tools\, yarn\, and instructions to knit a hat that will be donated to charity. Beginners will complete the brim of a hat\, and will knit the balance of the hat on their own at home. At the next gathering you will remove the hat from the loom\, cinch it closed\, make and attach a pompom.\nAdvanced knitters may bring their own loom and yarn or use those available in class. Advanced knitters may have the opportunity to learn a new stitch or pattern.\nAll knitters will enjoy sharing tips\, tricks\, and challenges of loom knitting.
URL:https://standrewlu.org/event/loom-knitting-class-and-gathering/
LOCATION:St. Andrew Lutheran Church
CATEGORIES:Adult,Small Group,St. Andrew Lutheran Church,Women's Groups
END:VEVENT
BEGIN:VEVENT
DTSTART;TZID=UTC:20261104T163000
DTEND;TZID=UTC:20261104T173000
DTSTAMP:20260419T180645
CREATED:20251105T221143Z
LAST-MODIFIED:20260319T105949Z
UID:10000657-1793809800-1793813400@standrewlu.org
SUMMARY:A More Just World -- Social Justice Group
DESCRIPTION:When it comes to matters of race in our community\, St. Andrew is dedicated to helping create a more just world for all people through listening\, learning\, growing\, and acting differently. Monthly meetings provide fellowship for people wanting to dedicate themselves to this process on an ongoing basis. Join us for conversation and learning opportunities. We discuss different cultures\, race\, equity\, and healing through the use of readings\, videos and other media as we rally around the cause to create a more just world for all. With the help of Pastor Kelly Chatman\, we are partnering with Zion Baptist Church and Zion’s Pastor\, Brian Herron. Pastor Kelly Chatman has been instrumental in helping St. Andrew and A More Just World. These partnerships help churches like St. Andrew create and implement plans of understanding and action\, furthering racial justice and healing.
URL:https://standrewlu.org/event/a-more-just-world-social-justice-group/
LOCATION:St. Andrew Lutheran Church
CATEGORIES:A More Just World,Adult,Mixed Groups,St. Andrew Lutheran Church
ATTACH;FMTTYPE=image/jpeg:https://standrewlu.org/wp-content/uploads/2025/10/0W4A9744-16x9-1.jpg
END:VEVENT
BEGIN:VEVENT
DTSTART;TZID=UTC:20261107T070000
DTEND;TZID=UTC:20261107T090000
DTSTAMP:20260419T180645
CREATED:20260116T162045Z
LAST-MODIFIED:20260319T105949Z
UID:10000796-1794034800-1794042000@standrewlu.org
SUMMARY:Saturday Morning Men's Bible Study
DESCRIPTION:The Saturday morning men’s group is a lighthearted bunch from several churches in the Southwest Metro that enjoys Christian fellowship and learning. \nWe have a particular liking to Andy Stanley and other contemporary Christian preachers. We use videos and Bible studies as conversation starters on living a Christian man’s life in today’s world. Join us anytime\, you don’t need to wait until we start a new series. \nAll mature (from 50 to 115) Christian men (St. Andrew membership not required) welcome. Come as you are as often as you can.\nLocation:\nFlagstone Retirement Community\n8350 Commonwealth Drive\, Eden Prairie\n1st Floor Conference Room (behind reception desk)
URL:https://standrewlu.org/event/saturday-morning-mens-bible-study-45/
LOCATION:Offsite
CATEGORIES:Adult,Bible and Book Studies,Men's Groups,Offsite,Small Group
ATTACH;FMTTYPE=image/jpeg:https://standrewlu.org/wp-content/uploads/2025/12/Small-Group-MP-Event-Widget-Image.jpg
END:VEVENT
BEGIN:VEVENT
DTSTART;TZID=UTC:20261111T043000
DTEND;TZID=UTC:20261111T053000
DTSTAMP:20260419T180645
CREATED:20260110T134726Z
LAST-MODIFIED:20260319T105949Z
UID:10000797-1794371400-1794375000@standrewlu.org
SUMMARY:Band of Brothers
DESCRIPTION:Join fellow Christian men each week to examine how faith affects our daily life and relationships. Participate weekly\, when you can.
URL:https://standrewlu.org/event/band-of-brothers-46/
LOCATION:St. Andrew Lutheran Church
CATEGORIES:Adult,Bible and Book Studies,Men's Groups,Small Group,St. Andrew Lutheran Church
ATTACH;FMTTYPE=image/jpeg:https://standrewlu.org/wp-content/uploads/2025/12/Small-Group-MP-Event-Widget-Image.jpg
END:VEVENT
BEGIN:VEVENT
DTSTART;TZID=UTC:20261114T070000
DTEND;TZID=UTC:20261114T090000
DTSTAMP:20260419T180645
CREATED:20260116T162102Z
LAST-MODIFIED:20260319T105950Z
UID:10000798-1794639600-1794646800@standrewlu.org
SUMMARY:Saturday Morning Men's Bible Study
DESCRIPTION:The Saturday morning men’s group is a lighthearted bunch from several churches in the Southwest Metro that enjoys Christian fellowship and learning. \nWe have a particular liking to Andy Stanley and other contemporary Christian preachers. We use videos and Bible studies as conversation starters on living a Christian man’s life in today’s world. Join us anytime\, you don’t need to wait until we start a new series. \nAll mature (from 50 to 115) Christian men (St. Andrew membership not required) welcome. Come as you are as often as you can.\nLocation:\nFlagstone Retirement Community\n8350 Commonwealth Drive\, Eden Prairie\n1st Floor Conference Room (behind reception desk)
URL:https://standrewlu.org/event/saturday-morning-mens-bible-study-46/
LOCATION:Offsite
CATEGORIES:Adult,Bible and Book Studies,Men's Groups,Offsite,Small Group
ATTACH;FMTTYPE=image/jpeg:https://standrewlu.org/wp-content/uploads/2025/12/Small-Group-MP-Event-Widget-Image.jpg
END:VEVENT
BEGIN:VEVENT
DTSTART;TZID=UTC:20261118T043000
DTEND;TZID=UTC:20261118T053000
DTSTAMP:20260419T180645
CREATED:20260110T134756Z
LAST-MODIFIED:20260319T105950Z
UID:10000799-1794976200-1794979800@standrewlu.org
SUMMARY:Band of Brothers
DESCRIPTION:Join fellow Christian men each week to examine how faith affects our daily life and relationships. Participate weekly\, when you can.
URL:https://standrewlu.org/event/band-of-brothers-47/
LOCATION:St. Andrew Lutheran Church
CATEGORIES:Adult,Bible and Book Studies,Men's Groups,Small Group,St. Andrew Lutheran Church
ATTACH;FMTTYPE=image/jpeg:https://standrewlu.org/wp-content/uploads/2025/12/Small-Group-MP-Event-Widget-Image.jpg
END:VEVENT
BEGIN:VEVENT
DTSTART;TZID=UTC:20261121T070000
DTEND;TZID=UTC:20261121T090000
DTSTAMP:20260419T180645
CREATED:20260116T162130Z
LAST-MODIFIED:20260319T105950Z
UID:10000800-1795244400-1795251600@standrewlu.org
SUMMARY:Saturday Morning Men's Bible Study
DESCRIPTION:The Saturday morning men’s group is a lighthearted bunch from several churches in the Southwest Metro that enjoys Christian fellowship and learning. \nWe have a particular liking to Andy Stanley and other contemporary Christian preachers. We use videos and Bible studies as conversation starters on living a Christian man’s life in today’s world. Join us anytime\, you don’t need to wait until we start a new series. \nAll mature (from 50 to 115) Christian men (St. Andrew membership not required) welcome. Come as you are as often as you can.\nLocation:\nFlagstone Retirement Community\n8350 Commonwealth Drive\, Eden Prairie\n1st Floor Conference Room (behind reception desk)
URL:https://standrewlu.org/event/saturday-morning-mens-bible-study-47/
LOCATION:Offsite
CATEGORIES:Adult,Bible and Book Studies,Men's Groups,Offsite,Small Group
ATTACH;FMTTYPE=image/jpeg:https://standrewlu.org/wp-content/uploads/2025/12/Small-Group-MP-Event-Widget-Image.jpg
END:VEVENT
BEGIN:VEVENT
DTSTART;TZID=UTC:20261125T043000
DTEND;TZID=UTC:20261125T053000
DTSTAMP:20260419T180645
CREATED:20260110T134851Z
LAST-MODIFIED:20260319T105950Z
UID:10000801-1795581000-1795584600@standrewlu.org
SUMMARY:Band of Brothers
DESCRIPTION:Join fellow Christian men each week to examine how faith affects our daily life and relationships. Participate weekly\, when you can.
URL:https://standrewlu.org/event/band-of-brothers-48/
LOCATION:St. Andrew Lutheran Church
CATEGORIES:Adult,Bible and Book Studies,Men's Groups,Small Group,St. Andrew Lutheran Church
ATTACH;FMTTYPE=image/jpeg:https://standrewlu.org/wp-content/uploads/2025/12/Small-Group-MP-Event-Widget-Image.jpg
END:VEVENT
BEGIN:VEVENT
DTSTART;TZID=UTC:20261128T070000
DTEND;TZID=UTC:20261128T090000
DTSTAMP:20260419T180645
CREATED:20260116T162356Z
LAST-MODIFIED:20260319T105950Z
UID:10000802-1795849200-1795856400@standrewlu.org
SUMMARY:Saturday Morning Men's Bible Study
DESCRIPTION:The Saturday morning men’s group is a lighthearted bunch from several churches in the Southwest Metro that enjoys Christian fellowship and learning. \nWe have a particular liking to Andy Stanley and other contemporary Christian preachers. We use videos and Bible studies as conversation starters on living a Christian man’s life in today’s world. Join us anytime\, you don’t need to wait until we start a new series. \nAll mature (from 50 to 115) Christian men (St. Andrew membership not required) welcome. Come as you are as often as you can.\nLocation:\nFlagstone Retirement Community\n8350 Commonwealth Drive\, Eden Prairie\n1st Floor Conference Room (behind reception desk)
URL:https://standrewlu.org/event/saturday-morning-mens-bible-study-49/
LOCATION:Offsite
CATEGORIES:Adult,Bible and Book Studies,Men's Groups,Offsite,Small Group
ATTACH;FMTTYPE=image/jpeg:https://standrewlu.org/wp-content/uploads/2025/12/Small-Group-MP-Event-Widget-Image.jpg
END:VEVENT
BEGIN:VEVENT
DTSTART;TZID=UTC:20261202T043000
DTEND;TZID=UTC:20261202T053000
DTSTAMP:20260419T180645
CREATED:20260110T134930Z
LAST-MODIFIED:20260319T105950Z
UID:10000803-1796185800-1796189400@standrewlu.org
SUMMARY:Band of Brothers
DESCRIPTION:Join fellow Christian men each week to examine how faith affects our daily life and relationships. Participate weekly\, when you can.
URL:https://standrewlu.org/event/band-of-brothers-49/
LOCATION:St. Andrew Lutheran Church
CATEGORIES:Adult,Bible and Book Studies,Men's Groups,Small Group,St. Andrew Lutheran Church
ATTACH;FMTTYPE=image/jpeg:https://standrewlu.org/wp-content/uploads/2025/12/Small-Group-MP-Event-Widget-Image.jpg
END:VEVENT
BEGIN:VEVENT
DTSTART;TZID=UTC:20261202T103000
DTEND;TZID=UTC:20261202T120000
DTSTAMP:20260419T180645
CREATED:20251230T085710Z
LAST-MODIFIED:20260319T105950Z
UID:10000696-1796207400-1796212800@standrewlu.org
SUMMARY:Loom Knitting Class and Gathering
DESCRIPTION:Those with no loom knitting experience along with experienced loom knitters are invited to gather for an easy-to-learn hat knitting class and connect with others from St. Andrew. \nBeginner knitters will be provided the loom\, tools\, yarn\, and instructions to knit a hat that will be donated to charity. Beginners will complete the brim of a hat\, and will knit the balance of the hat on their own at home. At the next gathering you will remove the hat from the loom\, cinch it closed\, make and attach a pompom. \nAdvanced knitters may bring their own loom and yarn or use those available in class. Advanced knitters may have the opportunity to learn a new stitch or pattern.\nAll knitters will enjoy sharing tips\, tricks\, and challenges of loom knitting.
URL:https://standrewlu.org/event/loom-knitting-class-and-gathering-2/
LOCATION:St. Andrew Lutheran Church
CATEGORIES:Adult,Small Group,St. Andrew Lutheran Church,Women's Groups
ATTACH;FMTTYPE=image/jpeg:https://standrewlu.org/wp-content/uploads/2025/12/loom-knitting.jpg
END:VEVENT
BEGIN:VEVENT
DTSTART;TZID=UTC:20261202T163000
DTEND;TZID=UTC:20261202T173000
DTSTAMP:20260419T180645
CREATED:20251230T085406Z
LAST-MODIFIED:20260319T105950Z
UID:10000697-1796229000-1796232600@standrewlu.org
SUMMARY:A More Just World -- Social Justice Group
DESCRIPTION:When it comes to matters of race in our community\, St. Andrew is dedicated to helping create a more just world for all people through listening\, learning\, growing\, and acting differently. Monthly meetings provide fellowship for people wanting to dedicate themselves to this process on an ongoing basis. Join us for conversation and learning opportunities. We discuss different cultures\, race\, equity\, and healing through the use of readings\, videos and other media as we rally around the cause to create a more just world for all. With the help of Pastor Kelly Chatman\, we are partnering with Zion Baptist Church and Zion’s Pastor\, Brian Herron. Pastor Kelly Chatman has been instrumental in helping St. Andrew and A More Just World. These partnerships help churches like St. Andrew create and implement plans of understanding and action\, furthering racial justice and healing.
URL:https://standrewlu.org/event/a-more-just-world-social-justice-group-3/
LOCATION:St. Andrew Lutheran Church
CATEGORIES:A More Just World,Adult,Mixed Groups,Small Group,St. Andrew Lutheran Church
ATTACH;FMTTYPE=image/jpeg:https://standrewlu.org/wp-content/uploads/2025/12/MP-Images14-A-More-Just-World.jpg
ORGANIZER;CN="Pastor Peter Johnson":MAILTO:pastorpeter@standrewlu.org
END:VEVENT
BEGIN:VEVENT
DTSTART;TZID=UTC:20261205T070000
DTEND;TZID=UTC:20261205T090000
DTSTAMP:20260419T180645
CREATED:20260116T162201Z
LAST-MODIFIED:20260319T105950Z
UID:10000805-1796454000-1796461200@standrewlu.org
SUMMARY:Saturday Morning Men's Bible Study
DESCRIPTION:The Saturday morning men’s group is a lighthearted bunch from several churches in the Southwest Metro that enjoys Christian fellowship and learning. \nWe have a particular liking to Andy Stanley and other contemporary Christian preachers. We use videos and Bible studies as conversation starters on living a Christian man’s life in today’s world. Join us anytime\, you don’t need to wait until we start a new series. \nAll mature (from 50 to 115) Christian men (St. Andrew membership not required) welcome. Come as you are as often as you can.\nLocation:\nFlagstone Retirement Community\n8350 Commonwealth Drive\, Eden Prairie\n1st Floor Conference Room (behind reception desk)
URL:https://standrewlu.org/event/saturday-morning-mens-bible-study-48/
LOCATION:Offsite
CATEGORIES:Adult,Bible and Book Studies,Men's Groups,Offsite,Small Group
ATTACH;FMTTYPE=image/jpeg:https://standrewlu.org/wp-content/uploads/2025/12/Small-Group-MP-Event-Widget-Image.jpg
END:VEVENT
BEGIN:VEVENT
DTSTART;TZID=UTC:20261209T043000
DTEND;TZID=UTC:20261209T053000
DTSTAMP:20260419T180645
CREATED:20251230T084510Z
LAST-MODIFIED:20260319T105950Z
UID:10000847-1796790600-1796794200@standrewlu.org
SUMMARY:Band of Brothers
DESCRIPTION:Join fellow Christian men each week to examine how faith affects our daily life and relationships. Participate weekly\, when you can.
URL:https://standrewlu.org/event/band-of-brothers-2/
LOCATION:St. Andrew Lutheran Church
CATEGORIES:Adult,Bible and Book Studies,Men's Groups,Small Group,St. Andrew Lutheran Church
ATTACH;FMTTYPE=image/jpeg:https://standrewlu.org/wp-content/uploads/2025/12/Small-Group-MP-Event-Widget-Image.jpg
END:VEVENT
BEGIN:VEVENT
DTSTART;TZID=UTC:20261212T070000
DTEND;TZID=UTC:20261212T090000
DTSTAMP:20260419T180645
CREATED:20251230T084310Z
LAST-MODIFIED:20260319T105950Z
UID:10000855-1797058800-1797066000@standrewlu.org
SUMMARY:Saturday Morning Men's Bible Study
DESCRIPTION:The Saturday morning men’s group is a lighthearted bunch from several churches in the Southwest Metro that enjoys Christian fellowship and learning. \nWe have a particular liking to Andy Stanley and other contemporary Christian preachers. We use videos and Bible studies as conversation starters on living a Christian man’s life in today’s world. Join us anytime\, you don’t need to wait until we start a new series. \nAll mature (from 50 to 115) Christian men (St. Andrew membership not required) welcome. Come as you are as often as you can. \nLocation:\nFlagstone Retirement Community\n8350 Commonwealth Drive\, Eden Prairie\n1st Floor Conference Room (behind reception desk)
URL:https://standrewlu.org/event/saturday-morning-mens-bible-study-2/
LOCATION:Flagstone Retirement Community\, 8350 Commonwealth Dr.\, Eden Prairie\, MN\, 55344\, United States
CATEGORIES:Adult,Bible and Book Studies,Men's Groups,Offsite,Small Group
ATTACH;FMTTYPE=image/jpeg:https://standrewlu.org/wp-content/uploads/2025/12/Small-Group-MP-Event-Widget-Image.jpg
END:VEVENT
BEGIN:VEVENT
DTSTART;TZID=UTC:20261216T043000
DTEND;TZID=UTC:20261216T053000
DTSTAMP:20260419T180645
CREATED:20251230T084157Z
LAST-MODIFIED:20260319T105950Z
UID:10000860-1797395400-1797399000@standrewlu.org
SUMMARY:Band of Brothers
DESCRIPTION:Join fellow Christian men each week to examine how faith affects our daily life and relationships. Participate weekly\, when you can. \nMeet in the Main Conference Room or Room 206
URL:https://standrewlu.org/event/band-of-brothers/
LOCATION:St. Andrew Lutheran Church
CATEGORIES:Adult,Bible and Book Studies,Men's Groups,Small Group,St. Andrew Lutheran Church
ATTACH;FMTTYPE=image/jpeg:https://standrewlu.org/wp-content/uploads/2025/12/Small-Group-MP-Event-Widget-Image.jpg
END:VEVENT
BEGIN:VEVENT
DTSTART;TZID=UTC:20261217T170000
DTEND;TZID=UTC:20261217T183000
DTSTAMP:20260419T180645
CREATED:20251230T083544Z
LAST-MODIFIED:20260319T105950Z
UID:10000866-1797526800-1797532200@standrewlu.org
SUMMARY:Suicide Bereavement Support Group
DESCRIPTION:This support group aims to provide a safe\, accepting and non-judgmental place for people struggling with the challenge of suicide loss. Leadership of this support group have experienced personal loss of their own and have received specialized training. \nFor more information\, please contact Pastor Kristin Skare at pastorkristin@standrewlu.org.
URL:https://standrewlu.org/event/suicide-bereavement-support-group-3/
LOCATION:St. Andrew Lutheran Church
CATEGORIES:Adult,Small Group,St. Andrew Lutheran Church,Support Groups
ATTACH;FMTTYPE=image/jpeg:https://standrewlu.org/wp-content/uploads/2025/12/Suicide_Bereavement_Support_Group.jpg
END:VEVENT
BEGIN:VEVENT
DTSTART;TZID=UTC:20261219T070000
DTEND;TZID=UTC:20261219T090000
DTSTAMP:20260419T180645
CREATED:20251226T195753Z
LAST-MODIFIED:20260319T105950Z
UID:10000869-1797663600-1797670800@standrewlu.org
SUMMARY:Saturday Morning Men's Bible Study
DESCRIPTION:The Saturday morning men’s group is a lighthearted bunch from several churches in the Southwest Metro that enjoys Christian fellowship and learning.\nWe have a particular liking to Andy Stanley and other contemporary Christian preachers. We use videos and Bible studies as conversation starters on living a Christian man’s life in today’s world. Join us anytime\, you don’t need to wait until we start a new series.\nAll mature (from 50 to 115) Christian men (St. Andrew membership not required) welcome. Come as you are as often as you can.\nLocation:\nFlagstone Retirement Community\n8350 Commonwealth Drive\, Eden Prairie\n1st Floor Conference Room (behind reception desk)
URL:https://standrewlu.org/event/saturday-morning-mens-bible-study/
LOCATION:Offsite
CATEGORIES:Adult,Bible and Book Studies,Men's Groups,Offsite,Small Group
ATTACH;FMTTYPE=image/jpeg:https://standrewlu.org/wp-content/uploads/2025/12/Small-Group-MP-Event-Widget-Image.jpg
END:VEVENT
END:VCALENDAR