BEGIN:VCALENDAR
VERSION:2.0
PRODID:-//St. Andrew Lutheran Church - ECPv6.15.20//NONSGML v1.0//EN
CALSCALE:GREGORIAN
METHOD:PUBLISH
X-ORIGINAL-URL:https://standrewlu.org
X-WR-CALDESC:Events for St. Andrew Lutheran Church
REFRESH-INTERVAL;VALUE=DURATION:PT1H
X-Robots-Tag:noindex
X-PUBLISHED-TTL:PT1H
BEGIN:VTIMEZONE
TZID:UTC
BEGIN:STANDARD
TZOFFSETFROM:+0000
TZOFFSETTO:+0000
TZNAME:UTC
DTSTART:20250101T000000
END:STANDARD
END:VTIMEZONE
BEGIN:VEVENT
DTSTART;TZID=UTC:20260908T190000
DTEND;TZID=UTC:20260908T200000
DTSTAMP:20260421T083225
CREATED:20251230T070601Z
LAST-MODIFIED:20260319T085948Z
UID:10000647-1788894000-1788897600@standrewlu.org
SUMMARY:Untapping Faith
DESCRIPTION:Each month\, our church group gathers at a different local brewery in the Southwest metro for casual fellowship and connection. Sometimes we join in on trivia nights\, other times we simply enjoy good conversation over a pint. It’s a relaxed way to build community and share life outside the church walls. 🍻 \nWe meet at various breweries in the Southwest metro. Please join the Young Adults Group to stay informed about our upcoming events\, including this one. Join here: Group Finder
URL:https://standrewlu.org/event/untapping/
LOCATION:Offsite
CATEGORIES:Offsite,Young Adult
ATTACH;FMTTYPE=image/png:https://standrewlu.org/wp-content/uploads/2025/12/new-untapping-for-young-adults-2.png
ORGANIZER;CN="Caleb Wragge":MAILTO:cwragge@standrewlu.org
END:VEVENT
END:VCALENDAR