BEGIN:VCALENDAR
VERSION:2.0
PRODID:-//St. Andrew Lutheran Church - ECPv6.15.20//NONSGML v1.0//EN
CALSCALE:GREGORIAN
METHOD:PUBLISH
X-ORIGINAL-URL:https://standrewlu.org
X-WR-CALDESC:Events for St. Andrew Lutheran Church
REFRESH-INTERVAL;VALUE=DURATION:PT1H
X-Robots-Tag:noindex
X-PUBLISHED-TTL:PT1H
BEGIN:VTIMEZONE
TZID:UTC
BEGIN:STANDARD
TZOFFSETFROM:+0000
TZOFFSETTO:+0000
TZNAME:UTC
DTSTART:20250101T000000
END:STANDARD
END:VTIMEZONE
BEGIN:VEVENT
DTSTART;TZID=UTC:20260503T090000
DTEND;TZID=UTC:20260503T100000
DTSTAMP:20260419T181727
CREATED:20260406T154101Z
LAST-MODIFIED:20260406T154101Z
UID:10000569-1777798800-1777802400@standrewlu.org
SUMMARY:Sunday School 9 AM
DESCRIPTION:Children’s Ministry is for kids birth – 5th grade and friends. We embrace the teachings of Jesus when he calls us to Love God and Love Others!\nWe have opportunities for families and kids to connect\, learn\, play and grow in faith! All of our programming is intentionally crafted for kids to hear and experience the love of God and live out that faith in their daily lives.\nSunday School is offered during the 9:00 AM and 10:30 AM worship services on Sunday mornings for ages 3 years old to 5th grade. We have a staffed nursery for children ages 0-3 years old every Sunday.
URL:https://standrewlu.org/event/sunday-school-9-am-6/
LOCATION:St. Andrew Lutheran Church
CATEGORIES:Children,Children, Youth & Family,Elementary,St. Andrew Lutheran Church,Worship
ATTACH;FMTTYPE=image/png:https://standrewlu.org/wp-content/uploads/2026/01/St-Andrew-Kids-logo-.png
END:VEVENT
BEGIN:VEVENT
DTSTART;TZID=UTC:20260503T090000
DTEND;TZID=UTC:20260503T101000
DTSTAMP:20260419T181727
CREATED:20260406T154129Z
LAST-MODIFIED:20260406T154129Z
UID:10000979-1777798800-1777803000@standrewlu.org
SUMMARY:Worship -- Traditional
DESCRIPTION:
URL:https://standrewlu.org/event/worship-traditional-6/
LOCATION:St. Andrew Lutheran Church
CATEGORIES:St. Andrew Lutheran Church,Worship
ATTACH;FMTTYPE=image/jpeg:https://standrewlu.org/wp-content/uploads/2026/01/worship.jpg
END:VEVENT
BEGIN:VEVENT
DTSTART;TZID=UTC:20260503T094500
DTEND;TZID=UTC:20260503T114500
DTSTAMP:20260419T181727
CREATED:20260406T165040Z
LAST-MODIFIED:20260406T165040Z
UID:10000570-1777801500-1777808700@standrewlu.org
SUMMARY:Sunday Morning Fellowship
DESCRIPTION:Gather for weekly refreshment through fellowship over coffee and donuts. Visitors\, friends\, and members alike are invited.
URL:https://standrewlu.org/event/sunday-morning-fellowship-5/
LOCATION:St. Andrew Lutheran Church
CATEGORIES:St. Andrew Lutheran Church,Worship
ATTACH;FMTTYPE=image/jpeg:https://standrewlu.org/wp-content/uploads/2026/01/fellowship.jpg
END:VEVENT
BEGIN:VEVENT
DTSTART;TZID=UTC:20260503T103000
DTEND;TZID=UTC:20260503T112000
DTSTAMP:20260419T181727
CREATED:20260406T164841Z
LAST-MODIFIED:20260406T164841Z
UID:10000978-1777804200-1777807200@standrewlu.org
SUMMARY:Worship - Contemporary
DESCRIPTION:
URL:https://standrewlu.org/event/worship-contemporary-6/
LOCATION:St. Andrew Lutheran Church
CATEGORIES:St. Andrew Lutheran Church,Worship
ATTACH;FMTTYPE=image/jpeg:https://standrewlu.org/wp-content/uploads/2026/01/worship.jpg
END:VEVENT
BEGIN:VEVENT
DTSTART;TZID=UTC:20260503T103000
DTEND;TZID=UTC:20260503T113000
DTSTAMP:20260419T181727
CREATED:20260406T164926Z
LAST-MODIFIED:20260406T164926Z
UID:10000572-1777804200-1777807800@standrewlu.org
SUMMARY:Sunday School 10:30 AM
DESCRIPTION:Children’s Ministry is for kids birth – 5th grade and friends. We embrace the teachings of Jesus when he calls us to Love God and Love Others!\nWe have opportunities for families and kids to connect\, learn\, play and grow in faith! All of our programming is intentionally crafted for kids to hear and experience the love of God and live out that faith in their daily lives.\nSunday School is offered during the 9:00 AM and 10:30 AM worship services on Sunday mornings for ages 3 years old to 5th grade. We have a staffed nursery for children ages 0-3 years old every Sunday.
URL:https://standrewlu.org/event/sunday-school-1030-am-6/
LOCATION:St. Andrew Lutheran Church
CATEGORIES:Children,Children, Youth & Family,Elementary,St. Andrew Lutheran Church,Worship
ATTACH;FMTTYPE=image/png:https://standrewlu.org/wp-content/uploads/2026/01/St-Andrew-Kids-logo-.png
END:VEVENT
BEGIN:VEVENT
DTSTART;TZID=UTC:20260510T090000
DTEND;TZID=UTC:20260510T100000
DTSTAMP:20260419T181727
CREATED:20260406T170058Z
LAST-MODIFIED:20260406T170058Z
UID:10000592-1778403600-1778407200@standrewlu.org
SUMMARY:Sunday School 9 AM
DESCRIPTION:Children’s Ministry is for kids birth – 5th grade and friends. We embrace the teachings of Jesus when he calls us to Love God and Love Others!\nWe have opportunities for families and kids to connect\, learn\, play and grow in faith! All of our programming is intentionally crafted for kids to hear and experience the love of God and live out that faith in their daily lives.\nSunday School is offered during the 9:00 AM and 10:30 AM worship services on Sunday mornings for ages 3 years old to 5th grade. We have a staffed nursery for children ages 0-3 years old every Sunday.
URL:https://standrewlu.org/event/sunday-school-9-am-7/
LOCATION:St. Andrew Lutheran Church
CATEGORIES:Children,Children, Youth & Family,Elementary,St. Andrew Lutheran Church,Worship
ATTACH;FMTTYPE=image/png:https://standrewlu.org/wp-content/uploads/2026/01/St-Andrew-Kids-logo-.png
END:VEVENT
BEGIN:VEVENT
DTSTART;TZID=UTC:20260510T090000
DTEND;TZID=UTC:20260510T101000
DTSTAMP:20260419T181727
CREATED:20260406T170136Z
LAST-MODIFIED:20260406T170136Z
UID:10000980-1778403600-1778407800@standrewlu.org
SUMMARY:Worship -- Traditional
DESCRIPTION:
URL:https://standrewlu.org/event/worship-traditional-7/
LOCATION:St. Andrew Lutheran Church
CATEGORIES:St. Andrew Lutheran Church,Worship
ATTACH;FMTTYPE=image/jpeg:https://standrewlu.org/wp-content/uploads/2026/01/worship.jpg
END:VEVENT
BEGIN:VEVENT
DTSTART;TZID=UTC:20260510T094500
DTEND;TZID=UTC:20260510T114500
DTSTAMP:20260419T181727
CREATED:20260406T170900Z
LAST-MODIFIED:20260406T170900Z
UID:10000591-1778406300-1778413500@standrewlu.org
SUMMARY:Sunday Morning Fellowship
DESCRIPTION:Gather for weekly refreshment through fellowship over coffee and donuts. Visitors\, friends\, and members alike are invited.
URL:https://standrewlu.org/event/sunday-morning-fellowship-6/
LOCATION:St. Andrew Lutheran Church
CATEGORIES:St. Andrew Lutheran Church,Worship
ATTACH;FMTTYPE=image/jpeg:https://standrewlu.org/wp-content/uploads/2026/01/fellowship.jpg
END:VEVENT
BEGIN:VEVENT
DTSTART;TZID=UTC:20260510T103000
DTEND;TZID=UTC:20260510T112000
DTSTAMP:20260419T181727
CREATED:20260406T170755Z
LAST-MODIFIED:20260406T170755Z
UID:10000981-1778409000-1778412000@standrewlu.org
SUMMARY:Worship - Contemporary
DESCRIPTION:
URL:https://standrewlu.org/event/worship-contemporary-7/
LOCATION:St. Andrew Lutheran Church
CATEGORIES:St. Andrew Lutheran Church,Worship
ATTACH;FMTTYPE=image/jpeg:https://standrewlu.org/wp-content/uploads/2026/01/worship.jpg
END:VEVENT
BEGIN:VEVENT
DTSTART;TZID=UTC:20260510T103000
DTEND;TZID=UTC:20260510T113000
DTSTAMP:20260419T181727
CREATED:20260406T170835Z
LAST-MODIFIED:20260406T170835Z
UID:10000595-1778409000-1778412600@standrewlu.org
SUMMARY:Sunday School 10:30 AM
DESCRIPTION:Children’s Ministry is for kids birth – 5th grade and friends. We embrace the teachings of Jesus when he calls us to Love God and Love Others!\nWe have opportunities for families and kids to connect\, learn\, play and grow in faith! All of our programming is intentionally crafted for kids to hear and experience the love of God and live out that faith in their daily lives.\nSunday School is offered during the 9:00 AM and 10:30 AM worship services on Sunday mornings for ages 3 years old to 5th grade. We have a staffed nursery for children ages 0-3 years old every Sunday.
URL:https://standrewlu.org/event/sunday-school-1030-am-7/
LOCATION:St. Andrew Lutheran Church
CATEGORIES:Children,Children, Youth & Family,Elementary,St. Andrew Lutheran Church,Worship
ATTACH;FMTTYPE=image/png:https://standrewlu.org/wp-content/uploads/2026/01/St-Andrew-Kids-logo-.png
END:VEVENT
BEGIN:VEVENT
DTSTART;TZID=UTC:20260517T090000
DTEND;TZID=UTC:20260517T100000
DTSTAMP:20260419T181727
CREATED:20260407T075443Z
LAST-MODIFIED:20260407T075443Z
UID:10000617-1779008400-1779012000@standrewlu.org
SUMMARY:Sunday School 9 AM
DESCRIPTION:Children’s Ministry is for kids birth – 5th grade and friends. We embrace the teachings of Jesus when he calls us to Love God and Love Others!\nWe have opportunities for families and kids to connect\, learn\, play and grow in faith! All of our programming is intentionally crafted for kids to hear and experience the love of God and live out that faith in their daily lives.\nSunday School is offered during the 9:00 AM and 10:30 AM worship services on Sunday mornings for ages 3 years old to 5th grade. We have a staffed nursery for children ages 0-3 years old every Sunday.
URL:https://standrewlu.org/event/sunday-school-9-am-8/
LOCATION:St. Andrew Lutheran Church
CATEGORIES:Children,Children, Youth & Family,Elementary,St. Andrew Lutheran Church,Worship
ATTACH;FMTTYPE=image/png:https://standrewlu.org/wp-content/uploads/2026/01/St-Andrew-Kids-logo-.png
END:VEVENT
BEGIN:VEVENT
DTSTART;TZID=UTC:20260517T090000
DTEND;TZID=UTC:20260517T101000
DTSTAMP:20260419T181727
CREATED:20260407T075513Z
LAST-MODIFIED:20260407T075513Z
UID:10000982-1779008400-1779012600@standrewlu.org
SUMMARY:Worship -- Traditional
DESCRIPTION:
URL:https://standrewlu.org/event/worship-traditional-8/
LOCATION:St. Andrew Lutheran Church
CATEGORIES:St. Andrew Lutheran Church,Worship
ATTACH;FMTTYPE=image/jpeg:https://standrewlu.org/wp-content/uploads/2026/01/worship.jpg
END:VEVENT
BEGIN:VEVENT
DTSTART;TZID=UTC:20260517T094500
DTEND;TZID=UTC:20260517T114500
DTSTAMP:20260419T181727
CREATED:20260407T094430Z
LAST-MODIFIED:20260407T094430Z
UID:10000618-1779011100-1779018300@standrewlu.org
SUMMARY:Sunday Morning Fellowship
DESCRIPTION:Gather for weekly refreshment through fellowship over coffee and donuts. Visitors\, friends\, and members alike are invited.
URL:https://standrewlu.org/event/sunday-morning-fellowship-7/
LOCATION:St. Andrew Lutheran Church
CATEGORIES:St. Andrew Lutheran Church,Worship
ATTACH;FMTTYPE=image/jpeg:https://standrewlu.org/wp-content/uploads/2026/01/fellowship.jpg
END:VEVENT
BEGIN:VEVENT
DTSTART;TZID=UTC:20260517T103000
DTEND;TZID=UTC:20260517T112000
DTSTAMP:20260419T181727
CREATED:20260407T075758Z
LAST-MODIFIED:20260407T075758Z
UID:10000983-1779013800-1779016800@standrewlu.org
SUMMARY:Worship - Contemporary
DESCRIPTION:
URL:https://standrewlu.org/event/worship-contemporary-8/
LOCATION:St. Andrew Lutheran Church
CATEGORIES:St. Andrew Lutheran Church,Worship
ATTACH;FMTTYPE=image/jpeg:https://standrewlu.org/wp-content/uploads/2026/01/worship.jpg
END:VEVENT
BEGIN:VEVENT
DTSTART;TZID=UTC:20260517T103000
DTEND;TZID=UTC:20260517T113000
DTSTAMP:20260419T181727
CREATED:20260407T080251Z
LAST-MODIFIED:20260407T080251Z
UID:10000620-1779013800-1779017400@standrewlu.org
SUMMARY:Sunday School 10:30 AM
DESCRIPTION:Children’s Ministry is for kids birth – 5th grade and friends. We embrace the teachings of Jesus when he calls us to Love God and Love Others!\nWe have opportunities for families and kids to connect\, learn\, play and grow in faith! All of our programming is intentionally crafted for kids to hear and experience the love of God and live out that faith in their daily lives.\nSunday School is offered during the 9:00 AM and 10:30 AM worship services on Sunday mornings for ages 3 years old to 5th grade. We have a staffed nursery for children ages 0-3 years old every Sunday.
URL:https://standrewlu.org/event/sunday-school-1030-am-8/
LOCATION:St. Andrew Lutheran Church
CATEGORIES:Children,Children, Youth & Family,Elementary,St. Andrew Lutheran Church,Worship
ATTACH;FMTTYPE=image/png:https://standrewlu.org/wp-content/uploads/2026/01/St-Andrew-Kids-logo-.png
END:VEVENT
BEGIN:VEVENT
DTSTART;TZID=UTC:20260524T090000
DTEND;TZID=UTC:20260524T101000
DTSTAMP:20260419T181727
CREATED:20260407T100856Z
LAST-MODIFIED:20260407T100856Z
UID:10000984-1779613200-1779617400@standrewlu.org
SUMMARY:Worship -- Traditional
DESCRIPTION:
URL:https://standrewlu.org/event/worship-traditional-9/
LOCATION:St. Andrew Lutheran Church
CATEGORIES:St. Andrew Lutheran Church,Worship
ATTACH;FMTTYPE=image/jpeg:https://standrewlu.org/wp-content/uploads/2026/01/worship.jpg
END:VEVENT
BEGIN:VEVENT
DTSTART;TZID=UTC:20260524T094500
DTEND;TZID=UTC:20260524T114500
DTSTAMP:20260419T181727
CREATED:20260407T101008Z
LAST-MODIFIED:20260407T101008Z
UID:10000624-1779615900-1779623100@standrewlu.org
SUMMARY:Sunday Morning Fellowship
DESCRIPTION:Gather for weekly refreshment through fellowship over coffee and donuts. Visitors\, friends\, and members alike are invited.
URL:https://standrewlu.org/event/sunday-morning-fellowship-8/
LOCATION:St. Andrew Lutheran Church
CATEGORIES:St. Andrew Lutheran Church,Worship
ATTACH;FMTTYPE=image/jpeg:https://standrewlu.org/wp-content/uploads/2026/01/fellowship.jpg
END:VEVENT
BEGIN:VEVENT
DTSTART;TZID=UTC:20260524T103000
DTEND;TZID=UTC:20260524T112000
DTSTAMP:20260419T181727
CREATED:20260407T100923Z
LAST-MODIFIED:20260407T100923Z
UID:10000985-1779618600-1779621600@standrewlu.org
SUMMARY:Worship - Contemporary
DESCRIPTION:
URL:https://standrewlu.org/event/worship-contemporary-9/
LOCATION:St. Andrew Lutheran Church
CATEGORIES:St. Andrew Lutheran Church,Worship
ATTACH;FMTTYPE=image/jpeg:https://standrewlu.org/wp-content/uploads/2026/01/worship.jpg
END:VEVENT
BEGIN:VEVENT
DTSTART;TZID=UTC:20260531T090000
DTEND;TZID=UTC:20260531T101000
DTSTAMP:20260419T181727
CREATED:20260407T101227Z
LAST-MODIFIED:20260407T101227Z
UID:10000986-1780218000-1780222200@standrewlu.org
SUMMARY:Worship -- Traditional
DESCRIPTION:
URL:https://standrewlu.org/event/worship-traditional-10/
LOCATION:St. Andrew Lutheran Church
CATEGORIES:St. Andrew Lutheran Church,Worship
ATTACH;FMTTYPE=image/jpeg:https://standrewlu.org/wp-content/uploads/2026/01/worship.jpg
END:VEVENT
BEGIN:VEVENT
DTSTART;TZID=UTC:20260531T103000
DTEND;TZID=UTC:20260531T112000
DTSTAMP:20260419T181727
CREATED:20260407T101342Z
LAST-MODIFIED:20260407T101342Z
UID:10000987-1780223400-1780226400@standrewlu.org
SUMMARY:Worship - Contemporary
DESCRIPTION:
URL:https://standrewlu.org/event/worship-contemporary-10/
LOCATION:St. Andrew Lutheran Church
CATEGORIES:St. Andrew Lutheran Church,Worship
ATTACH;FMTTYPE=image/jpeg:https://standrewlu.org/wp-content/uploads/2026/01/worship.jpg
END:VEVENT
END:VCALENDAR