BEGIN:VCALENDAR
VERSION:2.0
PRODID:-//St. Andrew Lutheran Church - ECPv6.15.20//NONSGML v1.0//EN
CALSCALE:GREGORIAN
METHOD:PUBLISH
X-WR-CALNAME:St. Andrew Lutheran Church
X-ORIGINAL-URL:https://standrewlu.org
X-WR-CALDESC:Events for St. Andrew Lutheran Church
REFRESH-INTERVAL;VALUE=DURATION:PT1H
X-Robots-Tag:noindex
X-PUBLISHED-TTL:PT1H
BEGIN:VTIMEZONE
TZID:Europe/Lisbon
BEGIN:DAYLIGHT
TZOFFSETFROM:+0000
TZOFFSETTO:+0100
TZNAME:WEST
DTSTART:20250330T010000
END:DAYLIGHT
BEGIN:STANDARD
TZOFFSETFROM:+0100
TZOFFSETTO:+0000
TZNAME:WET
DTSTART:20251026T010000
END:STANDARD
BEGIN:DAYLIGHT
TZOFFSETFROM:+0000
TZOFFSETTO:+0100
TZNAME:WEST
DTSTART:20260329T010000
END:DAYLIGHT
BEGIN:STANDARD
TZOFFSETFROM:+0100
TZOFFSETTO:+0000
TZNAME:WET
DTSTART:20261025T010000
END:STANDARD
BEGIN:DAYLIGHT
TZOFFSETFROM:+0000
TZOFFSETTO:+0100
TZNAME:WEST
DTSTART:20270328T010000
END:DAYLIGHT
BEGIN:STANDARD
TZOFFSETFROM:+0100
TZOFFSETTO:+0000
TZNAME:WET
DTSTART:20271031T010000
END:STANDARD
END:VTIMEZONE
BEGIN:VEVENT
DTSTART;TZID=Europe/Lisbon:20260405T104500
DTEND;TZID=Europe/Lisbon:20260405T124500
DTSTAMP:20260419T190304
CREATED:20260324T141346Z
LAST-MODIFIED:20260324T141405Z
UID:10000491-1775385900-1775393100@standrewlu.org
SUMMARY:Sunday Morning Fellowship
DESCRIPTION:Gather for weekly refreshment through fellowship over coffee and donuts. Visitors\, friends\, and members alike are invited.
URL:https://standrewlu.org/event/sunday-morning-fellowship-2/
LOCATION:St. Andrew Lutheran Church
CATEGORIES:St. Andrew Lutheran Church,Worship
ATTACH;FMTTYPE=image/jpeg:https://standrewlu.org/wp-content/uploads/2026/01/fellowship.jpg
END:VEVENT
BEGIN:VEVENT
DTSTART;TZID=Europe/Lisbon:20260412T100000
DTEND;TZID=Europe/Lisbon:20260412T110000
DTSTAMP:20260419T190304
CREATED:20260324T144049Z
LAST-MODIFIED:20260324T144049Z
UID:10000513-1775988000-1775991600@standrewlu.org
SUMMARY:Sunday School 9 AM
DESCRIPTION:Children’s Ministry is for kids birth – 5th grade and friends. We embrace the teachings of Jesus when he calls us to Love God and Love Others!\nWe have opportunities for families and kids to connect\, learn\, play and grow in faith! All of our programming is intentionally crafted for kids to hear and experience the love of God and live out that faith in their daily lives.\nSunday School is offered during the 9:00 AM and 10:30 AM worship services on Sunday mornings for ages 3 years old to 5th grade. We have a staffed nursery for children ages 0-3 years old every Sunday.
URL:https://standrewlu.org/event/sunday-school-9-am-3/
LOCATION:St. Andrew Lutheran Church
CATEGORIES:Children,Children, Youth & Family,Elementary,St. Andrew Lutheran Church,Worship
ATTACH;FMTTYPE=image/png:https://standrewlu.org/wp-content/uploads/2026/01/St-Andrew-Kids-logo-.png
END:VEVENT
BEGIN:VEVENT
DTSTART;TZID=Europe/Lisbon:20260412T100000
DTEND;TZID=Europe/Lisbon:20260412T111000
DTSTAMP:20260419T190304
CREATED:20260324T144245Z
LAST-MODIFIED:20260324T144245Z
UID:10000972-1775988000-1775992200@standrewlu.org
SUMMARY:Worship -- Traditional
DESCRIPTION:
URL:https://standrewlu.org/event/worship-traditional-3/
LOCATION:St. Andrew Lutheran Church
CATEGORIES:St. Andrew Lutheran Church,Worship
ATTACH;FMTTYPE=image/jpeg:https://standrewlu.org/wp-content/uploads/2026/01/worship.jpg
END:VEVENT
BEGIN:VEVENT
DTSTART;TZID=Europe/Lisbon:20260412T104500
DTEND;TZID=Europe/Lisbon:20260412T124500
DTSTAMP:20260419T190304
CREATED:20260324T144934Z
LAST-MODIFIED:20260324T144934Z
UID:10000512-1775990700-1775997900@standrewlu.org
SUMMARY:Sunday Morning Fellowship
DESCRIPTION:Gather for weekly refreshment through fellowship over coffee and donuts. Visitors\, friends\, and members alike are invited.
URL:https://standrewlu.org/event/sunday-morning-fellowship-3/
LOCATION:St. Andrew Lutheran Church
CATEGORIES:St. Andrew Lutheran Church,Worship
ATTACH;FMTTYPE=image/jpeg:https://standrewlu.org/wp-content/uploads/2026/01/fellowship.jpg
END:VEVENT
BEGIN:VEVENT
DTSTART;TZID=Europe/Lisbon:20260412T113000
DTEND;TZID=Europe/Lisbon:20260412T122000
DTSTAMP:20260419T190304
CREATED:20260324T144730Z
LAST-MODIFIED:20260324T144730Z
UID:10000973-1775993400-1775996400@standrewlu.org
SUMMARY:Worship - Contemporary
DESCRIPTION:
URL:https://standrewlu.org/event/worship-contemporary-3/
LOCATION:St. Andrew Lutheran Church
CATEGORIES:St. Andrew Lutheran Church,Worship
ATTACH;FMTTYPE=image/jpeg:https://standrewlu.org/wp-content/uploads/2026/01/worship.jpg
END:VEVENT
BEGIN:VEVENT
DTSTART;TZID=Europe/Lisbon:20260412T113000
DTEND;TZID=Europe/Lisbon:20260412T123000
DTSTAMP:20260419T190304
CREATED:20260324T144825Z
LAST-MODIFIED:20260324T144825Z
UID:10000514-1775993400-1775997000@standrewlu.org
SUMMARY:Sunday School 10:30 AM
DESCRIPTION:Children’s Ministry is for kids birth – 5th grade and friends. We embrace the teachings of Jesus when he calls us to Love God and Love Others!\nWe have opportunities for families and kids to connect\, learn\, play and grow in faith! All of our programming is intentionally crafted for kids to hear and experience the love of God and live out that faith in their daily lives.\nSunday School is offered during the 9:00 AM and 10:30 AM worship services on Sunday mornings for ages 3 years old to 5th grade. We have a staffed nursery for children ages 0-3 years old every Sunday.
URL:https://standrewlu.org/event/sunday-school-1030-am-3/
LOCATION:St. Andrew Lutheran Church
CATEGORIES:Children,Children, Youth & Family,Elementary,St. Andrew Lutheran Church,Worship
ATTACH;FMTTYPE=image/png:https://standrewlu.org/wp-content/uploads/2026/01/St-Andrew-Kids-logo-.png
END:VEVENT
BEGIN:VEVENT
DTSTART;TZID=Europe/Lisbon:20260419T100000
DTEND;TZID=Europe/Lisbon:20260419T110000
DTSTAMP:20260419T190304
CREATED:20260406T080143Z
LAST-MODIFIED:20260406T080143Z
UID:10000532-1776592800-1776596400@standrewlu.org
SUMMARY:Sunday School 9 AM
DESCRIPTION:Children’s Ministry is for kids birth – 5th grade and friends. We embrace the teachings of Jesus when he calls us to Love God and Love Others!\nWe have opportunities for families and kids to connect\, learn\, play and grow in faith! All of our programming is intentionally crafted for kids to hear and experience the love of God and live out that faith in their daily lives.\nSunday School is offered during the 9:00 AM and 10:30 AM worship services on Sunday mornings for ages 3 years old to 5th grade. We have a staffed nursery for children ages 0-3 years old every Sunday.
URL:https://standrewlu.org/event/sunday-school-9-am-5/
LOCATION:St. Andrew Lutheran Church
CATEGORIES:Children,Children, Youth & Family,Elementary,St. Andrew Lutheran Church,Worship
ATTACH;FMTTYPE=image/png:https://standrewlu.org/wp-content/uploads/2026/01/St-Andrew-Kids-logo-.png
END:VEVENT
BEGIN:VEVENT
DTSTART;TZID=Europe/Lisbon:20260419T100000
DTEND;TZID=Europe/Lisbon:20260419T111000
DTSTAMP:20260419T190304
CREATED:20260402T134321Z
LAST-MODIFIED:20260402T134321Z
UID:10000974-1776592800-1776597000@standrewlu.org
SUMMARY:Worship -- Traditional
DESCRIPTION:
URL:https://standrewlu.org/event/worship-traditional-4/
LOCATION:St. Andrew Lutheran Church
CATEGORIES:St. Andrew Lutheran Church,Worship
ATTACH;FMTTYPE=image/jpeg:https://standrewlu.org/wp-content/uploads/2026/01/worship.jpg
END:VEVENT
BEGIN:VEVENT
DTSTART;TZID=Europe/Lisbon:20260419T104500
DTEND;TZID=Europe/Lisbon:20260419T124500
DTSTAMP:20260419T190305
CREATED:20260402T134703Z
LAST-MODIFIED:20260402T134703Z
UID:10000534-1776595500-1776602700@standrewlu.org
SUMMARY:Sunday Morning Fellowship
DESCRIPTION:Gather for weekly refreshment through fellowship over coffee and donuts. Visitors\, friends\, and members alike are invited.
URL:https://standrewlu.org/event/sunday-morning-fellowship-4/
LOCATION:St. Andrew Lutheran Church
CATEGORIES:St. Andrew Lutheran Church,Worship
ATTACH;FMTTYPE=image/jpeg:https://standrewlu.org/wp-content/uploads/2026/01/fellowship.jpg
END:VEVENT
BEGIN:VEVENT
DTSTART;TZID=Europe/Lisbon:20260419T113000
DTEND;TZID=Europe/Lisbon:20260419T122000
DTSTAMP:20260419T190305
CREATED:20260402T134554Z
LAST-MODIFIED:20260402T134554Z
UID:10000975-1776598200-1776601200@standrewlu.org
SUMMARY:Worship - Contemporary
DESCRIPTION:
URL:https://standrewlu.org/event/worship-contemporary-4/
LOCATION:St. Andrew Lutheran Church
CATEGORIES:St. Andrew Lutheran Church,Worship
ATTACH;FMTTYPE=image/jpeg:https://standrewlu.org/wp-content/uploads/2026/01/worship.jpg
END:VEVENT
BEGIN:VEVENT
DTSTART;TZID=Europe/Lisbon:20260419T113000
DTEND;TZID=Europe/Lisbon:20260419T123000
DTSTAMP:20260419T190305
CREATED:20260402T134625Z
LAST-MODIFIED:20260402T134625Z
UID:10000533-1776598200-1776601800@standrewlu.org
SUMMARY:Sunday School 10:30 AM
DESCRIPTION:Children’s Ministry is for kids birth – 5th grade and friends. We embrace the teachings of Jesus when he calls us to Love God and Love Others!\nWe have opportunities for families and kids to connect\, learn\, play and grow in faith! All of our programming is intentionally crafted for kids to hear and experience the love of God and live out that faith in their daily lives.\nSunday School is offered during the 9:00 AM and 10:30 AM worship services on Sunday mornings for ages 3 years old to 5th grade. We have a staffed nursery for children ages 0-3 years old every Sunday.
URL:https://standrewlu.org/event/sunday-school-1030-am-4/
LOCATION:St. Andrew Lutheran Church
CATEGORIES:Children,Children, Youth & Family,Elementary,St. Andrew Lutheran Church,Worship
ATTACH;FMTTYPE=image/png:https://standrewlu.org/wp-content/uploads/2026/01/St-Andrew-Kids-logo-.png
END:VEVENT
BEGIN:VEVENT
DTSTART;TZID=Europe/Lisbon:20260426T100000
DTEND;TZID=Europe/Lisbon:20260426T110000
DTSTAMP:20260419T190305
CREATED:20260402T140530Z
LAST-MODIFIED:20260402T140530Z
UID:10000550-1777197600-1777201200@standrewlu.org
SUMMARY:Sunday School 9 AM
DESCRIPTION:Children’s Ministry is for kids birth – 5th grade and friends. We embrace the teachings of Jesus when he calls us to Love God and Love Others!\nWe have opportunities for families and kids to connect\, learn\, play and grow in faith! All of our programming is intentionally crafted for kids to hear and experience the love of God and live out that faith in their daily lives.\nSunday School is offered during the 9:00 AM and 10:30 AM worship services on Sunday mornings for ages 3 years old to 5th grade. We have a staffed nursery for children ages 0-3 years old every Sunday.
URL:https://standrewlu.org/event/sunday-school-9-am-4/
LOCATION:St. Andrew Lutheran Church
CATEGORIES:Children,Children, Youth & Family,Elementary,St. Andrew Lutheran Church,Worship
ATTACH;FMTTYPE=image/png:https://standrewlu.org/wp-content/uploads/2026/01/St-Andrew-Kids-logo-.png
END:VEVENT
BEGIN:VEVENT
DTSTART;TZID=Europe/Lisbon:20260426T100000
DTEND;TZID=Europe/Lisbon:20260426T111000
DTSTAMP:20260419T190305
CREATED:20260402T140555Z
LAST-MODIFIED:20260402T140555Z
UID:10000976-1777197600-1777201800@standrewlu.org
SUMMARY:Worship -- Traditional
DESCRIPTION:
URL:https://standrewlu.org/event/worship-traditional-5/
LOCATION:St. Andrew Lutheran Church
CATEGORIES:St. Andrew Lutheran Church,Worship
ATTACH;FMTTYPE=image/jpeg:https://standrewlu.org/wp-content/uploads/2026/01/worship.jpg
END:VEVENT
BEGIN:VEVENT
DTSTART;TZID=Europe/Lisbon:20260426T113000
DTEND;TZID=Europe/Lisbon:20260426T122000
DTSTAMP:20260419T190305
CREATED:20260406T080833Z
LAST-MODIFIED:20260406T080833Z
UID:10000977-1777203000-1777206000@standrewlu.org
SUMMARY:Worship - Contemporary
DESCRIPTION:
URL:https://standrewlu.org/event/worship-contemporary-5/
LOCATION:St. Andrew Lutheran Church
CATEGORIES:St. Andrew Lutheran Church,Worship
ATTACH;FMTTYPE=image/jpeg:https://standrewlu.org/wp-content/uploads/2026/01/worship.jpg
END:VEVENT
BEGIN:VEVENT
DTSTART;TZID=Europe/Lisbon:20260426T113000
DTEND;TZID=Europe/Lisbon:20260426T123000
DTSTAMP:20260419T190305
CREATED:20260406T080908Z
LAST-MODIFIED:20260406T080908Z
UID:10000551-1777203000-1777206600@standrewlu.org
SUMMARY:Sunday School 10:30 AM
DESCRIPTION:Children’s Ministry is for kids birth – 5th grade and friends. We embrace the teachings of Jesus when he calls us to Love God and Love Others!\nWe have opportunities for families and kids to connect\, learn\, play and grow in faith! All of our programming is intentionally crafted for kids to hear and experience the love of God and live out that faith in their daily lives.\nSunday School is offered during the 9:00 AM and 10:30 AM worship services on Sunday mornings for ages 3 years old to 5th grade. We have a staffed nursery for children ages 0-3 years old every Sunday.
URL:https://standrewlu.org/event/sunday-school-1030-am-5/
LOCATION:St. Andrew Lutheran Church
CATEGORIES:Children,Children, Youth & Family,Elementary,St. Andrew Lutheran Church,Worship
ATTACH;FMTTYPE=image/png:https://standrewlu.org/wp-content/uploads/2026/01/St-Andrew-Kids-logo-.png
END:VEVENT
BEGIN:VEVENT
DTSTART;TZID=Europe/Lisbon:20260503T100000
DTEND;TZID=Europe/Lisbon:20260503T110000
DTSTAMP:20260419T190305
CREATED:20260406T144101Z
LAST-MODIFIED:20260406T144101Z
UID:10000569-1777802400-1777806000@standrewlu.org
SUMMARY:Sunday School 9 AM
DESCRIPTION:Children’s Ministry is for kids birth – 5th grade and friends. We embrace the teachings of Jesus when he calls us to Love God and Love Others!\nWe have opportunities for families and kids to connect\, learn\, play and grow in faith! All of our programming is intentionally crafted for kids to hear and experience the love of God and live out that faith in their daily lives.\nSunday School is offered during the 9:00 AM and 10:30 AM worship services on Sunday mornings for ages 3 years old to 5th grade. We have a staffed nursery for children ages 0-3 years old every Sunday.
URL:https://standrewlu.org/event/sunday-school-9-am-6/
LOCATION:St. Andrew Lutheran Church
CATEGORIES:Children,Children, Youth & Family,Elementary,St. Andrew Lutheran Church,Worship
ATTACH;FMTTYPE=image/png:https://standrewlu.org/wp-content/uploads/2026/01/St-Andrew-Kids-logo-.png
END:VEVENT
BEGIN:VEVENT
DTSTART;TZID=Europe/Lisbon:20260503T100000
DTEND;TZID=Europe/Lisbon:20260503T111000
DTSTAMP:20260419T190305
CREATED:20260406T144129Z
LAST-MODIFIED:20260406T144129Z
UID:10000979-1777802400-1777806600@standrewlu.org
SUMMARY:Worship -- Traditional
DESCRIPTION:
URL:https://standrewlu.org/event/worship-traditional-6/
LOCATION:St. Andrew Lutheran Church
CATEGORIES:St. Andrew Lutheran Church,Worship
ATTACH;FMTTYPE=image/jpeg:https://standrewlu.org/wp-content/uploads/2026/01/worship.jpg
END:VEVENT
BEGIN:VEVENT
DTSTART;TZID=Europe/Lisbon:20260503T104500
DTEND;TZID=Europe/Lisbon:20260503T124500
DTSTAMP:20260419T190305
CREATED:20260406T155040Z
LAST-MODIFIED:20260406T155040Z
UID:10000570-1777805100-1777812300@standrewlu.org
SUMMARY:Sunday Morning Fellowship
DESCRIPTION:Gather for weekly refreshment through fellowship over coffee and donuts. Visitors\, friends\, and members alike are invited.
URL:https://standrewlu.org/event/sunday-morning-fellowship-5/
LOCATION:St. Andrew Lutheran Church
CATEGORIES:St. Andrew Lutheran Church,Worship
ATTACH;FMTTYPE=image/jpeg:https://standrewlu.org/wp-content/uploads/2026/01/fellowship.jpg
END:VEVENT
BEGIN:VEVENT
DTSTART;TZID=Europe/Lisbon:20260503T113000
DTEND;TZID=Europe/Lisbon:20260503T122000
DTSTAMP:20260419T190305
CREATED:20260406T154841Z
LAST-MODIFIED:20260406T154841Z
UID:10000978-1777807800-1777810800@standrewlu.org
SUMMARY:Worship - Contemporary
DESCRIPTION:
URL:https://standrewlu.org/event/worship-contemporary-6/
LOCATION:St. Andrew Lutheran Church
CATEGORIES:St. Andrew Lutheran Church,Worship
ATTACH;FMTTYPE=image/jpeg:https://standrewlu.org/wp-content/uploads/2026/01/worship.jpg
END:VEVENT
BEGIN:VEVENT
DTSTART;TZID=Europe/Lisbon:20260503T113000
DTEND;TZID=Europe/Lisbon:20260503T123000
DTSTAMP:20260419T190305
CREATED:20260406T154926Z
LAST-MODIFIED:20260406T154926Z
UID:10000572-1777807800-1777811400@standrewlu.org
SUMMARY:Sunday School 10:30 AM
DESCRIPTION:Children’s Ministry is for kids birth – 5th grade and friends. We embrace the teachings of Jesus when he calls us to Love God and Love Others!\nWe have opportunities for families and kids to connect\, learn\, play and grow in faith! All of our programming is intentionally crafted for kids to hear and experience the love of God and live out that faith in their daily lives.\nSunday School is offered during the 9:00 AM and 10:30 AM worship services on Sunday mornings for ages 3 years old to 5th grade. We have a staffed nursery for children ages 0-3 years old every Sunday.
URL:https://standrewlu.org/event/sunday-school-1030-am-6/
LOCATION:St. Andrew Lutheran Church
CATEGORIES:Children,Children, Youth & Family,Elementary,St. Andrew Lutheran Church,Worship
ATTACH;FMTTYPE=image/png:https://standrewlu.org/wp-content/uploads/2026/01/St-Andrew-Kids-logo-.png
END:VEVENT
BEGIN:VEVENT
DTSTART;TZID=Europe/Lisbon:20260510T100000
DTEND;TZID=Europe/Lisbon:20260510T110000
DTSTAMP:20260419T190305
CREATED:20260406T160058Z
LAST-MODIFIED:20260406T160058Z
UID:10000592-1778407200-1778410800@standrewlu.org
SUMMARY:Sunday School 9 AM
DESCRIPTION:Children’s Ministry is for kids birth – 5th grade and friends. We embrace the teachings of Jesus when he calls us to Love God and Love Others!\nWe have opportunities for families and kids to connect\, learn\, play and grow in faith! All of our programming is intentionally crafted for kids to hear and experience the love of God and live out that faith in their daily lives.\nSunday School is offered during the 9:00 AM and 10:30 AM worship services on Sunday mornings for ages 3 years old to 5th grade. We have a staffed nursery for children ages 0-3 years old every Sunday.
URL:https://standrewlu.org/event/sunday-school-9-am-7/
LOCATION:St. Andrew Lutheran Church
CATEGORIES:Children,Children, Youth & Family,Elementary,St. Andrew Lutheran Church,Worship
ATTACH;FMTTYPE=image/png:https://standrewlu.org/wp-content/uploads/2026/01/St-Andrew-Kids-logo-.png
END:VEVENT
BEGIN:VEVENT
DTSTART;TZID=Europe/Lisbon:20260510T100000
DTEND;TZID=Europe/Lisbon:20260510T111000
DTSTAMP:20260419T190305
CREATED:20260406T160136Z
LAST-MODIFIED:20260406T160136Z
UID:10000980-1778407200-1778411400@standrewlu.org
SUMMARY:Worship -- Traditional
DESCRIPTION:
URL:https://standrewlu.org/event/worship-traditional-7/
LOCATION:St. Andrew Lutheran Church
CATEGORIES:St. Andrew Lutheran Church,Worship
ATTACH;FMTTYPE=image/jpeg:https://standrewlu.org/wp-content/uploads/2026/01/worship.jpg
END:VEVENT
BEGIN:VEVENT
DTSTART;TZID=Europe/Lisbon:20260510T104500
DTEND;TZID=Europe/Lisbon:20260510T124500
DTSTAMP:20260419T190305
CREATED:20260406T160900Z
LAST-MODIFIED:20260406T160900Z
UID:10000591-1778409900-1778417100@standrewlu.org
SUMMARY:Sunday Morning Fellowship
DESCRIPTION:Gather for weekly refreshment through fellowship over coffee and donuts. Visitors\, friends\, and members alike are invited.
URL:https://standrewlu.org/event/sunday-morning-fellowship-6/
LOCATION:St. Andrew Lutheran Church
CATEGORIES:St. Andrew Lutheran Church,Worship
ATTACH;FMTTYPE=image/jpeg:https://standrewlu.org/wp-content/uploads/2026/01/fellowship.jpg
END:VEVENT
BEGIN:VEVENT
DTSTART;TZID=Europe/Lisbon:20260510T113000
DTEND;TZID=Europe/Lisbon:20260510T122000
DTSTAMP:20260419T190305
CREATED:20260406T160755Z
LAST-MODIFIED:20260406T160755Z
UID:10000981-1778412600-1778415600@standrewlu.org
SUMMARY:Worship - Contemporary
DESCRIPTION:
URL:https://standrewlu.org/event/worship-contemporary-7/
LOCATION:St. Andrew Lutheran Church
CATEGORIES:St. Andrew Lutheran Church,Worship
ATTACH;FMTTYPE=image/jpeg:https://standrewlu.org/wp-content/uploads/2026/01/worship.jpg
END:VEVENT
BEGIN:VEVENT
DTSTART;TZID=Europe/Lisbon:20260510T113000
DTEND;TZID=Europe/Lisbon:20260510T123000
DTSTAMP:20260419T190305
CREATED:20260406T160835Z
LAST-MODIFIED:20260406T160835Z
UID:10000595-1778412600-1778416200@standrewlu.org
SUMMARY:Sunday School 10:30 AM
DESCRIPTION:Children’s Ministry is for kids birth – 5th grade and friends. We embrace the teachings of Jesus when he calls us to Love God and Love Others!\nWe have opportunities for families and kids to connect\, learn\, play and grow in faith! All of our programming is intentionally crafted for kids to hear and experience the love of God and live out that faith in their daily lives.\nSunday School is offered during the 9:00 AM and 10:30 AM worship services on Sunday mornings for ages 3 years old to 5th grade. We have a staffed nursery for children ages 0-3 years old every Sunday.
URL:https://standrewlu.org/event/sunday-school-1030-am-7/
LOCATION:St. Andrew Lutheran Church
CATEGORIES:Children,Children, Youth & Family,Elementary,St. Andrew Lutheran Church,Worship
ATTACH;FMTTYPE=image/png:https://standrewlu.org/wp-content/uploads/2026/01/St-Andrew-Kids-logo-.png
END:VEVENT
BEGIN:VEVENT
DTSTART;TZID=Europe/Lisbon:20260517T100000
DTEND;TZID=Europe/Lisbon:20260517T110000
DTSTAMP:20260419T190305
CREATED:20260407T065443Z
LAST-MODIFIED:20260407T065443Z
UID:10000617-1779012000-1779015600@standrewlu.org
SUMMARY:Sunday School 9 AM
DESCRIPTION:Children’s Ministry is for kids birth – 5th grade and friends. We embrace the teachings of Jesus when he calls us to Love God and Love Others!\nWe have opportunities for families and kids to connect\, learn\, play and grow in faith! All of our programming is intentionally crafted for kids to hear and experience the love of God and live out that faith in their daily lives.\nSunday School is offered during the 9:00 AM and 10:30 AM worship services on Sunday mornings for ages 3 years old to 5th grade. We have a staffed nursery for children ages 0-3 years old every Sunday.
URL:https://standrewlu.org/event/sunday-school-9-am-8/
LOCATION:St. Andrew Lutheran Church
CATEGORIES:Children,Children, Youth & Family,Elementary,St. Andrew Lutheran Church,Worship
ATTACH;FMTTYPE=image/png:https://standrewlu.org/wp-content/uploads/2026/01/St-Andrew-Kids-logo-.png
END:VEVENT
BEGIN:VEVENT
DTSTART;TZID=Europe/Lisbon:20260517T100000
DTEND;TZID=Europe/Lisbon:20260517T111000
DTSTAMP:20260419T190305
CREATED:20260407T065513Z
LAST-MODIFIED:20260407T065513Z
UID:10000982-1779012000-1779016200@standrewlu.org
SUMMARY:Worship -- Traditional
DESCRIPTION:
URL:https://standrewlu.org/event/worship-traditional-8/
LOCATION:St. Andrew Lutheran Church
CATEGORIES:St. Andrew Lutheran Church,Worship
ATTACH;FMTTYPE=image/jpeg:https://standrewlu.org/wp-content/uploads/2026/01/worship.jpg
END:VEVENT
BEGIN:VEVENT
DTSTART;TZID=Europe/Lisbon:20260517T104500
DTEND;TZID=Europe/Lisbon:20260517T124500
DTSTAMP:20260419T190305
CREATED:20260407T084430Z
LAST-MODIFIED:20260407T084430Z
UID:10000618-1779014700-1779021900@standrewlu.org
SUMMARY:Sunday Morning Fellowship
DESCRIPTION:Gather for weekly refreshment through fellowship over coffee and donuts. Visitors\, friends\, and members alike are invited.
URL:https://standrewlu.org/event/sunday-morning-fellowship-7/
LOCATION:St. Andrew Lutheran Church
CATEGORIES:St. Andrew Lutheran Church,Worship
ATTACH;FMTTYPE=image/jpeg:https://standrewlu.org/wp-content/uploads/2026/01/fellowship.jpg
END:VEVENT
BEGIN:VEVENT
DTSTART;TZID=Europe/Lisbon:20260517T113000
DTEND;TZID=Europe/Lisbon:20260517T122000
DTSTAMP:20260419T190305
CREATED:20260407T065758Z
LAST-MODIFIED:20260407T065758Z
UID:10000983-1779017400-1779020400@standrewlu.org
SUMMARY:Worship - Contemporary
DESCRIPTION:
URL:https://standrewlu.org/event/worship-contemporary-8/
LOCATION:St. Andrew Lutheran Church
CATEGORIES:St. Andrew Lutheran Church,Worship
ATTACH;FMTTYPE=image/jpeg:https://standrewlu.org/wp-content/uploads/2026/01/worship.jpg
END:VEVENT
BEGIN:VEVENT
DTSTART;TZID=Europe/Lisbon:20260517T113000
DTEND;TZID=Europe/Lisbon:20260517T123000
DTSTAMP:20260419T190305
CREATED:20260407T070251Z
LAST-MODIFIED:20260407T070251Z
UID:10000620-1779017400-1779021000@standrewlu.org
SUMMARY:Sunday School 10:30 AM
DESCRIPTION:Children’s Ministry is for kids birth – 5th grade and friends. We embrace the teachings of Jesus when he calls us to Love God and Love Others!\nWe have opportunities for families and kids to connect\, learn\, play and grow in faith! All of our programming is intentionally crafted for kids to hear and experience the love of God and live out that faith in their daily lives.\nSunday School is offered during the 9:00 AM and 10:30 AM worship services on Sunday mornings for ages 3 years old to 5th grade. We have a staffed nursery for children ages 0-3 years old every Sunday.
URL:https://standrewlu.org/event/sunday-school-1030-am-8/
LOCATION:St. Andrew Lutheran Church
CATEGORIES:Children,Children, Youth & Family,Elementary,St. Andrew Lutheran Church,Worship
ATTACH;FMTTYPE=image/png:https://standrewlu.org/wp-content/uploads/2026/01/St-Andrew-Kids-logo-.png
END:VEVENT
END:VCALENDAR