BEGIN:VCALENDAR
VERSION:2.0
PRODID:-//St. Andrew Lutheran Church - ECPv6.15.20//NONSGML v1.0//EN
CALSCALE:GREGORIAN
METHOD:PUBLISH
X-ORIGINAL-URL:https://standrewlu.org
X-WR-CALDESC:Events for St. Andrew Lutheran Church
REFRESH-INTERVAL;VALUE=DURATION:PT1H
X-Robots-Tag:noindex
X-PUBLISHED-TTL:PT1H
BEGIN:VTIMEZONE
TZID:UTC
BEGIN:STANDARD
TZOFFSETFROM:+0000
TZOFFSETTO:+0000
TZNAME:UTC
DTSTART:20250101T000000
END:STANDARD
END:VTIMEZONE
BEGIN:VEVENT
DTSTART;TZID=UTC:20260419T103000
DTEND;TZID=UTC:20260419T113000
DTSTAMP:20260419T225825
CREATED:20260402T144625Z
LAST-MODIFIED:20260402T144625Z
UID:10000533-1776594600-1776598200@standrewlu.org
SUMMARY:Sunday School 10:30 AM
DESCRIPTION:Children’s Ministry is for kids birth – 5th grade and friends. We embrace the teachings of Jesus when he calls us to Love God and Love Others!\nWe have opportunities for families and kids to connect\, learn\, play and grow in faith! All of our programming is intentionally crafted for kids to hear and experience the love of God and live out that faith in their daily lives.\nSunday School is offered during the 9:00 AM and 10:30 AM worship services on Sunday mornings for ages 3 years old to 5th grade. We have a staffed nursery for children ages 0-3 years old every Sunday.
URL:https://standrewlu.org/event/sunday-school-1030-am-4/
LOCATION:St. Andrew Lutheran Church
CATEGORIES:Children,Children, Youth & Family,Elementary,St. Andrew Lutheran Church,Worship
ATTACH;FMTTYPE=image/png:https://standrewlu.org/wp-content/uploads/2026/01/St-Andrew-Kids-logo-.png
END:VEVENT
BEGIN:VEVENT
DTSTART;TZID=UTC:20260419T103000
DTEND;TZID=UTC:20260419T112000
DTSTAMP:20260419T225825
CREATED:20260402T144554Z
LAST-MODIFIED:20260402T144554Z
UID:10000975-1776594600-1776597600@standrewlu.org
SUMMARY:Worship - Contemporary
DESCRIPTION:
URL:https://standrewlu.org/event/worship-contemporary-4/
LOCATION:St. Andrew Lutheran Church
CATEGORIES:St. Andrew Lutheran Church,Worship
ATTACH;FMTTYPE=image/jpeg:https://standrewlu.org/wp-content/uploads/2026/01/worship.jpg
END:VEVENT
BEGIN:VEVENT
DTSTART;TZID=UTC:20260419T094500
DTEND;TZID=UTC:20260419T114500
DTSTAMP:20260419T225825
CREATED:20260402T144703Z
LAST-MODIFIED:20260402T144703Z
UID:10000534-1776591900-1776599100@standrewlu.org
SUMMARY:Sunday Morning Fellowship
DESCRIPTION:Gather for weekly refreshment through fellowship over coffee and donuts. Visitors\, friends\, and members alike are invited.
URL:https://standrewlu.org/event/sunday-morning-fellowship-4/
LOCATION:St. Andrew Lutheran Church
CATEGORIES:St. Andrew Lutheran Church,Worship
ATTACH;FMTTYPE=image/jpeg:https://standrewlu.org/wp-content/uploads/2026/01/fellowship.jpg
END:VEVENT
BEGIN:VEVENT
DTSTART;TZID=UTC:20260419T090000
DTEND;TZID=UTC:20260419T101000
DTSTAMP:20260419T225825
CREATED:20260402T144321Z
LAST-MODIFIED:20260402T144321Z
UID:10000974-1776589200-1776593400@standrewlu.org
SUMMARY:Worship -- Traditional
DESCRIPTION:
URL:https://standrewlu.org/event/worship-traditional-4/
LOCATION:St. Andrew Lutheran Church
CATEGORIES:St. Andrew Lutheran Church,Worship
ATTACH;FMTTYPE=image/jpeg:https://standrewlu.org/wp-content/uploads/2026/01/worship.jpg
END:VEVENT
BEGIN:VEVENT
DTSTART;TZID=UTC:20260419T090000
DTEND;TZID=UTC:20260419T100000
DTSTAMP:20260419T225825
CREATED:20260406T090143Z
LAST-MODIFIED:20260406T090143Z
UID:10000532-1776589200-1776592800@standrewlu.org
SUMMARY:Sunday School 9 AM
DESCRIPTION:Children’s Ministry is for kids birth – 5th grade and friends. We embrace the teachings of Jesus when he calls us to Love God and Love Others!\nWe have opportunities for families and kids to connect\, learn\, play and grow in faith! All of our programming is intentionally crafted for kids to hear and experience the love of God and live out that faith in their daily lives.\nSunday School is offered during the 9:00 AM and 10:30 AM worship services on Sunday mornings for ages 3 years old to 5th grade. We have a staffed nursery for children ages 0-3 years old every Sunday.
URL:https://standrewlu.org/event/sunday-school-9-am-5/
LOCATION:St. Andrew Lutheran Church
CATEGORIES:Children,Children, Youth & Family,Elementary,St. Andrew Lutheran Church,Worship
ATTACH;FMTTYPE=image/png:https://standrewlu.org/wp-content/uploads/2026/01/St-Andrew-Kids-logo-.png
END:VEVENT
BEGIN:VEVENT
DTSTART;TZID=UTC:20260412T103000
DTEND;TZID=UTC:20260412T113000
DTSTAMP:20260419T225825
CREATED:20260324T144825Z
LAST-MODIFIED:20260324T144825Z
UID:10000514-1775989800-1775993400@standrewlu.org
SUMMARY:Sunday School 10:30 AM
DESCRIPTION:Children’s Ministry is for kids birth – 5th grade and friends. We embrace the teachings of Jesus when he calls us to Love God and Love Others!\nWe have opportunities for families and kids to connect\, learn\, play and grow in faith! All of our programming is intentionally crafted for kids to hear and experience the love of God and live out that faith in their daily lives.\nSunday School is offered during the 9:00 AM and 10:30 AM worship services on Sunday mornings for ages 3 years old to 5th grade. We have a staffed nursery for children ages 0-3 years old every Sunday.
URL:https://standrewlu.org/event/sunday-school-1030-am-3/
LOCATION:St. Andrew Lutheran Church
CATEGORIES:Children,Children, Youth & Family,Elementary,St. Andrew Lutheran Church,Worship
ATTACH;FMTTYPE=image/png:https://standrewlu.org/wp-content/uploads/2026/01/St-Andrew-Kids-logo-.png
END:VEVENT
BEGIN:VEVENT
DTSTART;TZID=UTC:20260412T103000
DTEND;TZID=UTC:20260412T112000
DTSTAMP:20260419T225825
CREATED:20260324T144730Z
LAST-MODIFIED:20260324T144730Z
UID:10000973-1775989800-1775992800@standrewlu.org
SUMMARY:Worship - Contemporary
DESCRIPTION:
URL:https://standrewlu.org/event/worship-contemporary-3/
LOCATION:St. Andrew Lutheran Church
CATEGORIES:St. Andrew Lutheran Church,Worship
ATTACH;FMTTYPE=image/jpeg:https://standrewlu.org/wp-content/uploads/2026/01/worship.jpg
END:VEVENT
BEGIN:VEVENT
DTSTART;TZID=UTC:20260412T094500
DTEND;TZID=UTC:20260412T114500
DTSTAMP:20260419T225825
CREATED:20260324T144934Z
LAST-MODIFIED:20260324T144934Z
UID:10000512-1775987100-1775994300@standrewlu.org
SUMMARY:Sunday Morning Fellowship
DESCRIPTION:Gather for weekly refreshment through fellowship over coffee and donuts. Visitors\, friends\, and members alike are invited.
URL:https://standrewlu.org/event/sunday-morning-fellowship-3/
LOCATION:St. Andrew Lutheran Church
CATEGORIES:St. Andrew Lutheran Church,Worship
ATTACH;FMTTYPE=image/jpeg:https://standrewlu.org/wp-content/uploads/2026/01/fellowship.jpg
END:VEVENT
BEGIN:VEVENT
DTSTART;TZID=UTC:20260412T090000
DTEND;TZID=UTC:20260412T101000
DTSTAMP:20260419T225825
CREATED:20260324T144245Z
LAST-MODIFIED:20260324T144245Z
UID:10000972-1775984400-1775988600@standrewlu.org
SUMMARY:Worship -- Traditional
DESCRIPTION:
URL:https://standrewlu.org/event/worship-traditional-3/
LOCATION:St. Andrew Lutheran Church
CATEGORIES:St. Andrew Lutheran Church,Worship
ATTACH;FMTTYPE=image/jpeg:https://standrewlu.org/wp-content/uploads/2026/01/worship.jpg
END:VEVENT
BEGIN:VEVENT
DTSTART;TZID=UTC:20260412T090000
DTEND;TZID=UTC:20260412T100000
DTSTAMP:20260419T225825
CREATED:20260324T144049Z
LAST-MODIFIED:20260324T144049Z
UID:10000513-1775984400-1775988000@standrewlu.org
SUMMARY:Sunday School 9 AM
DESCRIPTION:Children’s Ministry is for kids birth – 5th grade and friends. We embrace the teachings of Jesus when he calls us to Love God and Love Others!\nWe have opportunities for families and kids to connect\, learn\, play and grow in faith! All of our programming is intentionally crafted for kids to hear and experience the love of God and live out that faith in their daily lives.\nSunday School is offered during the 9:00 AM and 10:30 AM worship services on Sunday mornings for ages 3 years old to 5th grade. We have a staffed nursery for children ages 0-3 years old every Sunday.
URL:https://standrewlu.org/event/sunday-school-9-am-3/
LOCATION:St. Andrew Lutheran Church
CATEGORIES:Children,Children, Youth & Family,Elementary,St. Andrew Lutheran Church,Worship
ATTACH;FMTTYPE=image/png:https://standrewlu.org/wp-content/uploads/2026/01/St-Andrew-Kids-logo-.png
END:VEVENT
BEGIN:VEVENT
DTSTART;TZID=UTC:20260405T094500
DTEND;TZID=UTC:20260405T114500
DTSTAMP:20260419T225825
CREATED:20260324T141346Z
LAST-MODIFIED:20260324T141405Z
UID:10000491-1775382300-1775389500@standrewlu.org
SUMMARY:Sunday Morning Fellowship
DESCRIPTION:Gather for weekly refreshment through fellowship over coffee and donuts. Visitors\, friends\, and members alike are invited.
URL:https://standrewlu.org/event/sunday-morning-fellowship-2/
LOCATION:St. Andrew Lutheran Church
CATEGORIES:St. Andrew Lutheran Church,Worship
ATTACH;FMTTYPE=image/jpeg:https://standrewlu.org/wp-content/uploads/2026/01/fellowship.jpg
END:VEVENT
END:VCALENDAR