BEGIN:VCALENDAR
VERSION:2.0
PRODID:-//St. Andrew Lutheran Church - ECPv6.15.20//NONSGML v1.0//EN
CALSCALE:GREGORIAN
METHOD:PUBLISH
X-ORIGINAL-URL:https://standrewlu.org
X-WR-CALDESC:Events for St. Andrew Lutheran Church
REFRESH-INTERVAL;VALUE=DURATION:PT1H
X-Robots-Tag:noindex
X-PUBLISHED-TTL:PT1H
BEGIN:VTIMEZONE
TZID:UTC
BEGIN:STANDARD
TZOFFSETFROM:+0000
TZOFFSETTO:+0000
TZNAME:UTC
DTSTART:20250101T000000
END:STANDARD
END:VTIMEZONE
BEGIN:VEVENT
DTSTART;TZID=UTC:20260406T193000
DTEND;TZID=UTC:20260406T203000
DTSTAMP:20260419T224311
CREATED:20260115T134516Z
LAST-MODIFIED:20260319T085938Z
UID:10000832-1775503800-1775507400@standrewlu.org
SUMMARY:River Valley AA Group
DESCRIPTION:Alcoholics Anonymous is an international fellowship of men and women who have a drinking problem. It is nonprofessional\, self-supporting\, multiracial and apolitical. There are no age or education requirements. Membership is open to anyone who wants to do something about his or her drinking problem. Welcome to all who are in need.
URL:https://standrewlu.org/event/river-valley-aa-group-12/
LOCATION:St. Andrew Lutheran Church
CATEGORIES:Adult,Mixed Groups,Small Group,St. Andrew Lutheran Church,Support Groups
ATTACH;FMTTYPE=image/jpeg:https://standrewlu.org/wp-content/uploads/2026/01/river-valley-aa.jpg
END:VEVENT
BEGIN:VEVENT
DTSTART;TZID=UTC:20260407T183000
DTEND;TZID=UTC:20260407T193000
DTSTAMP:20260419T224311
CREATED:20260111T160306Z
LAST-MODIFIED:20260319T085938Z
UID:10000507-1775586600-1775590200@standrewlu.org
SUMMARY:Queer Faith Alliance
DESCRIPTION:Queer Faith Alliance is a small group learning together about how we as individuals\, families\, and the church can be fully welcoming and inclusive to the LBGTQ+ community. It is the responsibility of the Church to affirm all people and celebrate orientations and gender expressions that have often been targeted. When we work in community to feel God’s all-embracing love\, we are stronger for it.\nFind support and encouragement while discussing current events\, reading articles and books\, and hearing guest speakers. Members of the group are open and accepting. Many are LGBTQ+ and/or have family members who have come out and are needing love and support in navigating their life’s circumstances.\nThis is a safe place to talk about our desires for acceptance and openly talk about how society in some places still stands in opposition to the people we care about. Together\, Queer Faith Alliance advocates for affirmation\, belonging\, and embrace for all of God’s beloved children within St. Andrew\, our community\, and the world.
URL:https://standrewlu.org/event/queer-faith-alliance-4/
LOCATION:St. Andrew Lutheran Church
CATEGORIES:Adult,Mixed Groups,Small Group,St. Andrew Lutheran Church,Support Groups
ATTACH;FMTTYPE=image/jpeg:https://standrewlu.org/wp-content/uploads/2026/01/queer-faith-alliance.jpg
END:VEVENT
BEGIN:VEVENT
DTSTART;TZID=UTC:20260407T190000
DTEND;TZID=UTC:20260407T203000
DTSTAMP:20260419T224311
CREATED:20260324T141848Z
LAST-MODIFIED:20260324T141848Z
UID:10000495-1775588400-1775593800@standrewlu.org
SUMMARY:Suicide Bereavement Support Group
DESCRIPTION:This support group aims to provide a safe\, accepting and non-judgmental place for people struggling with the challenge of suicide loss. Leadership of this support group have experienced personal loss of their own and have received specialized training.\nFor more information\, please contact Pastor Kristin Skare at pastorkristin@standrewlu.org.
URL:https://standrewlu.org/event/suicide-bereavement-support-group-4/
LOCATION:St. Andrew Lutheran Church
CATEGORIES:Adult,Small Group,St. Andrew Lutheran Church,Support Groups
ATTACH;FMTTYPE=image/jpeg:https://standrewlu.org/wp-content/uploads/2025/12/Suicide_Bereavement_Support_Group.jpg
END:VEVENT
BEGIN:VEVENT
DTSTART;TZID=UTC:20260413T180000
DTEND;TZID=UTC:20260413T200000
DTSTAMP:20260419T224311
CREATED:20260324T145442Z
LAST-MODIFIED:20260324T145442Z
UID:10001059-1776103200-1776110400@standrewlu.org
SUMMARY:Southwest Grief Coalition - Spring 2026 - St. Hubert
DESCRIPTION:Losing someone we love is one of life’s most challenging passages.\nThe churches of the Southwest Grief Coalition have bound together to provide support to those who are grieving the death of a family member or friend.\nThis is a caring\, supportive\, and confidential setting\, where you can learn about how your grief leads to personal growth and healing.\nThe Spring 2026 session will be hosted by St. Hubert Catholic Church located at 8201 Main Street in Chanhassen on six Mondays\, beginning April 13 through May 18.\nRegister on the Southwest Grief Coalition website: swgriefcoalition.org.
URL:https://standrewlu.org/event/southwest-grief-coalition-spring-2026-st-hubert/
LOCATION:Offsite
CATEGORIES:Adult,Offsite,Small Group,Support Groups
ATTACH;FMTTYPE=image/png:https://standrewlu.org/wp-content/uploads/2026/03/Southwest-Grief-Coalition.png
END:VEVENT
BEGIN:VEVENT
DTSTART;TZID=UTC:20260413T193000
DTEND;TZID=UTC:20260413T203000
DTSTAMP:20260419T224311
CREATED:20260115T134538Z
LAST-MODIFIED:20260319T085939Z
UID:10000834-1776108600-1776112200@standrewlu.org
SUMMARY:River Valley AA Group
DESCRIPTION:Alcoholics Anonymous is an international fellowship of men and women who have a drinking problem. It is nonprofessional\, self-supporting\, multiracial and apolitical. There are no age or education requirements. Membership is open to anyone who wants to do something about his or her drinking problem. Welcome to all who are in need.
URL:https://standrewlu.org/event/river-valley-aa-group-13/
LOCATION:St. Andrew Lutheran Church
CATEGORIES:Adult,Mixed Groups,Small Group,St. Andrew Lutheran Church,Support Groups
ATTACH;FMTTYPE=image/jpeg:https://standrewlu.org/wp-content/uploads/2026/01/river-valley-aa.jpg
END:VEVENT
BEGIN:VEVENT
DTSTART;TZID=UTC:20260420T180000
DTEND;TZID=UTC:20260420T200000
DTSTAMP:20260419T224311
CREATED:20260402T145119Z
LAST-MODIFIED:20260402T145119Z
UID:10001060-1776708000-1776715200@standrewlu.org
SUMMARY:Southwest Grief Coalition - Spring 2026 - St. Hubert
DESCRIPTION:Losing someone we love is one of life’s most challenging passages.\nThe churches of the Southwest Grief Coalition have bound together to provide support to those who are grieving the death of a family member or friend.\nThis is a caring\, supportive\, and confidential setting\, where you can learn about how your grief leads to personal growth and healing.\nThe Spring 2026 session will be hosted by St. Hubert Catholic Church located at 8201 Main Street in Chanhassen on six Mondays\, beginning April 13 through May 18.\nRegister on the Southwest Grief Coalition website: swgriefcoalition.org.
URL:https://standrewlu.org/event/southwest-grief-coalition-spring-2026-st-hubert-2/
LOCATION:Offsite
CATEGORIES:Offsite,Small Group,Support Groups
ATTACH;FMTTYPE=image/png:https://standrewlu.org/wp-content/uploads/2026/03/Southwest-Grief-Coalition.png
END:VEVENT
BEGIN:VEVENT
DTSTART;TZID=UTC:20260420T193000
DTEND;TZID=UTC:20260420T203000
DTSTAMP:20260419T224311
CREATED:20260115T135028Z
LAST-MODIFIED:20260402T145554Z
UID:10000836-1776713400-1776717000@standrewlu.org
SUMMARY:River Valley AA Group
DESCRIPTION:Alcoholics Anonymous is an international fellowship of men and women who have a drinking problem. It is nonprofessional\, self-supporting\, multiracial and apolitical. There are no age or education requirements. Membership is open to anyone who wants to do something about his or her drinking problem. Welcome to all who are in need.
URL:https://standrewlu.org/event/river-valley-aa-group-14/
LOCATION:St. Andrew Lutheran Church
CATEGORIES:Adult,Small Group,St. Andrew Lutheran Church,Support Groups
ATTACH;FMTTYPE=image/jpeg:https://standrewlu.org/wp-content/uploads/2026/01/river-valley-aa.jpg
END:VEVENT
BEGIN:VEVENT
DTSTART;TZID=UTC:20260423T183000
DTEND;TZID=UTC:20260423T200000
DTSTAMP:20260419T224311
CREATED:20260111T151602Z
LAST-MODIFIED:20260319T085941Z
UID:10000548-1776969000-1776974400@standrewlu.org
SUMMARY:NAMI Friends & Family Support Group - Room 207
DESCRIPTION:Do you have a friend or loved one that lives with a mental illness? Gain insight from the challenges and successes of others facing similar experiences\, build understanding and awareness\, and connect with others. The group is led by trained leaders with lived experience. Join us\, this journey is better traveled in community with others.\nContact Laura Hoffer at lauraehoffer@gmail.com
URL:https://standrewlu.org/event/nami-friends-family-support-group-room-207-5/
LOCATION:St. Andrew Lutheran Church
CATEGORIES:Adult,Mixed Groups,Small Group,St. Andrew Lutheran Church,Support Groups
ATTACH;FMTTYPE=image/png:https://standrewlu.org/wp-content/uploads/2025/11/NAMI-3.png
END:VEVENT
BEGIN:VEVENT
DTSTART;TZID=UTC:20260427T180000
DTEND;TZID=UTC:20260427T200000
DTSTAMP:20260419T224311
CREATED:20260406T093158Z
LAST-MODIFIED:20260406T093211Z
UID:10001061-1777312800-1777320000@standrewlu.org
SUMMARY:Southwest Grief Coalition - Spring 2026 - St. Hubert
DESCRIPTION:Losing someone we love is one of life’s most challenging passages.\nThe churches of the Southwest Grief Coalition have bound together to provide support to those who are grieving the death of a family member or friend.\nThis is a caring\, supportive\, and confidential setting\, where you can learn about how your grief leads to personal growth and healing.\nThe Spring 2026 session will be hosted by St. Hubert Catholic Church located at 8201 Main Street in Chanhassen on six Mondays\, beginning April 13 through May 18.\nRegister on the Southwest Grief Coalition website: swgriefcoalition.org.
URL:https://standrewlu.org/event/southwest-grief-coalition-spring-2026-st-hubert-3/
LOCATION:Offsite
CATEGORIES:Adult,Offsite,Support Groups
ATTACH;FMTTYPE=image/png:https://standrewlu.org/wp-content/uploads/2026/03/Southwest-Grief-Coalition.png
END:VEVENT
BEGIN:VEVENT
DTSTART;TZID=UTC:20260427T193000
DTEND;TZID=UTC:20260427T203000
DTSTAMP:20260419T224311
CREATED:20260115T135207Z
LAST-MODIFIED:20260319T085941Z
UID:10000838-1777318200-1777321800@standrewlu.org
SUMMARY:River Valley AA Group
DESCRIPTION:Alcoholics Anonymous is an international fellowship of men and women who have a drinking problem. It is nonprofessional\, self-supporting\, multiracial and apolitical. There are no age or education requirements. Membership is open to anyone who wants to do something about his or her drinking problem. Welcome to all who are in need.
URL:https://standrewlu.org/event/river-valley-aa-group-15/
LOCATION:St. Andrew Lutheran Church
CATEGORIES:Adult,Mixed Groups,Small Group,St. Andrew Lutheran Church,Support Groups
ATTACH;FMTTYPE=image/jpeg:https://standrewlu.org/wp-content/uploads/2026/01/river-valley-aa.jpg
END:VEVENT
BEGIN:VEVENT
DTSTART;TZID=UTC:20260504T180000
DTEND;TZID=UTC:20260504T200000
DTSTAMP:20260419T224311
CREATED:20260406T165302Z
LAST-MODIFIED:20260406T165302Z
UID:10001062-1777917600-1777924800@standrewlu.org
SUMMARY:Southwest Grief Coalition - Spring 2026 - St. Hubert
DESCRIPTION:Losing someone we love is one of life’s most challenging passages.\nThe churches of the Southwest Grief Coalition have bound together to provide support to those who are grieving the death of a family member or friend.\nThis is a caring\, supportive\, and confidential setting\, where you can learn about how your grief leads to personal growth and healing.\nThe Spring 2026 session will be hosted by St. Hubert Catholic Church located at 8201 Main Street in Chanhassen on six Mondays\, beginning April 13 through May 18.\nRegister on the Southwest Grief Coalition website: swgriefcoalition.org.
URL:https://standrewlu.org/event/southwest-grief-coalition-spring-2026-st-hubert-4/
LOCATION:Offsite
CATEGORIES:Adult,Offsite,Support Groups
ATTACH;FMTTYPE=image/png:https://standrewlu.org/wp-content/uploads/2026/03/Southwest-Grief-Coalition.png
END:VEVENT
BEGIN:VEVENT
DTSTART;TZID=UTC:20260504T193000
DTEND;TZID=UTC:20260504T203000
DTSTAMP:20260419T224311
CREATED:20260115T135236Z
LAST-MODIFIED:20260319T085942Z
UID:10000840-1777923000-1777926600@standrewlu.org
SUMMARY:River Valley AA Group
DESCRIPTION:Alcoholics Anonymous is an international fellowship of men and women who have a drinking problem. It is nonprofessional\, self-supporting\, multiracial and apolitical. There are no age or education requirements. Membership is open to anyone who wants to do something about his or her drinking problem. Welcome to all who are in need.
URL:https://standrewlu.org/event/river-valley-aa-group-16/
LOCATION:St. Andrew Lutheran Church
CATEGORIES:Adult,Mixed Groups,Small Group,St. Andrew Lutheran Church,Support Groups
ATTACH;FMTTYPE=image/jpeg:https://standrewlu.org/wp-content/uploads/2026/01/river-valley-aa.jpg
END:VEVENT
BEGIN:VEVENT
DTSTART;TZID=UTC:20260505T190000
DTEND;TZID=UTC:20260505T203000
DTSTAMP:20260419T224311
CREATED:20260406T165409Z
LAST-MODIFIED:20260406T165409Z
UID:10000574-1778007600-1778013000@standrewlu.org
SUMMARY:Suicide Bereavement Support Group
DESCRIPTION:This support group aims to provide a safe\, accepting and non-judgmental place for people struggling with the challenge of suicide loss. Leadership of this support group have experienced personal loss of their own and have received specialized training.\nFor more information\, please contact Pastor Kristin Skare at pastorkristin@standrewlu.org.
URL:https://standrewlu.org/event/suicide-bereavement-support-group-6/
LOCATION:St. Andrew Lutheran Church
CATEGORIES:Adult,St. Andrew Lutheran Church,Support Groups
ATTACH;FMTTYPE=image/jpeg:https://standrewlu.org/wp-content/uploads/2025/12/Suicide_Bereavement_Support_Group.jpg
END:VEVENT
BEGIN:VEVENT
DTSTART;TZID=UTC:20260511T180000
DTEND;TZID=UTC:20260511T200000
DTSTAMP:20260419T224311
CREATED:20260406T171054Z
LAST-MODIFIED:20260406T171054Z
UID:10001063-1778522400-1778529600@standrewlu.org
SUMMARY:Southwest Grief Coalition - Spring 2026 - St. Hubert
DESCRIPTION:Losing someone we love is one of life’s most challenging passages.\nThe churches of the Southwest Grief Coalition have bound together to provide support to those who are grieving the death of a family member or friend.\nThis is a caring\, supportive\, and confidential setting\, where you can learn about how your grief leads to personal growth and healing.\nThe Spring 2026 session will be hosted by St. Hubert Catholic Church located at 8201 Main Street in Chanhassen on six Mondays\, beginning April 13 through May 18.\nRegister on the Southwest Grief Coalition website: swgriefcoalition.org.
URL:https://standrewlu.org/event/southwest-grief-coalition-spring-2026-st-hubert-5/
LOCATION:Offsite
CATEGORIES:Adult,Offsite,Small Group,Support Groups
ATTACH;FMTTYPE=image/png:https://standrewlu.org/wp-content/uploads/2026/03/Southwest-Grief-Coalition.png
END:VEVENT
BEGIN:VEVENT
DTSTART;TZID=UTC:20260511T193000
DTEND;TZID=UTC:20260511T203000
DTSTAMP:20260419T224311
CREATED:20260115T135323Z
LAST-MODIFIED:20260319T085943Z
UID:10000842-1778527800-1778531400@standrewlu.org
SUMMARY:River Valley AA Group
DESCRIPTION:Alcoholics Anonymous is an international fellowship of men and women who have a drinking problem. It is nonprofessional\, self-supporting\, multiracial and apolitical. There are no age or education requirements. Membership is open to anyone who wants to do something about his or her drinking problem. Welcome to all who are in need.
URL:https://standrewlu.org/event/river-valley-aa-group-17/
LOCATION:St. Andrew Lutheran Church
CATEGORIES:Adult,Mixed Groups,Small Group,St. Andrew Lutheran Church,Support Groups
ATTACH;FMTTYPE=image/jpeg:https://standrewlu.org/wp-content/uploads/2026/01/river-valley-aa.jpg
END:VEVENT
BEGIN:VEVENT
DTSTART;TZID=UTC:20260512T183000
DTEND;TZID=UTC:20260512T193000
DTSTAMP:20260419T224311
CREATED:20260111T160333Z
LAST-MODIFIED:20260319T085943Z
UID:10000607-1778610600-1778614200@standrewlu.org
SUMMARY:Queer Faith Alliance
DESCRIPTION:Queer Faith Alliance is a small group learning together about how we as individuals\, families\, and the church can be fully welcoming and inclusive to the LBGTQ+ community. It is the responsibility of the Church to affirm all people and celebrate orientations and gender expressions that have often been targeted. When we work in community to feel God’s all-embracing love\, we are stronger for it.\nFind support and encouragement while discussing current events\, reading articles and books\, and hearing guest speakers. Members of the group are open and accepting. Many are LGBTQ+ and/or have family members who have come out and are needing love and support in navigating their life’s circumstances.\nThis is a safe place to talk about our desires for acceptance and openly talk about how society in some places still stands in opposition to the people we care about. Together\, Queer Faith Alliance advocates for affirmation\, belonging\, and embrace for all of God’s beloved children within St. Andrew\, our community\, and the world.
URL:https://standrewlu.org/event/queer-faith-alliance-5/
LOCATION:St. Andrew Lutheran Church
CATEGORIES:Adult,Mixed Groups,Small Group,St. Andrew Lutheran Church,Support Groups
ATTACH;FMTTYPE=image/jpeg:https://standrewlu.org/wp-content/uploads/2026/01/queer-faith-alliance.jpg
END:VEVENT
BEGIN:VEVENT
DTSTART;TZID=UTC:20260518T180000
DTEND;TZID=UTC:20260518T200000
DTSTAMP:20260419T224311
CREATED:20260407T095652Z
LAST-MODIFIED:20260407T095712Z
UID:10001064-1779127200-1779134400@standrewlu.org
SUMMARY:Southwest Grief Coalition - Spring 2026 - St. Hubert
DESCRIPTION:Losing someone we love is one of life’s most challenging passages.\nThe churches of the Southwest Grief Coalition have bound together to provide support to those who are grieving the death of a family member or friend.\nThis is a caring\, supportive\, and confidential setting\, where you can learn about how your grief leads to personal growth and healing.\nThe Spring 2026 session will be hosted by St. Hubert Catholic Church located at 8201 Main Street in Chanhassen on six Mondays\, beginning April 13 through May 18.\nRegister on the Southwest Grief Coalition website: swgriefcoalition.org.
URL:https://standrewlu.org/event/southwest-grief-coalition-spring-2026-st-hubert-6/
LOCATION:Offsite
CATEGORIES:Adult,Offsite,Support Groups
ATTACH;FMTTYPE=image/png:https://standrewlu.org/wp-content/uploads/2026/03/Southwest-Grief-Coalition.png
END:VEVENT
BEGIN:VEVENT
DTSTART;TZID=UTC:20260518T193000
DTEND;TZID=UTC:20260518T203000
DTSTAMP:20260419T224311
CREATED:20260115T135350Z
LAST-MODIFIED:20260319T085944Z
UID:10000844-1779132600-1779136200@standrewlu.org
SUMMARY:River Valley AA Group
DESCRIPTION:Alcoholics Anonymous is an international fellowship of men and women who have a drinking problem. It is nonprofessional\, self-supporting\, multiracial and apolitical. There are no age or education requirements. Membership is open to anyone who wants to do something about his or her drinking problem. Welcome to all who are in need.
URL:https://standrewlu.org/event/river-valley-aa-group-18/
LOCATION:St. Andrew Lutheran Church
CATEGORIES:Adult,Mixed Groups,Small Group,St. Andrew Lutheran Church,Support Groups
ATTACH;FMTTYPE=image/jpeg:https://standrewlu.org/wp-content/uploads/2026/01/river-valley-aa.jpg
END:VEVENT
BEGIN:VEVENT
DTSTART;TZID=UTC:20260521T190000
DTEND;TZID=UTC:20260521T203000
DTSTAMP:20260419T224311
CREATED:20260407T100659Z
LAST-MODIFIED:20260407T100659Z
UID:10000623-1779390000-1779395400@standrewlu.org
SUMMARY:Suicide Bereavement Support Group
DESCRIPTION:This support group aims to provide a safe\, accepting and non-judgmental place for people struggling with the challenge of suicide loss. Leadership of this support group have experienced personal loss of their own and have received specialized training.\nFor more information\, please contact Pastor Kristin Skare at pastorkristin@standrewlu.org.
URL:https://standrewlu.org/event/suicide-bereavement-support-group-7/
LOCATION:St. Andrew Lutheran Church
CATEGORIES:Adult,St. Andrew Lutheran Church,Support Groups
ATTACH;FMTTYPE=image/jpeg:https://standrewlu.org/wp-content/uploads/2025/12/Suicide_Bereavement_Support_Group.jpg
END:VEVENT
BEGIN:VEVENT
DTSTART;TZID=UTC:20260528T183000
DTEND;TZID=UTC:20260528T200000
DTSTAMP:20260419T224311
CREATED:20260111T151629Z
LAST-MODIFIED:20260319T085945Z
UID:10000625-1779993000-1779998400@standrewlu.org
SUMMARY:NAMI Friends & Family Support Group - Room 207
DESCRIPTION:Do you have a friend or loved one that lives with a mental illness? Gain insight from the challenges and successes of others facing similar experiences\, build understanding and awareness\, and connect with others. The group is led by trained leaders with lived experience. Join us\, this journey is better traveled in community with others.\nContact Laura Hoffer at lauraehoffer@gmail.com
URL:https://standrewlu.org/event/nami-friends-family-support-group-room-207-6/
LOCATION:St. Andrew Lutheran Church
CATEGORIES:Adult,Mixed Groups,Small Group,St. Andrew Lutheran Church,Support Groups
ATTACH;FMTTYPE=image/png:https://standrewlu.org/wp-content/uploads/2025/11/NAMI-3.png
END:VEVENT
BEGIN:VEVENT
DTSTART;TZID=UTC:20260625T183000
DTEND;TZID=UTC:20260625T200000
DTSTAMP:20260419T224311
CREATED:20260111T151710Z
LAST-MODIFIED:20260319T085946Z
UID:10000632-1782412200-1782417600@standrewlu.org
SUMMARY:NAMI Friends & Family Support Group - Room 207
DESCRIPTION:Do you have a friend or loved one that lives with a mental illness? Gain insight from the challenges and successes of others facing similar experiences\, build understanding and awareness\, and connect with others. The group is led by trained leaders with lived experience. Join us\, this journey is better traveled in community with others.\nContact Laura Hoffer at lauraehoffer@gmail.com
URL:https://standrewlu.org/event/nami-friends-family-support-group-room-207-7/
LOCATION:St. Andrew Lutheran Church
CATEGORIES:Adult,Mixed Groups,Small Group,St. Andrew Lutheran Church,Support Groups
ATTACH;FMTTYPE=image/png:https://standrewlu.org/wp-content/uploads/2025/11/NAMI-3.png
END:VEVENT
BEGIN:VEVENT
DTSTART;TZID=UTC:20260723T183000
DTEND;TZID=UTC:20260723T200000
DTSTAMP:20260419T224311
CREATED:20260111T151741Z
LAST-MODIFIED:20260319T085946Z
UID:10000637-1784831400-1784836800@standrewlu.org
SUMMARY:NAMI Friends & Family Support Group - Room 207
DESCRIPTION:Do you have a friend or loved one that lives with a mental illness? Gain insight from the challenges and successes of others facing similar experiences\, build understanding and awareness\, and connect with others. The group is led by trained leaders with lived experience. Join us\, this journey is better traveled in community with others.\nContact Laura Hoffer at lauraehoffer@gmail.com
URL:https://standrewlu.org/event/nami-friends-family-support-group-room-207-8/
LOCATION:St. Andrew Lutheran Church
CATEGORIES:Adult,Mixed Groups,Small Group,St. Andrew Lutheran Church,Support Groups
ATTACH;FMTTYPE=image/png:https://standrewlu.org/wp-content/uploads/2025/11/NAMI-3.png
END:VEVENT
BEGIN:VEVENT
DTSTART;TZID=UTC:20260827T183000
DTEND;TZID=UTC:20260827T200000
DTSTAMP:20260419T224311
CREATED:20260111T151809Z
LAST-MODIFIED:20260319T085947Z
UID:10000643-1787855400-1787860800@standrewlu.org
SUMMARY:NAMI Friends & Family Support Group - Room 207
DESCRIPTION:Do you have a friend or loved one that lives with a mental illness? Gain insight from the challenges and successes of others facing similar experiences\, build understanding and awareness\, and connect with others. The group is led by trained leaders with lived experience. Join us\, this journey is better traveled in community with others.\nContact Laura Hoffer at lauraehoffer@gmail.com
URL:https://standrewlu.org/event/nami-friends-family-support-group-room-207-9/
LOCATION:St. Andrew Lutheran Church
CATEGORIES:Adult,Mixed Groups,Small Group,St. Andrew Lutheran Church,Support Groups
ATTACH;FMTTYPE=image/png:https://standrewlu.org/wp-content/uploads/2025/11/NAMI-3.png
END:VEVENT
BEGIN:VEVENT
DTSTART;TZID=UTC:20260924T183000
DTEND;TZID=UTC:20260924T200000
DTSTAMP:20260419T224311
CREATED:20260111T151838Z
LAST-MODIFIED:20260319T085948Z
UID:10000649-1790274600-1790280000@standrewlu.org
SUMMARY:NAMI Friends & Family Support Group - Room 207
DESCRIPTION:Do you have a friend or loved one that lives with a mental illness? Gain insight from the challenges and successes of others facing similar experiences\, build understanding and awareness\, and connect with others. The group is led by trained leaders with lived experience. Join us\, this journey is better traveled in community with others.\nContact Laura Hoffer at lauraehoffer@gmail.com
URL:https://standrewlu.org/event/nami-friends-family-support-group-room-207-10/
LOCATION:St. Andrew Lutheran Church
CATEGORIES:Adult,Mixed Groups,Small Group,St. Andrew Lutheran Church,Support Groups
ATTACH;FMTTYPE=image/png:https://standrewlu.org/wp-content/uploads/2025/11/NAMI-3.png
END:VEVENT
BEGIN:VEVENT
DTSTART;TZID=UTC:20261022T183000
DTEND;TZID=UTC:20261022T200000
DTSTAMP:20260419T224311
CREATED:20251105T201207Z
LAST-MODIFIED:20260319T085949Z
UID:10000654-1792693800-1792699200@standrewlu.org
SUMMARY:NAMI Friends & Family Support Group - Room 207
DESCRIPTION:Do you have a friend or loved one that lives with a mental illness? Gain insight from the challenges and successes of others facing similar experiences\, build understanding and awareness\, and connect with others. The group is led by trained leaders with lived experience. Join us\, this journey is better traveled in community with others.\nContact Laura Hoffer at lauraehoffer@gmail.com
URL:https://standrewlu.org/event/nami-friends-family-support-group-room-207/
LOCATION:St. Andrew Lutheran Church
CATEGORIES:Adult,Mixed Groups,Small Group,St. Andrew Lutheran Church,Support Groups
ATTACH;FMTTYPE=image/png:https://standrewlu.org/wp-content/uploads/2025/11/NAMI-3.png
END:VEVENT
BEGIN:VEVENT
DTSTART;TZID=UTC:20261217T190000
DTEND;TZID=UTC:20261217T203000
DTSTAMP:20260419T224311
CREATED:20251230T063544Z
LAST-MODIFIED:20260319T085950Z
UID:10000866-1797534000-1797539400@standrewlu.org
SUMMARY:Suicide Bereavement Support Group
DESCRIPTION:This support group aims to provide a safe\, accepting and non-judgmental place for people struggling with the challenge of suicide loss. Leadership of this support group have experienced personal loss of their own and have received specialized training. \nFor more information\, please contact Pastor Kristin Skare at pastorkristin@standrewlu.org.
URL:https://standrewlu.org/event/suicide-bereavement-support-group-3/
LOCATION:St. Andrew Lutheran Church
CATEGORIES:Adult,Small Group,St. Andrew Lutheran Church,Support Groups
ATTACH;FMTTYPE=image/jpeg:https://standrewlu.org/wp-content/uploads/2025/12/Suicide_Bereavement_Support_Group.jpg
END:VEVENT
END:VCALENDAR