BEGIN:VCALENDAR
VERSION:2.0
PRODID:-//St. Andrew Lutheran Church - ECPv6.15.20//NONSGML v1.0//EN
CALSCALE:GREGORIAN
METHOD:PUBLISH
X-WR-CALNAME:St. Andrew Lutheran Church
X-ORIGINAL-URL:https://standrewlu.org
X-WR-CALDESC:Events for St. Andrew Lutheran Church
REFRESH-INTERVAL;VALUE=DURATION:PT1H
X-Robots-Tag:noindex
X-PUBLISHED-TTL:PT1H
BEGIN:VTIMEZONE
TZID:UTC
BEGIN:STANDARD
TZOFFSETFROM:+0000
TZOFFSETTO:+0000
TZNAME:UTC
DTSTART:20240101T000000
END:STANDARD
END:VTIMEZONE
BEGIN:VEVENT
DTSTART;TZID=UTC:20250914T090000
DTEND;TZID=UTC:20260510T113000
DTSTAMP:20260421T091020
CREATED:20251230T063003Z
LAST-MODIFIED:20260319T085943Z
UID:10000593-1757840400-1778412600@standrewlu.org
SUMMARY:Sunday School Registration 2025 - 2026
DESCRIPTION:Sunday School starts on Sunday\, September 14\, 2025 and runs through Sunday\, May 10\, 2026. We offer Sunday School during both morning worship services – at 9:00 AM and 10:30 AM. Choose the hour that works best most of the time for your family!\nWhen you arrive at St. Andrew\, check your kids in\, then bring them to their classrooms for some welcome activities.\nRoom 204: 3 and 4 year-olds\nRoom 205: 5 year olds\, Kinder\, and 1st grade\nRoom 206: 2nd\, 3rd\, 4th\,5th grade\nAfter all kids have arrived\, classes will go to Room 206 for Faith Rocks – our large group worship time. After Faith Rocks\, kids will return to their classrooms for activities and check-out.
URL:https://standrewlu.org/event/sunday-school-registration-2025-2026/
LOCATION:St. Andrew Lutheran Church
CATEGORIES:Children,Children, Youth & Family,Elementary,Registration,St. Andrew Lutheran Church
ATTACH;FMTTYPE=image/jpeg:https://standrewlu.org/wp-content/uploads/2025/12/Sunday_School_Registration.jpg
ORGANIZER;CN="Arlene Flancher":MAILTO:aflancher@standrewlu.org
END:VEVENT
BEGIN:VEVENT
DTSTART;TZID=UTC:20250917T174500
DTEND;TZID=UTC:20260513T182500
DTSTAMP:20260421T091020
CREATED:20251109T213140Z
LAST-MODIFIED:20260319T085943Z
UID:10000584-1758131100-1778696700@standrewlu.org
SUMMARY:Bell Choir - Peace Ringers 2025-2026 Registration
DESCRIPTION:In Peace Ringers\, we’ll focus on learning and refining our handbell technique and musicianship while having a great time together! We play in worship several times throughout the year\, and we may do one performance out in the community through the year. No experience is necessary\, everyone is welcome!\nAge Range: *6th–12th Grade\nDays/Times/Location: Wednesdays 5:45-6:25 PM in the Music Room\n*6th graders can choose to participate in either Ring of Fire or Peace Ringers. The confirmation bus from Central Middle School in Eden Prairie will be available for a fee for students who want to participate in either handbell choir on Wednesday afternoons.
URL:https://standrewlu.org/event/bell-choir-peace-ringers-2025-2026-registration/
LOCATION:St. Andrew Lutheran Church
CATEGORIES:Registration,St. Andrew Lutheran Church
END:VEVENT
BEGIN:VEVENT
DTSTART;TZID=UTC:20260419T090000
DTEND;TZID=UTC:20260419T100000
DTSTAMP:20260421T091020
CREATED:20260406T090143Z
LAST-MODIFIED:20260406T090143Z
UID:10000532-1776589200-1776592800@standrewlu.org
SUMMARY:Sunday School 9 AM
DESCRIPTION:Children’s Ministry is for kids birth – 5th grade and friends. We embrace the teachings of Jesus when he calls us to Love God and Love Others!\nWe have opportunities for families and kids to connect\, learn\, play and grow in faith! All of our programming is intentionally crafted for kids to hear and experience the love of God and live out that faith in their daily lives.\nSunday School is offered during the 9:00 AM and 10:30 AM worship services on Sunday mornings for ages 3 years old to 5th grade. We have a staffed nursery for children ages 0-3 years old every Sunday.
URL:https://standrewlu.org/event/sunday-school-9-am-5/
LOCATION:St. Andrew Lutheran Church
CATEGORIES:Children,Children, Youth & Family,Elementary,St. Andrew Lutheran Church,Worship
ATTACH;FMTTYPE=image/png:https://standrewlu.org/wp-content/uploads/2026/01/St-Andrew-Kids-logo-.png
END:VEVENT
BEGIN:VEVENT
DTSTART;TZID=UTC:20260419T090000
DTEND;TZID=UTC:20260419T101000
DTSTAMP:20260421T091020
CREATED:20260402T144321Z
LAST-MODIFIED:20260402T144321Z
UID:10000974-1776589200-1776593400@standrewlu.org
SUMMARY:Worship -- Traditional
DESCRIPTION:
URL:https://standrewlu.org/event/worship-traditional-4/
LOCATION:St. Andrew Lutheran Church
CATEGORIES:St. Andrew Lutheran Church,Worship
ATTACH;FMTTYPE=image/jpeg:https://standrewlu.org/wp-content/uploads/2026/01/worship.jpg
END:VEVENT
BEGIN:VEVENT
DTSTART;TZID=UTC:20260419T094500
DTEND;TZID=UTC:20260419T114500
DTSTAMP:20260421T091020
CREATED:20260402T144703Z
LAST-MODIFIED:20260402T144703Z
UID:10000534-1776591900-1776599100@standrewlu.org
SUMMARY:Sunday Morning Fellowship
DESCRIPTION:Gather for weekly refreshment through fellowship over coffee and donuts. Visitors\, friends\, and members alike are invited.
URL:https://standrewlu.org/event/sunday-morning-fellowship-4/
LOCATION:St. Andrew Lutheran Church
CATEGORIES:St. Andrew Lutheran Church,Worship
ATTACH;FMTTYPE=image/jpeg:https://standrewlu.org/wp-content/uploads/2026/01/fellowship.jpg
END:VEVENT
BEGIN:VEVENT
DTSTART;TZID=UTC:20260419T101500
DTEND;TZID=UTC:20260419T111500
DTSTAMP:20260421T091020
CREATED:20260402T144525Z
LAST-MODIFIED:20260402T144525Z
UID:10000535-1776593700-1776597300@standrewlu.org
SUMMARY:High School Bible study
DESCRIPTION:Each week\, high school students gather for Bible study at St. Andrew to explore Scripture and grow in faith together. It’s a space for honest questions\, meaningful conversations\, and building friendships rooted in Christ. Whether you’re new to the Bible or have grown up with it\, there’s always something fresh to discover. 🙌📖
URL:https://standrewlu.org/event/high-school-bible-study-4/
LOCATION:St. Andrew Lutheran Church
CATEGORIES:Children, Youth & Family,High School,St. Andrew Lutheran Church
ATTACH;FMTTYPE=image/png:https://standrewlu.org/wp-content/uploads/2026/03/High-School-Bible-Study.png
END:VEVENT
BEGIN:VEVENT
DTSTART;TZID=UTC:20260419T103000
DTEND;TZID=UTC:20260419T112000
DTSTAMP:20260421T091020
CREATED:20260402T144554Z
LAST-MODIFIED:20260402T144554Z
UID:10000975-1776594600-1776597600@standrewlu.org
SUMMARY:Worship - Contemporary
DESCRIPTION:
URL:https://standrewlu.org/event/worship-contemporary-4/
LOCATION:St. Andrew Lutheran Church
CATEGORIES:St. Andrew Lutheran Church,Worship
ATTACH;FMTTYPE=image/jpeg:https://standrewlu.org/wp-content/uploads/2026/01/worship.jpg
END:VEVENT
BEGIN:VEVENT
DTSTART;TZID=UTC:20260419T103000
DTEND;TZID=UTC:20260419T113000
DTSTAMP:20260421T091020
CREATED:20260402T144625Z
LAST-MODIFIED:20260402T144625Z
UID:10000533-1776594600-1776598200@standrewlu.org
SUMMARY:Sunday School 10:30 AM
DESCRIPTION:Children’s Ministry is for kids birth – 5th grade and friends. We embrace the teachings of Jesus when he calls us to Love God and Love Others!\nWe have opportunities for families and kids to connect\, learn\, play and grow in faith! All of our programming is intentionally crafted for kids to hear and experience the love of God and live out that faith in their daily lives.\nSunday School is offered during the 9:00 AM and 10:30 AM worship services on Sunday mornings for ages 3 years old to 5th grade. We have a staffed nursery for children ages 0-3 years old every Sunday.
URL:https://standrewlu.org/event/sunday-school-1030-am-4/
LOCATION:St. Andrew Lutheran Church
CATEGORIES:Children,Children, Youth & Family,Elementary,St. Andrew Lutheran Church,Worship
ATTACH;FMTTYPE=image/png:https://standrewlu.org/wp-content/uploads/2026/01/St-Andrew-Kids-logo-.png
END:VEVENT
BEGIN:VEVENT
DTSTART;TZID=UTC:20260419T190000
DTEND;TZID=UTC:20260419T203000
DTSTAMP:20260421T091020
CREATED:20260402T144852Z
LAST-MODIFIED:20260402T144852Z
UID:10000536-1776625200-1776630600@standrewlu.org
SUMMARY:Young Adult: Bible Study & Board games
DESCRIPTION:Every week\, young adults gather for a laid-back evening of board games and Bible study at St. Andrew. It’s a space to laugh\, connect\, and dive into Scripture in a way that’s both meaningful and fun. Whether you’re competitive or contemplative\, there’s a seat at the table for you. 🎲📖
URL:https://standrewlu.org/event/young-adult-bible-study-board-games-4/
LOCATION:St. Andrew Lutheran Church
CATEGORIES:St. Andrew Lutheran Church,Young Adult
ATTACH;FMTTYPE=image/png:https://standrewlu.org/wp-content/uploads/2026/03/Young-Adults-Games-and-Bible-Study.png
END:VEVENT
END:VCALENDAR