BEGIN:VCALENDAR
VERSION:2.0
PRODID:-//St. Andrew Lutheran Church - ECPv6.15.20//NONSGML v1.0//EN
CALSCALE:GREGORIAN
METHOD:PUBLISH
X-WR-CALNAME:St. Andrew Lutheran Church
X-ORIGINAL-URL:https://standrewlu.org
X-WR-CALDESC:Events for St. Andrew Lutheran Church
REFRESH-INTERVAL;VALUE=DURATION:PT1H
X-Robots-Tag:noindex
X-PUBLISHED-TTL:PT1H
BEGIN:VTIMEZONE
TZID:UTC
BEGIN:STANDARD
TZOFFSETFROM:+0000
TZOFFSETTO:+0000
TZNAME:UTC
DTSTART:20250101T000000
END:STANDARD
END:VTIMEZONE
BEGIN:VEVENT
DTSTART;TZID=UTC:20260518T173000
DTEND;TZID=UTC:20260518T184500
DTSTAMP:20260419T223926
CREATED:20260111T150519Z
LAST-MODIFIED:20260319T085944Z
UID:10000746-1779125400-1779129900@standrewlu.org
SUMMARY:Monday Evening Men's Group
DESCRIPTION:We generally meet on the 1st and 3rd Monday of the month. PLEASE reach out to Gary Spears at gspears012@msn.com or Bill McMonigal at bmcmonigal@comcast.net to confirm dates.\nWith so many places to go and things to do\, it is often hard to take time for yourself. We want to gather adult men together to share experiences and wisdom about life and being a good dad\, husband\, and Christian. The group uses various videos and readings to stimulate conversation and learning – and there’s NO homework. We provide men with networking and relationship-building opportunities\, giving one another a source of support\, laughter\, and a chance to share their faith.
URL:https://standrewlu.org/event/monday-evening-mens-group-9/
LOCATION:St. Andrew Lutheran Church
CATEGORIES:Adult,Bible and Book Studies,Men's Groups,Small Group,St. Andrew Lutheran Church
ATTACH;FMTTYPE=image/jpeg:https://standrewlu.org/wp-content/uploads/2025/12/Small-Group-MP-Event-Widget-Image.jpg
END:VEVENT
BEGIN:VEVENT
DTSTART;TZID=UTC:20260518T193000
DTEND;TZID=UTC:20260518T203000
DTSTAMP:20260419T223926
CREATED:20260115T135350Z
LAST-MODIFIED:20260319T085944Z
UID:10000844-1779132600-1779136200@standrewlu.org
SUMMARY:River Valley AA Group
DESCRIPTION:Alcoholics Anonymous is an international fellowship of men and women who have a drinking problem. It is nonprofessional\, self-supporting\, multiracial and apolitical. There are no age or education requirements. Membership is open to anyone who wants to do something about his or her drinking problem. Welcome to all who are in need.
URL:https://standrewlu.org/event/river-valley-aa-group-18/
LOCATION:St. Andrew Lutheran Church
CATEGORIES:Adult,Mixed Groups,Small Group,St. Andrew Lutheran Church,Support Groups
ATTACH;FMTTYPE=image/jpeg:https://standrewlu.org/wp-content/uploads/2026/01/river-valley-aa.jpg
END:VEVENT
BEGIN:VEVENT
DTSTART;TZID=UTC:20260520T063000
DTEND;TZID=UTC:20260520T073000
DTSTAMP:20260419T223926
CREATED:20260106T072632Z
LAST-MODIFIED:20260319T085944Z
UID:10000747-1779258600-1779262200@standrewlu.org
SUMMARY:Band of Brothers
DESCRIPTION:Join fellow Christian men each week to examine how faith affects our daily life and relationships. Participate weekly\, when you can.
URL:https://standrewlu.org/event/band-of-brothers-21/
LOCATION:St. Andrew Lutheran Church
CATEGORIES:Adult,Bible and Book Studies,Men's Groups,Small Group,St. Andrew Lutheran Church
ATTACH;FMTTYPE=image/jpeg:https://standrewlu.org/wp-content/uploads/2025/12/Small-Group-MP-Event-Widget-Image.jpg
END:VEVENT
BEGIN:VEVENT
DTSTART;TZID=UTC:20260520T080000
DTEND;TZID=UTC:20260520T090000
DTSTAMP:20260419T223926
CREATED:20260110T140004Z
LAST-MODIFIED:20260319T085944Z
UID:10000884-1779264000-1779267600@standrewlu.org
SUMMARY:Early Risers Bible Study - Book TBD
DESCRIPTION:Simon Peter–an ordinary fisherman who heard an extraordinary call. He left everything to follow his teacher and possessed a passion that would change the world. That’s one way to describe Peter. Here’s another: poor\, uneducated\, quick-tempered\, and full of doubts and fears. Doesn’t even sound like the same man.\nAnd that’s the point of Simon Peter\, a new book by Adam Hamilton. Peter was just an ordinary guy who heard and followed God’s extraordinary call. Discover how you\, too\, have special gifts\, talents\, and abilities that God can use to make a difference today.\nBooks will be available for purchase at the Front Desk soon.
URL:https://standrewlu.org/event/early-risers-bible-study-simon-peter-flawed-but-faithful-disciple-19/
LOCATION:St. Andrew Lutheran Church
CATEGORIES:Adult,Bible and Book Studies,Mixed Groups,Small Group,St. Andrew Lutheran Church
ATTACH;FMTTYPE=image/jpeg:https://standrewlu.org/wp-content/uploads/2026/01/early-risers-book-club.jpg
END:VEVENT
BEGIN:VEVENT
DTSTART;TZID=UTC:20260521T090000
DTEND;TZID=UTC:20260521T100000
DTSTAMP:20260419T223926
CREATED:20260407T100012Z
LAST-MODIFIED:20260407T100012Z
UID:10001089-1779354000-1779357600@standrewlu.org
SUMMARY:Pastor's Book Study - Summer Book TBD
DESCRIPTION:
URL:https://standrewlu.org/event/pastors-book-study-summer-book-tbd-3/
LOCATION:St. Andrew Lutheran Church
CATEGORIES:Adult,Bible and Book Studies,Mixed Groups,Small Group,St. Andrew Lutheran Church
ATTACH;FMTTYPE=image/jpeg:https://standrewlu.org/wp-content/uploads/2026/01/pastors-book-study.jpg
END:VEVENT
BEGIN:VEVENT
DTSTART;TZID=UTC:20260521T093000
DTEND;TZID=UTC:20260521T103000
DTSTAMP:20260419T223926
CREATED:20260110T121756Z
LAST-MODIFIED:20260319T085944Z
UID:10000845-1779355800-1779359400@standrewlu.org
SUMMARY:Be Still And Know... Yoga & Devotion
DESCRIPTION:9:30 AM most Thursdays September through May.\nContact Carole to be placed on the email list to receive updates on dates and locations.\nThis is an open group and welcomes new participants each week. Each session opens with scripture and closes with a devotion and prayer. No previous yoga experience necessary. Participants wear yoga type stretchy pants with a semi-fitted top that allows for movement and bring a yoga mat or beach towel. Classes are taught by an experienced certified yoga instructor. You are welcome to come once\, twice\, or any time that works in your schedule. There is no charge for participation.
URL:https://standrewlu.org/event/be-still-and-know-yoga-devotion-19/
LOCATION:St. Andrew Lutheran Church
CATEGORIES:Adult,Small Group,St. Andrew Lutheran Church,Women's Groups
ATTACH;FMTTYPE=image/jpeg:https://standrewlu.org/wp-content/uploads/2026/01/yoga-and-devotion.jpg
END:VEVENT
BEGIN:VEVENT
DTSTART;TZID=UTC:20260521T183000
DTEND;TZID=UTC:20260521T200000
DTSTAMP:20260419T223926
CREATED:20260407T100347Z
LAST-MODIFIED:20260407T100347Z
UID:10000622-1779388200-1779393600@standrewlu.org
SUMMARY:Women of the Word (WOW) -- PM
DESCRIPTION:Join us for a women’s Bible study of faith and fellowship using streaming video\, workbook lessons\, and small group discussions. For beginners and advanced! All women are welcome\, members and non-members.\nJoin us for our eight-week study of The Way of Wisdom: A Study of the Book of Proverbs by Jen Wilkin\, Ruth Chou Simons\, Kelly Minter\, Adrienne Camp\, Elizabeth Woodson\, and Courtney Doctor beginning January 8.
URL:https://standrewlu.org/event/women-of-the-word-wow-pm-8/
LOCATION:St. Andrew Lutheran Church
CATEGORIES:Adult,Bible and Book Studies,Small Group,St. Andrew Lutheran Church,Women's Groups
ATTACH;FMTTYPE=image/png:https://standrewlu.org/wp-content/uploads/2026/03/W.O.W.-PM-1.png
END:VEVENT
BEGIN:VEVENT
DTSTART;TZID=UTC:20260521T183000
DTEND;TZID=UTC:20260521T200000
DTSTAMP:20260419T223926
CREATED:20260407T100616Z
LAST-MODIFIED:20260407T100616Z
UID:10001055-1779388200-1779393600@standrewlu.org
SUMMARY:Patio Crawl
DESCRIPTION:Location: Boom Island Brewing Company\, Minnetonka\nLooking for an easy way to connect with others from St. Andrew in a friendly and relaxed setting? In order for us to grow in our friendships and Christian faith\, we are encouraged to engage with others from our church community. Join St. Andrew staff and other members and friends for casual conversation and easy discussion topics. No preparation is needed. Come as you are.
URL:https://standrewlu.org/event/patio-crawl-5/
LOCATION:Offsite
CATEGORIES:Adult,Mixed Groups,Offsite,Small Group
ATTACH;FMTTYPE=image/jpeg:https://standrewlu.org/wp-content/uploads/2026/01/patio-crawl.jpg
END:VEVENT
BEGIN:VEVENT
DTSTART;TZID=UTC:20260523T090000
DTEND;TZID=UTC:20260523T110000
DTSTAMP:20260419T223926
CREATED:20260116T141047Z
LAST-MODIFIED:20260319T085944Z
UID:10000748-1779526800-1779534000@standrewlu.org
SUMMARY:Saturday Morning Men's Bible Study
DESCRIPTION:The Saturday morning men’s group is a lighthearted bunch from several churches in the Southwest Metro that enjoys Christian fellowship and learning. \nWe have a particular liking to Andy Stanley and other contemporary Christian preachers. We use videos and Bible studies as conversation starters on living a Christian man’s life in today’s world. Join us anytime\, you don’t need to wait until we start a new series. \nAll mature (from 50 to 115) Christian men (St. Andrew membership not required) welcome. Come as you are as often as you can.\nLocation:\nFlagstone Retirement Community\n8350 Commonwealth Drive\, Eden Prairie\n1st Floor Conference Room (behind reception desk)
URL:https://standrewlu.org/event/saturday-morning-mens-bible-study-21/
LOCATION:Offsite
CATEGORIES:Adult,Bible and Book Studies,Men's Groups,Offsite,Small Group
ATTACH;FMTTYPE=image/jpeg:https://standrewlu.org/wp-content/uploads/2025/12/Small-Group-MP-Event-Widget-Image.jpg
END:VEVENT
END:VCALENDAR