BEGIN:VCALENDAR
VERSION:2.0
PRODID:-//St. Andrew Lutheran Church - ECPv6.15.20//NONSGML v1.0//EN
CALSCALE:GREGORIAN
METHOD:PUBLISH
X-ORIGINAL-URL:https://standrewlu.org
X-WR-CALDESC:Events for St. Andrew Lutheran Church
REFRESH-INTERVAL;VALUE=DURATION:PT1H
X-Robots-Tag:noindex
X-PUBLISHED-TTL:PT1H
BEGIN:VTIMEZONE
TZID:UTC
BEGIN:STANDARD
TZOFFSETFROM:+0000
TZOFFSETTO:+0000
TZNAME:UTC
DTSTART:20250101T000000
END:STANDARD
END:VTIMEZONE
BEGIN:VEVENT
DTSTART;TZID=UTC:20260422T170000
DTEND;TZID=UTC:20260422T173000
DTSTAMP:20260419T194628
CREATED:20260110T125229Z
LAST-MODIFIED:20260319T085941Z
UID:10000538-1776877200-1776879000@standrewlu.org
SUMMARY:Bell Choir - Ring of Fire 2025-2026
DESCRIPTION:Ring of Fire is a great opportunity for 4th-6th graders to learn the basics of handbell ringing\, grow as a musician and make new friends in a supportive atmosphere! We play in worship several times throughout the year. No prior experience ringing handbells is necessary\, everyone is welcome!
URL:https://standrewlu.org/event/bell-choir-ring-of-fire-2025-2026-15/
LOCATION:St. Andrew Lutheran Church
CATEGORIES:Children, Youth & Family,Middle School,Music,St. Andrew Lutheran Church
ATTACH;FMTTYPE=image/jpeg:https://standrewlu.org/wp-content/uploads/2025/11/MP-Images28-1.jpg
END:VEVENT
BEGIN:VEVENT
DTSTART;TZID=UTC:20260422T173000
DTEND;TZID=UTC:20260422T180000
DTSTAMP:20260419T194628
CREATED:20260110T133021Z
LAST-MODIFIED:20260319T085941Z
UID:10000545-1776879000-1776880800@standrewlu.org
SUMMARY:Choir - Starlight Singers 2025-2026
DESCRIPTION:Starlight Singers welcomes the youngest children with a variety of activities. Children 3-years–kindergarten sing\, dance\, make music\, and learn of Jesus’ love for them. Participate in worship approximately once per month\, as well as additional Wiggle & Worship services. Parents are always invited to attend.
URL:https://standrewlu.org/event/choir-starlight-singers-2025-2026-15/
LOCATION:St. Andrew Lutheran Church
CATEGORIES:Children,Children, Youth & Family,Music,St. Andrew Lutheran Church
ATTACH;FMTTYPE=image/jpeg:https://standrewlu.org/wp-content/uploads/2026/01/starlight-singers.jpg
END:VEVENT
BEGIN:VEVENT
DTSTART;TZID=UTC:20260422T173000
DTEND;TZID=UTC:20260422T180000
DTSTAMP:20260419T194628
CREATED:20260116T143232Z
LAST-MODIFIED:20260319T085941Z
UID:10000544-1776879000-1776880800@standrewlu.org
SUMMARY:Shine 2025-26
DESCRIPTION:Wednesday Nights for kids are centered around building community\, connection\, friendship and fellowship! Shine is a “youth group” for kids in 1st – 5th grade. We are going to play high energy games\, have creative competitions\, silly challenges and lots of laughs with friends\, old and new – all grounded in a Bible verse or story! We’ll probably even get messy. There will be opportunities for service events to care for people outside of our community as well. If you’re looking for something fun to do\, Wednesday Night is the place for you! We will meet from 5:30-6:00 PM. Depending on registration numbers\, we may split into two different age groups.
URL:https://standrewlu.org/event/shine-2025-26-13/
LOCATION:St. Andrew Lutheran Church
CATEGORIES:Children, Youth & Family,Elementary,Music,St. Andrew Lutheran Church
ATTACH;FMTTYPE=image/png:https://standrewlu.org/wp-content/uploads/2026/01/shine.png
END:VEVENT
BEGIN:VEVENT
DTSTART;TZID=UTC:20260422T174500
DTEND;TZID=UTC:20260422T182500
DTSTAMP:20260419T194628
CREATED:20260110T124108Z
LAST-MODIFIED:20260319T085941Z
UID:10000542-1776879900-1776882300@standrewlu.org
SUMMARY:Bell Choir - Peace Ringers 2025-2026
DESCRIPTION:In Peace Ringers\, 6th–12th graders will focus on learning and refining their handbell technique and musicianship while having a great time together! We play in worship several times throughout the year\, and we may do one performance out in the community through the year. No experience is necessary\, everyone is welcome!
URL:https://standrewlu.org/event/bell-choir-peace-ringers-2025-2026-15/
LOCATION:St. Andrew Lutheran Church
CATEGORIES:Children, Youth & Family,High School,Middle School,Music,St. Andrew Lutheran Church
ATTACH;FMTTYPE=image/jpeg:https://standrewlu.org/wp-content/uploads/2026/01/peace-ringers.jpg
END:VEVENT
BEGIN:VEVENT
DTSTART;TZID=UTC:20260422T174500
DTEND;TZID=UTC:20260422T182500
DTSTAMP:20260419T194628
CREATED:20260110T141521Z
LAST-MODIFIED:20260319T085941Z
UID:10000543-1776879900-1776882300@standrewlu.org
SUMMARY:Grace Notes (Intro to Handbells) 2025-2026
DESCRIPTION:St. Andrew member Vicki Grant leads Intro to Handbells for beginning adult handbell ringers. No experience with handbells is required but attendees should be able to read music.
URL:https://standrewlu.org/event/grace-notes-intro-to-handbells-2025-2026-16/
LOCATION:St. Andrew Lutheran Church
CATEGORIES:Adult,Mixed Groups,Music,St. Andrew Lutheran Church
ATTACH;FMTTYPE=image/jpeg:https://standrewlu.org/wp-content/uploads/2026/01/grace-notes.jpg
END:VEVENT
BEGIN:VEVENT
DTSTART;TZID=UTC:20260422T180000
DTEND;TZID=UTC:20260422T183000
DTSTAMP:20260419T194628
CREATED:20260402T150146Z
LAST-MODIFIED:20260402T150146Z
UID:10000541-1776880800-1776882600@standrewlu.org
SUMMARY:Choir - Sonshine Singers 2025-2026
DESCRIPTION:Sonshine Singers is an exciting and energetic children’s choir for 1st–5th graders. Singers learn age-appropriate choral singing basics in a nurturing and fun environment. Kids will make new friends and have a blast with Jill Boyd. The choir sings during worship approximately once a month.
URL:https://standrewlu.org/event/choir-sonshine-singers-2025-2026-18/
LOCATION:St. Andrew Lutheran Church
CATEGORIES:Children, Youth & Family,Elementary,Music,St. Andrew Lutheran Church
ATTACH;FMTTYPE=image/jpeg:https://standrewlu.org/wp-content/uploads/2026/01/sonshine-singers.jpg
END:VEVENT
BEGIN:VEVENT
DTSTART;TZID=UTC:20260422T183000
DTEND;TZID=UTC:20260422T192500
DTSTAMP:20260419T194628
CREATED:20260110T122908Z
LAST-MODIFIED:20260319T085941Z
UID:10000539-1776882600-1776885900@standrewlu.org
SUMMARY:Bell Choir - Bells of Joy 2025-2026
DESCRIPTION:This 5-octave handbell choir for adults meets once a week to rehearse and plays in worship about once a month. Bells of Joy is a small group opportunity for those who enjoy praising God through\nmusic. Ringing experience is helpful in this advanced bell choir.
URL:https://standrewlu.org/event/bell-choir-bells-of-joy-2025-2026-15/
LOCATION:St. Andrew Lutheran Church
CATEGORIES:Adult,Mixed Groups,Music,Small Group,St. Andrew Lutheran Church
ATTACH;FMTTYPE=image/jpeg:https://standrewlu.org/wp-content/uploads/2026/01/bells-of-joy.jpg
END:VEVENT
BEGIN:VEVENT
DTSTART;TZID=UTC:20260422T190000
DTEND;TZID=UTC:20260422T201500
DTSTAMP:20260419T194628
CREATED:20260110T130707Z
LAST-MODIFIED:20260319T085941Z
UID:10000546-1776884400-1776888900@standrewlu.org
SUMMARY:Canticle Choir 2025-2026
DESCRIPTION:The Canticle Choir singers lead the congregation at two 9:00 AM Sunday services a month by singing the liturgy\, special hymn arrangements\, anthems\, calls to worship\, and the occasional major choral/orchestral compositions.
URL:https://standrewlu.org/event/canticle-choir-2025-2026-15/
LOCATION:St. Andrew Lutheran Church
CATEGORIES:Adult,Mixed Groups,Music,St. Andrew Lutheran Church
ATTACH;FMTTYPE=image/jpeg:https://standrewlu.org/wp-content/uploads/2026/01/canticle-choir.jpg
END:VEVENT
BEGIN:VEVENT
DTSTART;TZID=UTC:20260429T170000
DTEND;TZID=UTC:20260429T173000
DTSTAMP:20260419T194628
CREATED:20260110T125256Z
LAST-MODIFIED:20260319T085941Z
UID:10000557-1777482000-1777483800@standrewlu.org
SUMMARY:Bell Choir - Ring of Fire 2025-2026
DESCRIPTION:Ring of Fire is a great opportunity for 4th-6th graders to learn the basics of handbell ringing\, grow as a musician and make new friends in a supportive atmosphere! We play in worship several times throughout the year. No prior experience ringing handbells is necessary\, everyone is welcome!
URL:https://standrewlu.org/event/bell-choir-ring-of-fire-2025-2026-16/
LOCATION:St. Andrew Lutheran Church
CATEGORIES:Children, Youth & Family,Middle School,Music,St. Andrew Lutheran Church
ATTACH;FMTTYPE=image/jpeg:https://standrewlu.org/wp-content/uploads/2025/11/MP-Images28-1.jpg
END:VEVENT
BEGIN:VEVENT
DTSTART;TZID=UTC:20260429T173000
DTEND;TZID=UTC:20260429T180000
DTSTAMP:20260419T194629
CREATED:20260110T133047Z
LAST-MODIFIED:20260319T085941Z
UID:10000563-1777483800-1777485600@standrewlu.org
SUMMARY:Choir - Starlight Singers 2025-2026
DESCRIPTION:Starlight Singers welcomes the youngest children with a variety of activities. Children 3-years–kindergarten sing\, dance\, make music\, and learn of Jesus’ love for them. Participate in worship approximately once per month\, as well as additional Wiggle & Worship services. Parents are always invited to attend.
URL:https://standrewlu.org/event/choir-starlight-singers-2025-2026-16/
LOCATION:St. Andrew Lutheran Church
CATEGORIES:Children,Children, Youth & Family,Music,St. Andrew Lutheran Church
ATTACH;FMTTYPE=image/jpeg:https://standrewlu.org/wp-content/uploads/2026/01/starlight-singers.jpg
END:VEVENT
BEGIN:VEVENT
DTSTART;TZID=UTC:20260429T173000
DTEND;TZID=UTC:20260429T180000
DTSTAMP:20260419T194629
CREATED:20260116T143254Z
LAST-MODIFIED:20260319T085941Z
UID:10000556-1777483800-1777485600@standrewlu.org
SUMMARY:Shine 2025-26
DESCRIPTION:Wednesday Nights for kids are centered around building community\, connection\, friendship and fellowship! Shine is a “youth group” for kids in 1st – 5th grade. We are going to play high energy games\, have creative competitions\, silly challenges and lots of laughs with friends\, old and new – all grounded in a Bible verse or story! We’ll probably even get messy. There will be opportunities for service events to care for people outside of our community as well. If you’re looking for something fun to do\, Wednesday Night is the place for you! We will meet from 5:30-6:00 PM. Depending on registration numbers\, we may split into two different age groups.
URL:https://standrewlu.org/event/shine-2025-26-14/
LOCATION:St. Andrew Lutheran Church
CATEGORIES:Children, Youth & Family,Elementary,Music,St. Andrew Lutheran Church
ATTACH;FMTTYPE=image/png:https://standrewlu.org/wp-content/uploads/2026/01/shine.png
END:VEVENT
BEGIN:VEVENT
DTSTART;TZID=UTC:20260429T174500
DTEND;TZID=UTC:20260429T182500
DTSTAMP:20260419T194629
CREATED:20260110T124128Z
LAST-MODIFIED:20260319T085941Z
UID:10000561-1777484700-1777487100@standrewlu.org
SUMMARY:Bell Choir - Peace Ringers 2025-2026
DESCRIPTION:In Peace Ringers\, 6th–12th graders will focus on learning and refining their handbell technique and musicianship while having a great time together! We play in worship several times throughout the year\, and we may do one performance out in the community through the year. No experience is necessary\, everyone is welcome!
URL:https://standrewlu.org/event/bell-choir-peace-ringers-2025-2026-16/
LOCATION:St. Andrew Lutheran Church
CATEGORIES:Children, Youth & Family,High School,Middle School,Music,St. Andrew Lutheran Church
ATTACH;FMTTYPE=image/jpeg:https://standrewlu.org/wp-content/uploads/2026/01/peace-ringers.jpg
END:VEVENT
BEGIN:VEVENT
DTSTART;TZID=UTC:20260429T174500
DTEND;TZID=UTC:20260429T182500
DTSTAMP:20260419T194629
CREATED:20260110T141546Z
LAST-MODIFIED:20260319T085941Z
UID:10000562-1777484700-1777487100@standrewlu.org
SUMMARY:Grace Notes (Intro to Handbells) 2025-2026
DESCRIPTION:St. Andrew member Vicki Grant leads Intro to Handbells for beginning adult handbell ringers. No experience with handbells is required but attendees should be able to read music.
URL:https://standrewlu.org/event/grace-notes-intro-to-handbells-2025-2026-17/
LOCATION:St. Andrew Lutheran Church
CATEGORIES:Adult,Mixed Groups,Music,St. Andrew Lutheran Church
ATTACH;FMTTYPE=image/jpeg:https://standrewlu.org/wp-content/uploads/2026/01/grace-notes.jpg
END:VEVENT
BEGIN:VEVENT
DTSTART;TZID=UTC:20260429T180000
DTEND;TZID=UTC:20260429T183000
DTSTAMP:20260419T194629
CREATED:20260110T132027Z
LAST-MODIFIED:20260319T085942Z
UID:10000564-1777485600-1777487400@standrewlu.org
SUMMARY:Choir - Sonshine Singers 2025-2026
DESCRIPTION:Sonshine Singers is an exciting and energetic children’s choir for 1st–5th graders. Singers learn age-appropriate choral singing basics in a nurturing and fun environment. Kids will make new friends and have a blast with Jill Boyd. The choir sings during worship approximately once a month.
URL:https://standrewlu.org/event/choir-sonshine-singers-2025-2026-15/
LOCATION:St. Andrew Lutheran Church
CATEGORIES:Children, Youth & Family,Elementary,Music,St. Andrew Lutheran Church
ATTACH;FMTTYPE=image/jpeg:https://standrewlu.org/wp-content/uploads/2026/01/sonshine-singers.jpg
END:VEVENT
BEGIN:VEVENT
DTSTART;TZID=UTC:20260429T183000
DTEND;TZID=UTC:20260429T192500
DTSTAMP:20260419T194629
CREATED:20260110T122931Z
LAST-MODIFIED:20260319T085942Z
UID:10000558-1777487400-1777490700@standrewlu.org
SUMMARY:Bell Choir - Bells of Joy 2025-2026
DESCRIPTION:This 5-octave handbell choir for adults meets once a week to rehearse and plays in worship about once a month. Bells of Joy is a small group opportunity for those who enjoy praising God through\nmusic. Ringing experience is helpful in this advanced bell choir.
URL:https://standrewlu.org/event/bell-choir-bells-of-joy-2025-2026-16/
LOCATION:St. Andrew Lutheran Church
CATEGORIES:Adult,Mixed Groups,Music,Small Group,St. Andrew Lutheran Church
ATTACH;FMTTYPE=image/jpeg:https://standrewlu.org/wp-content/uploads/2026/01/bells-of-joy.jpg
END:VEVENT
BEGIN:VEVENT
DTSTART;TZID=UTC:20260429T190000
DTEND;TZID=UTC:20260429T201500
DTSTAMP:20260419T194629
CREATED:20260110T130731Z
LAST-MODIFIED:20260319T085942Z
UID:10000566-1777489200-1777493700@standrewlu.org
SUMMARY:Canticle Choir 2025-2026
DESCRIPTION:The Canticle Choir singers lead the congregation at two 9:00 AM Sunday services a month by singing the liturgy\, special hymn arrangements\, anthems\, calls to worship\, and the occasional major choral/orchestral compositions.
URL:https://standrewlu.org/event/canticle-choir-2025-2026-16/
LOCATION:St. Andrew Lutheran Church
CATEGORIES:Adult,Mixed Groups,Music,St. Andrew Lutheran Church
ATTACH;FMTTYPE=image/jpeg:https://standrewlu.org/wp-content/uploads/2026/01/canticle-choir.jpg
END:VEVENT
BEGIN:VEVENT
DTSTART;TZID=UTC:20260506T170000
DTEND;TZID=UTC:20260506T173000
DTSTAMP:20260419T194629
CREATED:20260110T125321Z
LAST-MODIFIED:20260319T085942Z
UID:10000580-1778086800-1778088600@standrewlu.org
SUMMARY:Bell Choir - Ring of Fire 2025-2026
DESCRIPTION:Ring of Fire is a great opportunity for 4th-6th graders to learn the basics of handbell ringing\, grow as a musician and make new friends in a supportive atmosphere! We play in worship several times throughout the year. No prior experience ringing handbells is necessary\, everyone is welcome!
URL:https://standrewlu.org/event/bell-choir-ring-of-fire-2025-2026-17/
LOCATION:St. Andrew Lutheran Church
CATEGORIES:Children, Youth & Family,Middle School,Music,St. Andrew Lutheran Church
ATTACH;FMTTYPE=image/jpeg:https://standrewlu.org/wp-content/uploads/2025/11/MP-Images28-1.jpg
END:VEVENT
BEGIN:VEVENT
DTSTART;TZID=UTC:20260506T173000
DTEND;TZID=UTC:20260506T180000
DTSTAMP:20260419T194629
CREATED:20260110T133128Z
LAST-MODIFIED:20260319T085943Z
UID:10000579-1778088600-1778090400@standrewlu.org
SUMMARY:Choir - Starlight Singers 2025-2026
DESCRIPTION:Starlight Singers welcomes the youngest children with a variety of activities. Children 3-years–kindergarten sing\, dance\, make music\, and learn of Jesus’ love for them. Participate in worship approximately once per month\, as well as additional Wiggle & Worship services. Parents are always invited to attend.
URL:https://standrewlu.org/event/choir-starlight-singers-2025-2026-17/
LOCATION:St. Andrew Lutheran Church
CATEGORIES:Children,Children, Youth & Family,Music,St. Andrew Lutheran Church
ATTACH;FMTTYPE=image/jpeg:https://standrewlu.org/wp-content/uploads/2026/01/starlight-singers.jpg
END:VEVENT
BEGIN:VEVENT
DTSTART;TZID=UTC:20260506T173000
DTEND;TZID=UTC:20260506T180000
DTSTAMP:20260419T194629
CREATED:20260116T143315Z
LAST-MODIFIED:20260319T085942Z
UID:10000578-1778088600-1778090400@standrewlu.org
SUMMARY:Shine 2025-26
DESCRIPTION:Wednesday Nights for kids are centered around building community\, connection\, friendship and fellowship! Shine is a “youth group” for kids in 1st – 5th grade. We are going to play high energy games\, have creative competitions\, silly challenges and lots of laughs with friends\, old and new – all grounded in a Bible verse or story! We’ll probably even get messy. There will be opportunities for service events to care for people outside of our community as well. If you’re looking for something fun to do\, Wednesday Night is the place for you! We will meet from 5:30-6:00 PM. Depending on registration numbers\, we may split into two different age groups.
URL:https://standrewlu.org/event/shine-2025-26-15/
LOCATION:St. Andrew Lutheran Church
CATEGORIES:Children, Youth & Family,Elementary,Music,St. Andrew Lutheran Church
ATTACH;FMTTYPE=image/png:https://standrewlu.org/wp-content/uploads/2026/01/shine.png
END:VEVENT
BEGIN:VEVENT
DTSTART;TZID=UTC:20260506T174500
DTEND;TZID=UTC:20260506T182500
DTSTAMP:20260419T194629
CREATED:20260110T124152Z
LAST-MODIFIED:20260319T085942Z
UID:10000583-1778089500-1778091900@standrewlu.org
SUMMARY:Bell Choir - Peace Ringers 2025-2026
DESCRIPTION:In Peace Ringers\, 6th–12th graders will focus on learning and refining their handbell technique and musicianship while having a great time together! We play in worship several times throughout the year\, and we may do one performance out in the community through the year. No experience is necessary\, everyone is welcome!
URL:https://standrewlu.org/event/bell-choir-peace-ringers-2025-2026-17/
LOCATION:St. Andrew Lutheran Church
CATEGORIES:Children, Youth & Family,High School,Middle School,Music,St. Andrew Lutheran Church
ATTACH;FMTTYPE=image/jpeg:https://standrewlu.org/wp-content/uploads/2026/01/peace-ringers.jpg
END:VEVENT
BEGIN:VEVENT
DTSTART;TZID=UTC:20260506T174500
DTEND;TZID=UTC:20260506T182500
DTSTAMP:20260419T194629
CREATED:20260110T141627Z
LAST-MODIFIED:20260319T085943Z
UID:10000577-1778089500-1778091900@standrewlu.org
SUMMARY:Grace Notes (Intro to Handbells) 2025-2026
DESCRIPTION:St. Andrew member Vicki Grant leads Intro to Handbells for beginning adult handbell ringers. No experience with handbells is required but attendees should be able to read music.
URL:https://standrewlu.org/event/grace-notes-intro-to-handbells-2025-2026-18/
LOCATION:St. Andrew Lutheran Church
CATEGORIES:Adult,Mixed Groups,Music,St. Andrew Lutheran Church
ATTACH;FMTTYPE=image/jpeg:https://standrewlu.org/wp-content/uploads/2026/01/grace-notes.jpg
END:VEVENT
BEGIN:VEVENT
DTSTART;TZID=UTC:20260506T180000
DTEND;TZID=UTC:20260506T183000
DTSTAMP:20260419T194629
CREATED:20260110T132047Z
LAST-MODIFIED:20260319T085942Z
UID:10000581-1778090400-1778092200@standrewlu.org
SUMMARY:Choir - Sonshine Singers 2025-2026
DESCRIPTION:Sonshine Singers is an exciting and energetic children’s choir for 1st–5th graders. Singers learn age-appropriate choral singing basics in a nurturing and fun environment. Kids will make new friends and have a blast with Jill Boyd. The choir sings during worship approximately once a month.
URL:https://standrewlu.org/event/choir-sonshine-singers-2025-2026-16/
LOCATION:St. Andrew Lutheran Church
CATEGORIES:Children, Youth & Family,Elementary,Music,St. Andrew Lutheran Church
ATTACH;FMTTYPE=image/jpeg:https://standrewlu.org/wp-content/uploads/2026/01/sonshine-singers.jpg
END:VEVENT
BEGIN:VEVENT
DTSTART;TZID=UTC:20260506T183000
DTEND;TZID=UTC:20260506T192500
DTSTAMP:20260419T194629
CREATED:20260110T122955Z
LAST-MODIFIED:20260319T085942Z
UID:10000587-1778092200-1778095500@standrewlu.org
SUMMARY:Bell Choir - Bells of Joy 2025-2026
DESCRIPTION:This 5-octave handbell choir for adults meets once a week to rehearse and plays in worship about once a month. Bells of Joy is a small group opportunity for those who enjoy praising God through\nmusic. Ringing experience is helpful in this advanced bell choir.
URL:https://standrewlu.org/event/bell-choir-bells-of-joy-2025-2026-17/
LOCATION:St. Andrew Lutheran Church
CATEGORIES:Adult,Mixed Groups,Music,Small Group,St. Andrew Lutheran Church
ATTACH;FMTTYPE=image/jpeg:https://standrewlu.org/wp-content/uploads/2026/01/bells-of-joy.jpg
END:VEVENT
BEGIN:VEVENT
DTSTART;TZID=UTC:20260506T190000
DTEND;TZID=UTC:20260506T201500
DTSTAMP:20260419T194629
CREATED:20260110T130804Z
LAST-MODIFIED:20260319T085942Z
UID:10000586-1778094000-1778098500@standrewlu.org
SUMMARY:Canticle Choir 2025-2026
DESCRIPTION:The Canticle Choir singers lead the congregation at two 9:00 AM Sunday services a month by singing the liturgy\, special hymn arrangements\, anthems\, calls to worship\, and the occasional major choral/orchestral compositions.
URL:https://standrewlu.org/event/canticle-choir-2025-2026-17/
LOCATION:St. Andrew Lutheran Church
CATEGORIES:Adult,Mixed Groups,Music,St. Andrew Lutheran Church
ATTACH;FMTTYPE=image/jpeg:https://standrewlu.org/wp-content/uploads/2026/01/canticle-choir.jpg
END:VEVENT
BEGIN:VEVENT
DTSTART;TZID=UTC:20260513T170000
DTEND;TZID=UTC:20260513T173000
DTSTAMP:20260419T194629
CREATED:20260110T125353Z
LAST-MODIFIED:20260319T085943Z
UID:10000600-1778691600-1778693400@standrewlu.org
SUMMARY:Bell Choir - Ring of Fire 2025-2026
DESCRIPTION:Ring of Fire is a great opportunity for 4th-6th graders to learn the basics of handbell ringing\, grow as a musician and make new friends in a supportive atmosphere! We play in worship several times throughout the year. No prior experience ringing handbells is necessary\, everyone is welcome!
URL:https://standrewlu.org/event/bell-choir-ring-of-fire-2025-2026-18/
LOCATION:St. Andrew Lutheran Church
CATEGORIES:Children, Youth & Family,Middle School,Music,St. Andrew Lutheran Church
ATTACH;FMTTYPE=image/jpeg:https://standrewlu.org/wp-content/uploads/2025/11/MP-Images28-1.jpg
END:VEVENT
BEGIN:VEVENT
DTSTART;TZID=UTC:20260513T173000
DTEND;TZID=UTC:20260513T180000
DTSTAMP:20260419T194629
CREATED:20260110T133151Z
LAST-MODIFIED:20260319T085943Z
UID:10000601-1778693400-1778695200@standrewlu.org
SUMMARY:Choir - Starlight Singers 2025-2026
DESCRIPTION:Starlight Singers welcomes the youngest children with a variety of activities. Children 3-years–kindergarten sing\, dance\, make music\, and learn of Jesus’ love for them. Participate in worship approximately once per month\, as well as additional Wiggle u0026amp; Worship services. Parents are always invited to attend. \n\n\nu003c?phpn$mp_reg_url = get_post_meta( get_the_ID()\, '_mp_registration_url'\, true );nif ( $mp_reg_url ) :n?u003ennu003cdiv style=u0022text-align:center; margin: 2rem 0;u0022u003en    u003cbuttonn        onclick=u0022document.getElementById('mp-modal').style.display='flex'u0022n        style=u0022n            background-color: #0073aa;n            color: #fff;n            border: none;n            padding: 14px 32px;n            border-radius: 4px;n            font-size: 1.1rem;n            font-weight: 600;n            cursor: pointer;n        u0022u003en        Register for This Eventn    u003c/buttonu003enu003c/divu003ennu003c!u002du002d Modal Overlay u002du002du003enu003cdiv id=u0022mp-modalu0022 style=u0022n    display: none;n    position: fixed;n    top: 0; left: 0;n    width: 100%; height: 100%;n    background: rgba(0\,0\,0\,0.7);n    z-index: 99999;n    align-items: center;n    justify-content: center;nu0022u003en    u003cdiv style=u0022n        background: #fff;n        width: 90%;n        max-width: 860px;n        height: 80vh;n        border-radius: 8px;n        overflow: hidden;n        position: relative;n        display: flex;n        flex-direction: column;n    u0022u003en        u003c!u002du002d Modal Header u002du002du003en        u003cdiv style=u0022n            display: flex;n            justify-content: space-between;n            align-items: center;n            padding: 12px 20px;n            background: #f5f5f5;n            border-bottom: 1px solid #ddd;n        u0022u003en            u003cstrongu003eEvent Registrationu003c/strongu003en            u003cbuttonn                onclick=u0022document.getElementById('mp-modal').style.display='none'u0022n                style=u0022n                    background: none;n                    border: none;n                    font-size: 1.4rem;n                    cursor: pointer;n                    color: #555;n                    line-height: 1;n                u0022n                aria-label=u0022Close registrationu0022u003en                u0026times;n            u003c/buttonu003en        u003c/divu003enn        u003c!u002du002d iframe u002du002du003en        u003ciframen            src=u0022u003c?php echo esc_url( $mp_reg_url ); ?u003eu0022n            style=u0022flex:1; width:100%; border:none;u0022n            title=u0022Event Registrationu0022u003en        u003c/iframeu003en    u003c/divu003enu003c/divu003ennu003c!u002du002d Close modal on overlay click u002du002du003enu003cscriptu003endocument.getElementById('mp-modal').addEventListener('click'\, function(e) {n    if (e.target === this) this.style.display = 'none';n});nu003c/scriptu003ennu003c?php endif; ?u003en
URL:https://standrewlu.org/event/choir-starlight-singers-2025-2026-18/
LOCATION:St. Andrew Lutheran Church
CATEGORIES:Children,Children, Youth & Family,Music,St. Andrew Lutheran Church
ATTACH;FMTTYPE=image/jpeg:https://standrewlu.org/wp-content/uploads/2026/01/starlight-singers.jpg
END:VEVENT
BEGIN:VEVENT
DTSTART;TZID=UTC:20260513T173000
DTEND;TZID=UTC:20260513T180000
DTSTAMP:20260419T194629
CREATED:20260116T143400Z
LAST-MODIFIED:20260319T085943Z
UID:10000602-1778693400-1778695200@standrewlu.org
SUMMARY:Shine 2025-26
DESCRIPTION:Wednesday Nights for kids are centered around building community\, connection\, friendship and fellowship! Shine is a “youth group” for kids in 1st – 5th grade. We are going to play high energy games\, have creative competitions\, silly challenges and lots of laughs with friends\, old and new – all grounded in a Bible verse or story! We’ll probably even get messy. There will be opportunities for service events to care for people outside of our community as well. If you’re looking for something fun to do\, Wednesday Night is the place for you! We will meet from 5:30-6:00 PM. Depending on registration numbers\, we may split into two different age groups.
URL:https://standrewlu.org/event/shine-2025-26-16/
LOCATION:St. Andrew Lutheran Church
CATEGORIES:Children, Youth & Family,Elementary,Music,St. Andrew Lutheran Church
ATTACH;FMTTYPE=image/jpeg:https://standrewlu.org/wp-content/uploads/2025/12/Small-Group-MP-Event-Widget-Image.jpg
END:VEVENT
BEGIN:VEVENT
DTSTART;TZID=UTC:20260513T174500
DTEND;TZID=UTC:20260513T182500
DTSTAMP:20260419T194629
CREATED:20260110T124209Z
LAST-MODIFIED:20260319T085943Z
UID:10000605-1778694300-1778696700@standrewlu.org
SUMMARY:Bell Choir - Peace Ringers 2025-2026
DESCRIPTION:In Peace Ringers\, 6th–12th graders will focus on learning and refining their handbell technique and musicianship while having a great time together! We play in worship several times throughout the year\, and we may do one performance out in the community through the year. No experience is necessary\, everyone is welcome!
URL:https://standrewlu.org/event/bell-choir-peace-ringers-2025-2026-18/
LOCATION:St. Andrew Lutheran Church
CATEGORIES:Children, Youth & Family,High School,Middle School,Music,St. Andrew Lutheran Church
ATTACH;FMTTYPE=image/jpeg:https://standrewlu.org/wp-content/uploads/2026/01/peace-ringers.jpg
END:VEVENT
BEGIN:VEVENT
DTSTART;TZID=UTC:20260513T180000
DTEND;TZID=UTC:20260513T183000
DTSTAMP:20260419T194629
CREATED:20260110T132106Z
LAST-MODIFIED:20260319T085943Z
UID:10000610-1778695200-1778697000@standrewlu.org
SUMMARY:Choir - Sonshine Singers 2025-2026
DESCRIPTION:Sonshine Singers is an exciting and energetic children’s choir for 1st–5th graders. Singers learn age-appropriate choral singing basics in a nurturing and fun environment. Kids will make new friends and have a blast with Jill Boyd. The choir sings during worship approximately once a month.
URL:https://standrewlu.org/event/choir-sonshine-singers-2025-2026-17/
LOCATION:St. Andrew Lutheran Church
CATEGORIES:Children, Youth & Family,Elementary,Music,St. Andrew Lutheran Church
ATTACH;FMTTYPE=image/jpeg:https://standrewlu.org/wp-content/uploads/2026/01/sonshine-singers.jpg
END:VEVENT
BEGIN:VEVENT
DTSTART;TZID=UTC:20260513T183000
DTEND;TZID=UTC:20260513T192500
DTSTAMP:20260419T194629
CREATED:20260110T123058Z
LAST-MODIFIED:20260319T085943Z
UID:10000609-1778697000-1778700300@standrewlu.org
SUMMARY:Bell Choir - Bells of Joy 2025-2026
DESCRIPTION:This 5-octave handbell choir for adults meets once a week to rehearse and plays in worship about once a month. Bells of Joy is a small group opportunity for those who enjoy praising God through\nmusic. Ringing experience is helpful in this advanced bell choir.
URL:https://standrewlu.org/event/bell-choir-bells-of-joy-2025-2026-18/
LOCATION:St. Andrew Lutheran Church
CATEGORIES:Adult,Mixed Groups,Music,St. Andrew Lutheran Church
ATTACH;FMTTYPE=image/jpeg:https://standrewlu.org/wp-content/uploads/2026/01/bells-of-joy.jpg
END:VEVENT
END:VCALENDAR