BEGIN:VCALENDAR
VERSION:2.0
PRODID:-//St. Andrew Lutheran Church - ECPv6.15.20//NONSGML v1.0//EN
CALSCALE:GREGORIAN
METHOD:PUBLISH
X-ORIGINAL-URL:https://standrewlu.org
X-WR-CALDESC:Events for St. Andrew Lutheran Church
REFRESH-INTERVAL;VALUE=DURATION:PT1H
X-Robots-Tag:noindex
X-PUBLISHED-TTL:PT1H
BEGIN:VTIMEZONE
TZID:UTC
BEGIN:STANDARD
TZOFFSETFROM:+0000
TZOFFSETTO:+0000
TZNAME:UTC
DTSTART:20250101T000000
END:STANDARD
END:VTIMEZONE
BEGIN:VEVENT
DTSTART;TZID=UTC:20260513T183000
DTEND;TZID=UTC:20260513T192500
DTSTAMP:20260419T214157
CREATED:20260110T123058Z
LAST-MODIFIED:20260319T085943Z
UID:10000609-1778697000-1778700300@standrewlu.org
SUMMARY:Bell Choir - Bells of Joy 2025-2026
DESCRIPTION:This 5-octave handbell choir for adults meets once a week to rehearse and plays in worship about once a month. Bells of Joy is a small group opportunity for those who enjoy praising God through\nmusic. Ringing experience is helpful in this advanced bell choir.
URL:https://standrewlu.org/event/bell-choir-bells-of-joy-2025-2026-18/
LOCATION:St. Andrew Lutheran Church
CATEGORIES:Adult,Mixed Groups,Music,St. Andrew Lutheran Church
ATTACH;FMTTYPE=image/jpeg:https://standrewlu.org/wp-content/uploads/2026/01/bells-of-joy.jpg
END:VEVENT
BEGIN:VEVENT
DTSTART;TZID=UTC:20260513T190000
DTEND;TZID=UTC:20260513T201500
DTSTAMP:20260419T214157
CREATED:20260110T130832Z
LAST-MODIFIED:20260319T085944Z
UID:10000608-1778698800-1778703300@standrewlu.org
SUMMARY:Canticle Choir 2025-2026
DESCRIPTION:The Canticle Choir singers lead the congregation at two 9:00 AM Sunday services a month by singing the liturgy\, special hymn arrangements\, anthems\, calls to worship\, and the occasional major choral/orchestral compositions.
URL:https://standrewlu.org/event/canticle-choir-2025-2026-18/
LOCATION:St. Andrew Lutheran Church
CATEGORIES:Adult,Mixed Groups,Music,St. Andrew Lutheran Church
ATTACH;FMTTYPE=image/jpeg:https://standrewlu.org/wp-content/uploads/2026/01/canticle-choir.jpg
END:VEVENT
END:VCALENDAR