BEGIN:VCALENDAR
VERSION:2.0
PRODID:-//St. Andrew Lutheran Church - ECPv6.15.20//NONSGML v1.0//EN
CALSCALE:GREGORIAN
METHOD:PUBLISH
X-ORIGINAL-URL:https://standrewlu.org
X-WR-CALDESC:Events for St. Andrew Lutheran Church
REFRESH-INTERVAL;VALUE=DURATION:PT1H
X-Robots-Tag:noindex
X-PUBLISHED-TTL:PT1H
BEGIN:VTIMEZONE
TZID:UTC
BEGIN:STANDARD
TZOFFSETFROM:+0000
TZOFFSETTO:+0000
TZNAME:UTC
DTSTART:20250101T000000
END:STANDARD
END:VTIMEZONE
BEGIN:VEVENT
DTSTART;TZID=UTC:20261202T183000
DTEND;TZID=UTC:20261202T193000
DTSTAMP:20260420T131449
CREATED:20251230T065406Z
LAST-MODIFIED:20260319T085950Z
UID:10000697-1796236200-1796239800@standrewlu.org
SUMMARY:A More Just World -- Social Justice Group
DESCRIPTION:When it comes to matters of race in our community\, St. Andrew is dedicated to helping create a more just world for all people through listening\, learning\, growing\, and acting differently. Monthly meetings provide fellowship for people wanting to dedicate themselves to this process on an ongoing basis. Join us for conversation and learning opportunities. We discuss different cultures\, race\, equity\, and healing through the use of readings\, videos and other media as we rally around the cause to create a more just world for all. With the help of Pastor Kelly Chatman\, we are partnering with Zion Baptist Church and Zion’s Pastor\, Brian Herron. Pastor Kelly Chatman has been instrumental in helping St. Andrew and A More Just World. These partnerships help churches like St. Andrew create and implement plans of understanding and action\, furthering racial justice and healing.
URL:https://standrewlu.org/event/a-more-just-world-social-justice-group-3/
LOCATION:St. Andrew Lutheran Church
CATEGORIES:A More Just World,Adult,Mixed Groups,Small Group,St. Andrew Lutheran Church
ATTACH;FMTTYPE=image/jpeg:https://standrewlu.org/wp-content/uploads/2025/12/MP-Images14-A-More-Just-World.jpg
ORGANIZER;CN="Pastor Peter Johnson":MAILTO:pastorpeter@standrewlu.org
END:VEVENT
END:VCALENDAR