BEGIN:VCALENDAR
VERSION:2.0
PRODID:-//St. Andrew Lutheran Church - ECPv6.15.20//NONSGML v1.0//EN
CALSCALE:GREGORIAN
METHOD:PUBLISH
X-ORIGINAL-URL:https://standrewlu.org
X-WR-CALDESC:Events for St. Andrew Lutheran Church
REFRESH-INTERVAL;VALUE=DURATION:PT1H
X-Robots-Tag:noindex
X-PUBLISHED-TTL:PT1H
BEGIN:VTIMEZONE
TZID:UTC
BEGIN:STANDARD
TZOFFSETFROM:+0000
TZOFFSETTO:+0000
TZNAME:UTC
DTSTART:20250101T000000
END:STANDARD
END:VTIMEZONE
BEGIN:VEVENT
DTSTART;TZID=UTC:20260415T170000
DTEND;TZID=UTC:20260415T173000
DTSTAMP:20260419T211045
CREATED:20260110T125153Z
LAST-MODIFIED:20260319T085940Z
UID:10000520-1776272400-1776274200@standrewlu.org
SUMMARY:Bell Choir - Ring of Fire 2025-2026
DESCRIPTION:Ring of Fire is a great opportunity for 4th-6th graders to learn the basics of handbell ringing\, grow as a musician and make new friends in a supportive atmosphere! We play in worship several times throughout the year. No prior experience ringing handbells is necessary\, everyone is welcome!
URL:https://standrewlu.org/event/bell-choir-ring-of-fire-2025-2026-14/
LOCATION:St. Andrew Lutheran Church
CATEGORIES:Children, Youth & Family,Middle School,Music,St. Andrew Lutheran Church
ATTACH;FMTTYPE=image/jpeg:https://standrewlu.org/wp-content/uploads/2025/11/MP-Images28-1.jpg
END:VEVENT
BEGIN:VEVENT
DTSTART;TZID=UTC:20260415T174500
DTEND;TZID=UTC:20260415T182500
DTSTAMP:20260419T211045
CREATED:20260110T124039Z
LAST-MODIFIED:20260319T085940Z
UID:10000525-1776275100-1776277500@standrewlu.org
SUMMARY:Bell Choir - Peace Ringers 2025-2026
DESCRIPTION:In Peace Ringers\, 6th–12th graders will focus on learning and refining their handbell technique and musicianship while having a great time together! We play in worship several times throughout the year\, and we may do one performance out in the community through the year. No experience is necessary\, everyone is welcome!
URL:https://standrewlu.org/event/bell-choir-peace-ringers-2025-2026-14/
LOCATION:St. Andrew Lutheran Church
CATEGORIES:Children, Youth & Family,High School,Middle School,Music,St. Andrew Lutheran Church
ATTACH;FMTTYPE=image/jpeg:https://standrewlu.org/wp-content/uploads/2026/01/peace-ringers.jpg
END:VEVENT
END:VCALENDAR