BEGIN:VCALENDAR
VERSION:2.0
PRODID:-//St. Andrew Lutheran Church - ECPv6.15.20//NONSGML v1.0//EN
CALSCALE:GREGORIAN
METHOD:PUBLISH
X-WR-CALNAME:St. Andrew Lutheran Church
X-ORIGINAL-URL:https://standrewlu.org
X-WR-CALDESC:Events for St. Andrew Lutheran Church
REFRESH-INTERVAL;VALUE=DURATION:PT1H
X-Robots-Tag:noindex
X-PUBLISHED-TTL:PT1H
BEGIN:VTIMEZONE
TZID:UTC
BEGIN:STANDARD
TZOFFSETFROM:+0000
TZOFFSETTO:+0000
TZNAME:UTC
DTSTART:20250101T000000
END:STANDARD
END:VTIMEZONE
BEGIN:VEVENT
DTSTART;TZID=UTC:20260513T063000
DTEND;TZID=UTC:20260513T073000
DTSTAMP:20260419T215756
CREATED:20260106T072604Z
LAST-MODIFIED:20260319T085943Z
UID:10000744-1778653800-1778657400@standrewlu.org
SUMMARY:Band of Brothers
DESCRIPTION:Join fellow Christian men each week to examine how faith affects our daily life and relationships. Participate weekly\, when you can.
URL:https://standrewlu.org/event/band-of-brothers-20/
LOCATION:St. Andrew Lutheran Church
CATEGORIES:Adult,Bible and Book Studies,Men's Groups,Small Group,St. Andrew Lutheran Church
ATTACH;FMTTYPE=image/jpeg:https://standrewlu.org/wp-content/uploads/2025/12/Small-Group-MP-Event-Widget-Image.jpg
END:VEVENT
END:VCALENDAR