BEGIN:VCALENDAR
VERSION:2.0
PRODID:-//St. Andrew Lutheran Church - ECPv6.15.20//NONSGML v1.0//EN
CALSCALE:GREGORIAN
METHOD:PUBLISH
X-ORIGINAL-URL:https://standrewlu.org
X-WR-CALDESC:Events for St. Andrew Lutheran Church
REFRESH-INTERVAL;VALUE=DURATION:PT1H
X-Robots-Tag:noindex
X-PUBLISHED-TTL:PT1H
BEGIN:VTIMEZONE
TZID:UTC
BEGIN:STANDARD
TZOFFSETFROM:+0000
TZOFFSETTO:+0000
TZNAME:UTC
DTSTART:20250101T000000
END:STANDARD
END:VTIMEZONE
BEGIN:VEVENT
DTSTART;TZID=UTC:20260505T180000
DTEND;TZID=UTC:20260505T191500
DTSTAMP:20260419T211427
CREATED:20260110T115959Z
LAST-MODIFIED:20260319T085942Z
UID:10000691-1778004000-1778008500@standrewlu.org
SUMMARY:Basketball (16 yrs +)
DESCRIPTION:Join members and friends of St. Andrew for a friendly game of basketball and fellowship in the St. Andrew gym. Men and women are welcome. It is a great way to stay in shape\, meet some new people\, and bond over a shared interest in the sport. If interested\, contact Mark Domyahn at mdomyahn@gmail.com so that he can be in touch with you.
URL:https://standrewlu.org/event/basketball-16-yrs-15/
LOCATION:St. Andrew Lutheran Church
CATEGORIES:Adult,Children, Youth & Family,High School,Mixed Groups,St. Andrew Lutheran Church,Young Adult
ATTACH;FMTTYPE=image/jpeg:https://standrewlu.org/wp-content/uploads/2026/01/basketball.jpg
END:VEVENT
BEGIN:VEVENT
DTSTART;TZID=UTC:20260506T174500
DTEND;TZID=UTC:20260506T182500
DTSTAMP:20260419T211427
CREATED:20260110T124152Z
LAST-MODIFIED:20260319T085942Z
UID:10000583-1778089500-1778091900@standrewlu.org
SUMMARY:Bell Choir - Peace Ringers 2025-2026
DESCRIPTION:In Peace Ringers\, 6th–12th graders will focus on learning and refining their handbell technique and musicianship while having a great time together! We play in worship several times throughout the year\, and we may do one performance out in the community through the year. No experience is necessary\, everyone is welcome!
URL:https://standrewlu.org/event/bell-choir-peace-ringers-2025-2026-17/
LOCATION:St. Andrew Lutheran Church
CATEGORIES:Children, Youth & Family,High School,Middle School,Music,St. Andrew Lutheran Church
ATTACH;FMTTYPE=image/jpeg:https://standrewlu.org/wp-content/uploads/2026/01/peace-ringers.jpg
END:VEVENT
BEGIN:VEVENT
DTSTART;TZID=UTC:20260506T190000
DTEND;TZID=UTC:20260506T210000
DTSTAMP:20260419T211427
CREATED:20260406T165737Z
LAST-MODIFIED:20260406T165737Z
UID:10000585-1778094000-1778101200@standrewlu.org
SUMMARY:WNYG (High School Youth Group)
DESCRIPTION:WNYG is our High school Youth group. This is a community focused on growing closer to God and each other. No need to sign up Just stop by on any given Wednesday night around 7 and enjoy the snacks\, games\, and faith conversations.
URL:https://standrewlu.org/event/wnyg-high-school-youth-group-7/
LOCATION:St. Andrew Lutheran Church
CATEGORIES:Children, Youth & Family,High School,St. Andrew Lutheran Church
END:VEVENT
BEGIN:VEVENT
DTSTART;TZID=UTC:20260509T130000
DTEND;TZID=UTC:20260509T170000
DTSTAMP:20260419T211427
CREATED:20260110T140626Z
LAST-MODIFIED:20260319T085943Z
UID:10000590-1778331600-1778346000@standrewlu.org
SUMMARY:Geeks & God : Meet up
DESCRIPTION:This meet up is for the hobbyist community (Board games\, RPG and Video games). This is a chance for you to get to know the other Gamers of St. Andrew and to have fellowship online playing the games you love to play. Bring your own board games\, bring friends and learn other games\, see you there!
URL:https://standrewlu.org/event/geeks-god-meet-up-5/
LOCATION:St. Andrew Lutheran Church
CATEGORIES:Children, Youth & Family,High School,St. Andrew Lutheran Church,Young Adult
ATTACH;FMTTYPE=image/jpeg:https://standrewlu.org/wp-content/uploads/2025/12/geeks-and-gods.jpg
END:VEVENT
BEGIN:VEVENT
DTSTART;TZID=UTC:20260510T101500
DTEND;TZID=UTC:20260510T111500
DTSTAMP:20260419T211427
CREATED:20260406T170444Z
LAST-MODIFIED:20260406T170444Z
UID:10000594-1778408100-1778411700@standrewlu.org
SUMMARY:High School Bible study
DESCRIPTION:Each week\, high school students gather for Bible study at St. Andrew to explore Scripture and grow in faith together. It’s a space for honest questions\, meaningful conversations\, and building friendships rooted in Christ. Whether you’re new to the Bible or have grown up with it\, there’s always something fresh to discover. 🙌📖
URL:https://standrewlu.org/event/high-school-bible-study-7/
LOCATION:St. Andrew Lutheran Church
CATEGORIES:Children, Youth & Family,High School,St. Andrew Lutheran Church
ATTACH;FMTTYPE=image/png:https://standrewlu.org/wp-content/uploads/2026/03/High-School-Bible-Study.png
END:VEVENT
END:VCALENDAR