BEGIN:VCALENDAR
VERSION:2.0
PRODID:-//St. Andrew Lutheran Church - ECPv6.15.20//NONSGML v1.0//EN
CALSCALE:GREGORIAN
METHOD:PUBLISH
X-ORIGINAL-URL:https://standrewlu.org
X-WR-CALDESC:Events for St. Andrew Lutheran Church
REFRESH-INTERVAL;VALUE=DURATION:PT1H
X-Robots-Tag:noindex
X-PUBLISHED-TTL:PT1H
BEGIN:VTIMEZONE
TZID:Europe/Lisbon
BEGIN:DAYLIGHT
TZOFFSETFROM:+0000
TZOFFSETTO:+0100
TZNAME:WEST
DTSTART:20250330T010000
END:DAYLIGHT
BEGIN:STANDARD
TZOFFSETFROM:+0100
TZOFFSETTO:+0000
TZNAME:WET
DTSTART:20251026T010000
END:STANDARD
BEGIN:DAYLIGHT
TZOFFSETFROM:+0000
TZOFFSETTO:+0100
TZNAME:WEST
DTSTART:20260329T010000
END:DAYLIGHT
BEGIN:STANDARD
TZOFFSETFROM:+0100
TZOFFSETTO:+0000
TZNAME:WET
DTSTART:20261025T010000
END:STANDARD
BEGIN:DAYLIGHT
TZOFFSETFROM:+0000
TZOFFSETTO:+0100
TZNAME:WEST
DTSTART:20270328T010000
END:DAYLIGHT
BEGIN:STANDARD
TZOFFSETFROM:+0100
TZOFFSETTO:+0000
TZNAME:WET
DTSTART:20271031T010000
END:STANDARD
END:VTIMEZONE
BEGIN:VEVENT
DTSTART;TZID=Europe/Lisbon:20260422T183000
DTEND;TZID=Europe/Lisbon:20260422T190000
DTSTAMP:20260419T190434
CREATED:20260116T143232Z
LAST-MODIFIED:20260319T085941Z
UID:10000544-1776882600-1776884400@standrewlu.org
SUMMARY:Shine 2025-26
DESCRIPTION:Wednesday Nights for kids are centered around building community\, connection\, friendship and fellowship! Shine is a “youth group” for kids in 1st – 5th grade. We are going to play high energy games\, have creative competitions\, silly challenges and lots of laughs with friends\, old and new – all grounded in a Bible verse or story! We’ll probably even get messy. There will be opportunities for service events to care for people outside of our community as well. If you’re looking for something fun to do\, Wednesday Night is the place for you! We will meet from 5:30-6:00 PM. Depending on registration numbers\, we may split into two different age groups.
URL:https://standrewlu.org/event/shine-2025-26-13/
LOCATION:St. Andrew Lutheran Church
CATEGORIES:Children, Youth & Family,Elementary,Music,St. Andrew Lutheran Church
ATTACH;FMTTYPE=image/png:https://standrewlu.org/wp-content/uploads/2026/01/shine.png
END:VEVENT
BEGIN:VEVENT
DTSTART;TZID=Europe/Lisbon:20260422T190000
DTEND;TZID=Europe/Lisbon:20260422T193000
DTSTAMP:20260419T190434
CREATED:20260402T140146Z
LAST-MODIFIED:20260402T140146Z
UID:10000541-1776884400-1776886200@standrewlu.org
SUMMARY:Choir - Sonshine Singers 2025-2026
DESCRIPTION:Sonshine Singers is an exciting and energetic children’s choir for 1st–5th graders. Singers learn age-appropriate choral singing basics in a nurturing and fun environment. Kids will make new friends and have a blast with Jill Boyd. The choir sings during worship approximately once a month.
URL:https://standrewlu.org/event/choir-sonshine-singers-2025-2026-18/
LOCATION:St. Andrew Lutheran Church
CATEGORIES:Children, Youth & Family,Elementary,Music,St. Andrew Lutheran Church
ATTACH;FMTTYPE=image/jpeg:https://standrewlu.org/wp-content/uploads/2026/01/sonshine-singers.jpg
END:VEVENT
BEGIN:VEVENT
DTSTART;TZID=Europe/Lisbon:20260426T100000
DTEND;TZID=Europe/Lisbon:20260426T110000
DTSTAMP:20260419T190434
CREATED:20260402T140530Z
LAST-MODIFIED:20260402T140530Z
UID:10000550-1777197600-1777201200@standrewlu.org
SUMMARY:Sunday School 9 AM
DESCRIPTION:Children’s Ministry is for kids birth – 5th grade and friends. We embrace the teachings of Jesus when he calls us to Love God and Love Others!\nWe have opportunities for families and kids to connect\, learn\, play and grow in faith! All of our programming is intentionally crafted for kids to hear and experience the love of God and live out that faith in their daily lives.\nSunday School is offered during the 9:00 AM and 10:30 AM worship services on Sunday mornings for ages 3 years old to 5th grade. We have a staffed nursery for children ages 0-3 years old every Sunday.
URL:https://standrewlu.org/event/sunday-school-9-am-4/
LOCATION:St. Andrew Lutheran Church
CATEGORIES:Children,Children, Youth & Family,Elementary,St. Andrew Lutheran Church,Worship
ATTACH;FMTTYPE=image/png:https://standrewlu.org/wp-content/uploads/2026/01/St-Andrew-Kids-logo-.png
END:VEVENT
BEGIN:VEVENT
DTSTART;TZID=Europe/Lisbon:20260426T113000
DTEND;TZID=Europe/Lisbon:20260426T123000
DTSTAMP:20260419T190434
CREATED:20260406T080908Z
LAST-MODIFIED:20260406T080908Z
UID:10000551-1777203000-1777206600@standrewlu.org
SUMMARY:Sunday School 10:30 AM
DESCRIPTION:Children’s Ministry is for kids birth – 5th grade and friends. We embrace the teachings of Jesus when he calls us to Love God and Love Others!\nWe have opportunities for families and kids to connect\, learn\, play and grow in faith! All of our programming is intentionally crafted for kids to hear and experience the love of God and live out that faith in their daily lives.\nSunday School is offered during the 9:00 AM and 10:30 AM worship services on Sunday mornings for ages 3 years old to 5th grade. We have a staffed nursery for children ages 0-3 years old every Sunday.
URL:https://standrewlu.org/event/sunday-school-1030-am-5/
LOCATION:St. Andrew Lutheran Church
CATEGORIES:Children,Children, Youth & Family,Elementary,St. Andrew Lutheran Church,Worship
ATTACH;FMTTYPE=image/png:https://standrewlu.org/wp-content/uploads/2026/01/St-Andrew-Kids-logo-.png
END:VEVENT
BEGIN:VEVENT
DTSTART;TZID=Europe/Lisbon:20260429T183000
DTEND;TZID=Europe/Lisbon:20260429T190000
DTSTAMP:20260419T190434
CREATED:20260116T143254Z
LAST-MODIFIED:20260319T085941Z
UID:10000556-1777487400-1777489200@standrewlu.org
SUMMARY:Shine 2025-26
DESCRIPTION:Wednesday Nights for kids are centered around building community\, connection\, friendship and fellowship! Shine is a “youth group” for kids in 1st – 5th grade. We are going to play high energy games\, have creative competitions\, silly challenges and lots of laughs with friends\, old and new – all grounded in a Bible verse or story! We’ll probably even get messy. There will be opportunities for service events to care for people outside of our community as well. If you’re looking for something fun to do\, Wednesday Night is the place for you! We will meet from 5:30-6:00 PM. Depending on registration numbers\, we may split into two different age groups.
URL:https://standrewlu.org/event/shine-2025-26-14/
LOCATION:St. Andrew Lutheran Church
CATEGORIES:Children, Youth & Family,Elementary,Music,St. Andrew Lutheran Church
ATTACH;FMTTYPE=image/png:https://standrewlu.org/wp-content/uploads/2026/01/shine.png
END:VEVENT
BEGIN:VEVENT
DTSTART;TZID=Europe/Lisbon:20260429T190000
DTEND;TZID=Europe/Lisbon:20260429T193000
DTSTAMP:20260419T190434
CREATED:20260110T132027Z
LAST-MODIFIED:20260319T085942Z
UID:10000564-1777489200-1777491000@standrewlu.org
SUMMARY:Choir - Sonshine Singers 2025-2026
DESCRIPTION:Sonshine Singers is an exciting and energetic children’s choir for 1st–5th graders. Singers learn age-appropriate choral singing basics in a nurturing and fun environment. Kids will make new friends and have a blast with Jill Boyd. The choir sings during worship approximately once a month.
URL:https://standrewlu.org/event/choir-sonshine-singers-2025-2026-15/
LOCATION:St. Andrew Lutheran Church
CATEGORIES:Children, Youth & Family,Elementary,Music,St. Andrew Lutheran Church
ATTACH;FMTTYPE=image/jpeg:https://standrewlu.org/wp-content/uploads/2026/01/sonshine-singers.jpg
END:VEVENT
BEGIN:VEVENT
DTSTART;TZID=Europe/Lisbon:20260503T100000
DTEND;TZID=Europe/Lisbon:20260503T110000
DTSTAMP:20260419T190434
CREATED:20260406T144101Z
LAST-MODIFIED:20260406T144101Z
UID:10000569-1777802400-1777806000@standrewlu.org
SUMMARY:Sunday School 9 AM
DESCRIPTION:Children’s Ministry is for kids birth – 5th grade and friends. We embrace the teachings of Jesus when he calls us to Love God and Love Others!\nWe have opportunities for families and kids to connect\, learn\, play and grow in faith! All of our programming is intentionally crafted for kids to hear and experience the love of God and live out that faith in their daily lives.\nSunday School is offered during the 9:00 AM and 10:30 AM worship services on Sunday mornings for ages 3 years old to 5th grade. We have a staffed nursery for children ages 0-3 years old every Sunday.
URL:https://standrewlu.org/event/sunday-school-9-am-6/
LOCATION:St. Andrew Lutheran Church
CATEGORIES:Children,Children, Youth & Family,Elementary,St. Andrew Lutheran Church,Worship
ATTACH;FMTTYPE=image/png:https://standrewlu.org/wp-content/uploads/2026/01/St-Andrew-Kids-logo-.png
END:VEVENT
BEGIN:VEVENT
DTSTART;TZID=Europe/Lisbon:20260503T113000
DTEND;TZID=Europe/Lisbon:20260503T123000
DTSTAMP:20260419T190434
CREATED:20260406T154926Z
LAST-MODIFIED:20260406T154926Z
UID:10000572-1777807800-1777811400@standrewlu.org
SUMMARY:Sunday School 10:30 AM
DESCRIPTION:Children’s Ministry is for kids birth – 5th grade and friends. We embrace the teachings of Jesus when he calls us to Love God and Love Others!\nWe have opportunities for families and kids to connect\, learn\, play and grow in faith! All of our programming is intentionally crafted for kids to hear and experience the love of God and live out that faith in their daily lives.\nSunday School is offered during the 9:00 AM and 10:30 AM worship services on Sunday mornings for ages 3 years old to 5th grade. We have a staffed nursery for children ages 0-3 years old every Sunday.
URL:https://standrewlu.org/event/sunday-school-1030-am-6/
LOCATION:St. Andrew Lutheran Church
CATEGORIES:Children,Children, Youth & Family,Elementary,St. Andrew Lutheran Church,Worship
ATTACH;FMTTYPE=image/png:https://standrewlu.org/wp-content/uploads/2026/01/St-Andrew-Kids-logo-.png
END:VEVENT
BEGIN:VEVENT
DTSTART;TZID=Europe/Lisbon:20260506T183000
DTEND;TZID=Europe/Lisbon:20260506T190000
DTSTAMP:20260419T190434
CREATED:20260116T143315Z
LAST-MODIFIED:20260319T085942Z
UID:10000578-1778092200-1778094000@standrewlu.org
SUMMARY:Shine 2025-26
DESCRIPTION:Wednesday Nights for kids are centered around building community\, connection\, friendship and fellowship! Shine is a “youth group” for kids in 1st – 5th grade. We are going to play high energy games\, have creative competitions\, silly challenges and lots of laughs with friends\, old and new – all grounded in a Bible verse or story! We’ll probably even get messy. There will be opportunities for service events to care for people outside of our community as well. If you’re looking for something fun to do\, Wednesday Night is the place for you! We will meet from 5:30-6:00 PM. Depending on registration numbers\, we may split into two different age groups.
URL:https://standrewlu.org/event/shine-2025-26-15/
LOCATION:St. Andrew Lutheran Church
CATEGORIES:Children, Youth & Family,Elementary,Music,St. Andrew Lutheran Church
ATTACH;FMTTYPE=image/png:https://standrewlu.org/wp-content/uploads/2026/01/shine.png
END:VEVENT
BEGIN:VEVENT
DTSTART;TZID=Europe/Lisbon:20260506T190000
DTEND;TZID=Europe/Lisbon:20260506T193000
DTSTAMP:20260419T190434
CREATED:20260110T132047Z
LAST-MODIFIED:20260319T085942Z
UID:10000581-1778094000-1778095800@standrewlu.org
SUMMARY:Choir - Sonshine Singers 2025-2026
DESCRIPTION:Sonshine Singers is an exciting and energetic children’s choir for 1st–5th graders. Singers learn age-appropriate choral singing basics in a nurturing and fun environment. Kids will make new friends and have a blast with Jill Boyd. The choir sings during worship approximately once a month.
URL:https://standrewlu.org/event/choir-sonshine-singers-2025-2026-16/
LOCATION:St. Andrew Lutheran Church
CATEGORIES:Children, Youth & Family,Elementary,Music,St. Andrew Lutheran Church
ATTACH;FMTTYPE=image/jpeg:https://standrewlu.org/wp-content/uploads/2026/01/sonshine-singers.jpg
END:VEVENT
BEGIN:VEVENT
DTSTART;TZID=Europe/Lisbon:20260510T100000
DTEND;TZID=Europe/Lisbon:20260510T110000
DTSTAMP:20260419T190434
CREATED:20260406T160058Z
LAST-MODIFIED:20260406T160058Z
UID:10000592-1778407200-1778410800@standrewlu.org
SUMMARY:Sunday School 9 AM
DESCRIPTION:Children’s Ministry is for kids birth – 5th grade and friends. We embrace the teachings of Jesus when he calls us to Love God and Love Others!\nWe have opportunities for families and kids to connect\, learn\, play and grow in faith! All of our programming is intentionally crafted for kids to hear and experience the love of God and live out that faith in their daily lives.\nSunday School is offered during the 9:00 AM and 10:30 AM worship services on Sunday mornings for ages 3 years old to 5th grade. We have a staffed nursery for children ages 0-3 years old every Sunday.
URL:https://standrewlu.org/event/sunday-school-9-am-7/
LOCATION:St. Andrew Lutheran Church
CATEGORIES:Children,Children, Youth & Family,Elementary,St. Andrew Lutheran Church,Worship
ATTACH;FMTTYPE=image/png:https://standrewlu.org/wp-content/uploads/2026/01/St-Andrew-Kids-logo-.png
END:VEVENT
BEGIN:VEVENT
DTSTART;TZID=Europe/Lisbon:20260510T113000
DTEND;TZID=Europe/Lisbon:20260510T123000
DTSTAMP:20260419T190434
CREATED:20260406T160835Z
LAST-MODIFIED:20260406T160835Z
UID:10000595-1778412600-1778416200@standrewlu.org
SUMMARY:Sunday School 10:30 AM
DESCRIPTION:Children’s Ministry is for kids birth – 5th grade and friends. We embrace the teachings of Jesus when he calls us to Love God and Love Others!\nWe have opportunities for families and kids to connect\, learn\, play and grow in faith! All of our programming is intentionally crafted for kids to hear and experience the love of God and live out that faith in their daily lives.\nSunday School is offered during the 9:00 AM and 10:30 AM worship services on Sunday mornings for ages 3 years old to 5th grade. We have a staffed nursery for children ages 0-3 years old every Sunday.
URL:https://standrewlu.org/event/sunday-school-1030-am-7/
LOCATION:St. Andrew Lutheran Church
CATEGORIES:Children,Children, Youth & Family,Elementary,St. Andrew Lutheran Church,Worship
ATTACH;FMTTYPE=image/png:https://standrewlu.org/wp-content/uploads/2026/01/St-Andrew-Kids-logo-.png
END:VEVENT
BEGIN:VEVENT
DTSTART;TZID=Europe/Lisbon:20260513T183000
DTEND;TZID=Europe/Lisbon:20260513T190000
DTSTAMP:20260419T190434
CREATED:20260116T143400Z
LAST-MODIFIED:20260319T085943Z
UID:10000602-1778697000-1778698800@standrewlu.org
SUMMARY:Shine 2025-26
DESCRIPTION:Wednesday Nights for kids are centered around building community\, connection\, friendship and fellowship! Shine is a “youth group” for kids in 1st – 5th grade. We are going to play high energy games\, have creative competitions\, silly challenges and lots of laughs with friends\, old and new – all grounded in a Bible verse or story! We’ll probably even get messy. There will be opportunities for service events to care for people outside of our community as well. If you’re looking for something fun to do\, Wednesday Night is the place for you! We will meet from 5:30-6:00 PM. Depending on registration numbers\, we may split into two different age groups.
URL:https://standrewlu.org/event/shine-2025-26-16/
LOCATION:St. Andrew Lutheran Church
CATEGORIES:Children, Youth & Family,Elementary,Music,St. Andrew Lutheran Church
ATTACH;FMTTYPE=image/jpeg:https://standrewlu.org/wp-content/uploads/2025/12/Small-Group-MP-Event-Widget-Image.jpg
END:VEVENT
BEGIN:VEVENT
DTSTART;TZID=Europe/Lisbon:20260513T190000
DTEND;TZID=Europe/Lisbon:20260513T193000
DTSTAMP:20260419T190434
CREATED:20260110T132106Z
LAST-MODIFIED:20260319T085943Z
UID:10000610-1778698800-1778700600@standrewlu.org
SUMMARY:Choir - Sonshine Singers 2025-2026
DESCRIPTION:Sonshine Singers is an exciting and energetic children’s choir for 1st–5th graders. Singers learn age-appropriate choral singing basics in a nurturing and fun environment. Kids will make new friends and have a blast with Jill Boyd. The choir sings during worship approximately once a month.
URL:https://standrewlu.org/event/choir-sonshine-singers-2025-2026-17/
LOCATION:St. Andrew Lutheran Church
CATEGORIES:Children, Youth & Family,Elementary,Music,St. Andrew Lutheran Church
ATTACH;FMTTYPE=image/jpeg:https://standrewlu.org/wp-content/uploads/2026/01/sonshine-singers.jpg
END:VEVENT
BEGIN:VEVENT
DTSTART;TZID=Europe/Lisbon:20260517T100000
DTEND;TZID=Europe/Lisbon:20260517T110000
DTSTAMP:20260419T190434
CREATED:20260407T065443Z
LAST-MODIFIED:20260407T065443Z
UID:10000617-1779012000-1779015600@standrewlu.org
SUMMARY:Sunday School 9 AM
DESCRIPTION:Children’s Ministry is for kids birth – 5th grade and friends. We embrace the teachings of Jesus when he calls us to Love God and Love Others!\nWe have opportunities for families and kids to connect\, learn\, play and grow in faith! All of our programming is intentionally crafted for kids to hear and experience the love of God and live out that faith in their daily lives.\nSunday School is offered during the 9:00 AM and 10:30 AM worship services on Sunday mornings for ages 3 years old to 5th grade. We have a staffed nursery for children ages 0-3 years old every Sunday.
URL:https://standrewlu.org/event/sunday-school-9-am-8/
LOCATION:St. Andrew Lutheran Church
CATEGORIES:Children,Children, Youth & Family,Elementary,St. Andrew Lutheran Church,Worship
ATTACH;FMTTYPE=image/png:https://standrewlu.org/wp-content/uploads/2026/01/St-Andrew-Kids-logo-.png
END:VEVENT
BEGIN:VEVENT
DTSTART;TZID=Europe/Lisbon:20260517T113000
DTEND;TZID=Europe/Lisbon:20260517T123000
DTSTAMP:20260419T190434
CREATED:20260407T070251Z
LAST-MODIFIED:20260407T070251Z
UID:10000620-1779017400-1779021000@standrewlu.org
SUMMARY:Sunday School 10:30 AM
DESCRIPTION:Children’s Ministry is for kids birth – 5th grade and friends. We embrace the teachings of Jesus when he calls us to Love God and Love Others!\nWe have opportunities for families and kids to connect\, learn\, play and grow in faith! All of our programming is intentionally crafted for kids to hear and experience the love of God and live out that faith in their daily lives.\nSunday School is offered during the 9:00 AM and 10:30 AM worship services on Sunday mornings for ages 3 years old to 5th grade. We have a staffed nursery for children ages 0-3 years old every Sunday.
URL:https://standrewlu.org/event/sunday-school-1030-am-8/
LOCATION:St. Andrew Lutheran Church
CATEGORIES:Children,Children, Youth & Family,Elementary,St. Andrew Lutheran Church,Worship
ATTACH;FMTTYPE=image/png:https://standrewlu.org/wp-content/uploads/2026/01/St-Andrew-Kids-logo-.png
END:VEVENT
END:VCALENDAR