BEGIN:VCALENDAR
VERSION:2.0
PRODID:-//St. Andrew Lutheran Church - ECPv6.15.20//NONSGML v1.0//EN
CALSCALE:GREGORIAN
METHOD:PUBLISH
X-WR-CALNAME:St. Andrew Lutheran Church
X-ORIGINAL-URL:https://standrewlu.org
X-WR-CALDESC:Events for St. Andrew Lutheran Church
REFRESH-INTERVAL;VALUE=DURATION:PT1H
X-Robots-Tag:noindex
X-PUBLISHED-TTL:PT1H
BEGIN:VTIMEZONE
TZID:Europe/Dublin
BEGIN:DAYLIGHT
TZOFFSETFROM:+0000
TZOFFSETTO:+0100
TZNAME:IST
DTSTART:20240331T010000
END:DAYLIGHT
BEGIN:STANDARD
TZOFFSETFROM:+0100
TZOFFSETTO:+0000
TZNAME:GMT
DTSTART:20241027T010000
END:STANDARD
BEGIN:DAYLIGHT
TZOFFSETFROM:+0000
TZOFFSETTO:+0100
TZNAME:IST
DTSTART:20250330T010000
END:DAYLIGHT
BEGIN:STANDARD
TZOFFSETFROM:+0100
TZOFFSETTO:+0000
TZNAME:GMT
DTSTART:20251026T010000
END:STANDARD
BEGIN:DAYLIGHT
TZOFFSETFROM:+0000
TZOFFSETTO:+0100
TZNAME:IST
DTSTART:20260329T010000
END:DAYLIGHT
BEGIN:STANDARD
TZOFFSETFROM:+0100
TZOFFSETTO:+0000
TZNAME:GMT
DTSTART:20261025T010000
END:STANDARD
BEGIN:DAYLIGHT
TZOFFSETFROM:+0000
TZOFFSETTO:+0100
TZNAME:IST
DTSTART:20270328T010000
END:DAYLIGHT
BEGIN:STANDARD
TZOFFSETFROM:+0100
TZOFFSETTO:+0000
TZNAME:GMT
DTSTART:20271031T010000
END:STANDARD
END:VTIMEZONE
BEGIN:VEVENT
DTSTART;TZID=Europe/Dublin:20250914T100000
DTEND;TZID=Europe/Dublin:20260510T123000
DTSTAMP:20260419T190152
CREATED:20251230T063003Z
LAST-MODIFIED:20260319T085943Z
UID:10000593-1757844000-1778416200@standrewlu.org
SUMMARY:Sunday School Registration 2025 - 2026
DESCRIPTION:Sunday School starts on Sunday\, September 14\, 2025 and runs through Sunday\, May 10\, 2026. We offer Sunday School during both morning worship services – at 9:00 AM and 10:30 AM. Choose the hour that works best most of the time for your family!\nWhen you arrive at St. Andrew\, check your kids in\, then bring them to their classrooms for some welcome activities.\nRoom 204: 3 and 4 year-olds\nRoom 205: 5 year olds\, Kinder\, and 1st grade\nRoom 206: 2nd\, 3rd\, 4th\,5th grade\nAfter all kids have arrived\, classes will go to Room 206 for Faith Rocks – our large group worship time. After Faith Rocks\, kids will return to their classrooms for activities and check-out.
URL:https://standrewlu.org/event/sunday-school-registration-2025-2026/
LOCATION:St. Andrew Lutheran Church
CATEGORIES:Children,Children, Youth & Family,Elementary,Registration,St. Andrew Lutheran Church
ATTACH;FMTTYPE=image/jpeg:https://standrewlu.org/wp-content/uploads/2025/12/Sunday_School_Registration.jpg
ORGANIZER;CN="Arlene Flancher":MAILTO:aflancher@standrewlu.org
END:VEVENT
BEGIN:VEVENT
DTSTART;TZID=Europe/Dublin:20260408T183000
DTEND;TZID=Europe/Dublin:20260408T190000
DTSTAMP:20260419T190152
CREATED:20260110T132920Z
LAST-MODIFIED:20260319T085939Z
UID:10000504-1775673000-1775674800@standrewlu.org
SUMMARY:Choir - Starlight Singers 2025-2026
DESCRIPTION:Starlight Singers welcomes the youngest children with a variety of activities. Children 3-years–kindergarten sing\, dance\, make music\, and learn of Jesus’ love for them. Participate in worship approximately once per month\, as well as additional Wiggle & Worship services. Parents are always invited to attend.
URL:https://standrewlu.org/event/choir-starlight-singers-2025-2026-13/
LOCATION:St. Andrew Lutheran Church
CATEGORIES:Children,Children, Youth & Family,Music,St. Andrew Lutheran Church
ATTACH;FMTTYPE=image/jpeg:https://standrewlu.org/wp-content/uploads/2026/01/starlight-singers.jpg
END:VEVENT
BEGIN:VEVENT
DTSTART;TZID=Europe/Dublin:20260408T190500
DTEND;TZID=Europe/Dublin:20260408T193000
DTSTAMP:20260419T190152
CREATED:20260111T154642Z
LAST-MODIFIED:20260319T085939Z
UID:10000499-1775675100-1775676600@standrewlu.org
SUMMARY:Pray and Play 2025-26
DESCRIPTION:Kids from age 3 through Kindergarten are invited to join us from 6:00 – 6:30 PM (after Starlight Singers choir). We’ll meet the kids in Room 206 and take them to the gym for a story\, prayer\, and play time in the gym with the Children’s Ministry staff!
URL:https://standrewlu.org/event/pray-and-play-2025-26-11/
LOCATION:St. Andrew Lutheran Church
CATEGORIES:Children,Children, Youth & Family,St. Andrew Lutheran Church
ATTACH;FMTTYPE=image/png:https://standrewlu.org/wp-content/uploads/2026/01/St-Andrew-Kids-logo-.png
END:VEVENT
BEGIN:VEVENT
DTSTART;TZID=Europe/Dublin:20260412T100000
DTEND;TZID=Europe/Dublin:20260412T110000
DTSTAMP:20260419T190152
CREATED:20260324T144049Z
LAST-MODIFIED:20260324T144049Z
UID:10000513-1775988000-1775991600@standrewlu.org
SUMMARY:Sunday School 9 AM
DESCRIPTION:Children’s Ministry is for kids birth – 5th grade and friends. We embrace the teachings of Jesus when he calls us to Love God and Love Others!\nWe have opportunities for families and kids to connect\, learn\, play and grow in faith! All of our programming is intentionally crafted for kids to hear and experience the love of God and live out that faith in their daily lives.\nSunday School is offered during the 9:00 AM and 10:30 AM worship services on Sunday mornings for ages 3 years old to 5th grade. We have a staffed nursery for children ages 0-3 years old every Sunday.
URL:https://standrewlu.org/event/sunday-school-9-am-3/
LOCATION:St. Andrew Lutheran Church
CATEGORIES:Children,Children, Youth & Family,Elementary,St. Andrew Lutheran Church,Worship
ATTACH;FMTTYPE=image/png:https://standrewlu.org/wp-content/uploads/2026/01/St-Andrew-Kids-logo-.png
END:VEVENT
BEGIN:VEVENT
DTSTART;TZID=Europe/Dublin:20260412T113000
DTEND;TZID=Europe/Dublin:20260412T123000
DTSTAMP:20260419T190152
CREATED:20260324T144825Z
LAST-MODIFIED:20260324T144825Z
UID:10000514-1775993400-1775997000@standrewlu.org
SUMMARY:Sunday School 10:30 AM
DESCRIPTION:Children’s Ministry is for kids birth – 5th grade and friends. We embrace the teachings of Jesus when he calls us to Love God and Love Others!\nWe have opportunities for families and kids to connect\, learn\, play and grow in faith! All of our programming is intentionally crafted for kids to hear and experience the love of God and live out that faith in their daily lives.\nSunday School is offered during the 9:00 AM and 10:30 AM worship services on Sunday mornings for ages 3 years old to 5th grade. We have a staffed nursery for children ages 0-3 years old every Sunday.
URL:https://standrewlu.org/event/sunday-school-1030-am-3/
LOCATION:St. Andrew Lutheran Church
CATEGORIES:Children,Children, Youth & Family,Elementary,St. Andrew Lutheran Church,Worship
ATTACH;FMTTYPE=image/png:https://standrewlu.org/wp-content/uploads/2026/01/St-Andrew-Kids-logo-.png
END:VEVENT
BEGIN:VEVENT
DTSTART;TZID=Europe/Dublin:20260415T183000
DTEND;TZID=Europe/Dublin:20260415T190000
DTSTAMP:20260419T190152
CREATED:20260110T132949Z
LAST-MODIFIED:20260319T085940Z
UID:10000526-1776277800-1776279600@standrewlu.org
SUMMARY:Choir - Starlight Singers 2025-2026
DESCRIPTION:Starlight Singers welcomes the youngest children with a variety of activities. Children 3-years–kindergarten sing\, dance\, make music\, and learn of Jesus’ love for them. Participate in worship approximately once per month\, as well as additional Wiggle & Worship services. Parents are always invited to attend.
URL:https://standrewlu.org/event/choir-starlight-singers-2025-2026-14/
LOCATION:St. Andrew Lutheran Church
CATEGORIES:Children,Children, Youth & Family,Music,St. Andrew Lutheran Church
ATTACH;FMTTYPE=image/jpeg:https://standrewlu.org/wp-content/uploads/2026/01/starlight-singers.jpg
END:VEVENT
BEGIN:VEVENT
DTSTART;TZID=Europe/Dublin:20260415T190500
DTEND;TZID=Europe/Dublin:20260415T193000
DTSTAMP:20260419T190152
CREATED:20260111T154703Z
LAST-MODIFIED:20260319T085940Z
UID:10000523-1776279900-1776281400@standrewlu.org
SUMMARY:Pray and Play 2025-26
DESCRIPTION:Kids from age 3 through Kindergarten are invited to join us from 6:00 – 6:30 PM (after Starlight Singers choir). We’ll meet the kids in Room 206 and take them to the gym for a story\, prayer\, and play time in the gym with the Children’s Ministry staff!
URL:https://standrewlu.org/event/pray-and-play-2025-26-12/
LOCATION:St. Andrew Lutheran Church
CATEGORIES:Children,Children, Youth & Family,St. Andrew Lutheran Church
ATTACH;FMTTYPE=image/png:https://standrewlu.org/wp-content/uploads/2026/01/St-Andrew-Kids-logo-.png
END:VEVENT
BEGIN:VEVENT
DTSTART;TZID=Europe/Dublin:20260419T100000
DTEND;TZID=Europe/Dublin:20260419T110000
DTSTAMP:20260419T190152
CREATED:20260406T080143Z
LAST-MODIFIED:20260406T080143Z
UID:10000532-1776592800-1776596400@standrewlu.org
SUMMARY:Sunday School 9 AM
DESCRIPTION:Children’s Ministry is for kids birth – 5th grade and friends. We embrace the teachings of Jesus when he calls us to Love God and Love Others!\nWe have opportunities for families and kids to connect\, learn\, play and grow in faith! All of our programming is intentionally crafted for kids to hear and experience the love of God and live out that faith in their daily lives.\nSunday School is offered during the 9:00 AM and 10:30 AM worship services on Sunday mornings for ages 3 years old to 5th grade. We have a staffed nursery for children ages 0-3 years old every Sunday.
URL:https://standrewlu.org/event/sunday-school-9-am-5/
LOCATION:St. Andrew Lutheran Church
CATEGORIES:Children,Children, Youth & Family,Elementary,St. Andrew Lutheran Church,Worship
ATTACH;FMTTYPE=image/png:https://standrewlu.org/wp-content/uploads/2026/01/St-Andrew-Kids-logo-.png
END:VEVENT
BEGIN:VEVENT
DTSTART;TZID=Europe/Dublin:20260419T113000
DTEND;TZID=Europe/Dublin:20260419T123000
DTSTAMP:20260419T190152
CREATED:20260402T134625Z
LAST-MODIFIED:20260402T134625Z
UID:10000533-1776598200-1776601800@standrewlu.org
SUMMARY:Sunday School 10:30 AM
DESCRIPTION:Children’s Ministry is for kids birth – 5th grade and friends. We embrace the teachings of Jesus when he calls us to Love God and Love Others!\nWe have opportunities for families and kids to connect\, learn\, play and grow in faith! All of our programming is intentionally crafted for kids to hear and experience the love of God and live out that faith in their daily lives.\nSunday School is offered during the 9:00 AM and 10:30 AM worship services on Sunday mornings for ages 3 years old to 5th grade. We have a staffed nursery for children ages 0-3 years old every Sunday.
URL:https://standrewlu.org/event/sunday-school-1030-am-4/
LOCATION:St. Andrew Lutheran Church
CATEGORIES:Children,Children, Youth & Family,Elementary,St. Andrew Lutheran Church,Worship
ATTACH;FMTTYPE=image/png:https://standrewlu.org/wp-content/uploads/2026/01/St-Andrew-Kids-logo-.png
END:VEVENT
BEGIN:VEVENT
DTSTART;TZID=Europe/Dublin:20260422T183000
DTEND;TZID=Europe/Dublin:20260422T190000
DTSTAMP:20260419T190152
CREATED:20260110T133021Z
LAST-MODIFIED:20260319T085941Z
UID:10000545-1776882600-1776884400@standrewlu.org
SUMMARY:Choir - Starlight Singers 2025-2026
DESCRIPTION:Starlight Singers welcomes the youngest children with a variety of activities. Children 3-years–kindergarten sing\, dance\, make music\, and learn of Jesus’ love for them. Participate in worship approximately once per month\, as well as additional Wiggle & Worship services. Parents are always invited to attend.
URL:https://standrewlu.org/event/choir-starlight-singers-2025-2026-15/
LOCATION:St. Andrew Lutheran Church
CATEGORIES:Children,Children, Youth & Family,Music,St. Andrew Lutheran Church
ATTACH;FMTTYPE=image/jpeg:https://standrewlu.org/wp-content/uploads/2026/01/starlight-singers.jpg
END:VEVENT
BEGIN:VEVENT
DTSTART;TZID=Europe/Dublin:20260422T190500
DTEND;TZID=Europe/Dublin:20260422T193000
DTSTAMP:20260419T190152
CREATED:20260111T154723Z
LAST-MODIFIED:20260319T085941Z
UID:10000540-1776884700-1776886200@standrewlu.org
SUMMARY:Pray and Play 2025-26
DESCRIPTION:Kids from age 3 through Kindergarten are invited to join us from 6:00 – 6:30 PM (after Starlight Singers choir). We’ll meet the kids in Room 206 and take them to the gym for a story\, prayer\, and play time in the gym with the Children’s Ministry staff!
URL:https://standrewlu.org/event/pray-and-play-2025-26-13/
LOCATION:St. Andrew Lutheran Church
CATEGORIES:Children,Children, Youth & Family,St. Andrew Lutheran Church
ATTACH;FMTTYPE=image/png:https://standrewlu.org/wp-content/uploads/2026/01/St-Andrew-Kids-logo-.png
END:VEVENT
BEGIN:VEVENT
DTSTART;TZID=Europe/Dublin:20260426T100000
DTEND;TZID=Europe/Dublin:20260426T110000
DTSTAMP:20260419T190152
CREATED:20260402T140530Z
LAST-MODIFIED:20260402T140530Z
UID:10000550-1777197600-1777201200@standrewlu.org
SUMMARY:Sunday School 9 AM
DESCRIPTION:Children’s Ministry is for kids birth – 5th grade and friends. We embrace the teachings of Jesus when he calls us to Love God and Love Others!\nWe have opportunities for families and kids to connect\, learn\, play and grow in faith! All of our programming is intentionally crafted for kids to hear and experience the love of God and live out that faith in their daily lives.\nSunday School is offered during the 9:00 AM and 10:30 AM worship services on Sunday mornings for ages 3 years old to 5th grade. We have a staffed nursery for children ages 0-3 years old every Sunday.
URL:https://standrewlu.org/event/sunday-school-9-am-4/
LOCATION:St. Andrew Lutheran Church
CATEGORIES:Children,Children, Youth & Family,Elementary,St. Andrew Lutheran Church,Worship
ATTACH;FMTTYPE=image/png:https://standrewlu.org/wp-content/uploads/2026/01/St-Andrew-Kids-logo-.png
END:VEVENT
BEGIN:VEVENT
DTSTART;TZID=Europe/Dublin:20260426T113000
DTEND;TZID=Europe/Dublin:20260426T123000
DTSTAMP:20260419T190152
CREATED:20260406T080908Z
LAST-MODIFIED:20260406T080908Z
UID:10000551-1777203000-1777206600@standrewlu.org
SUMMARY:Sunday School 10:30 AM
DESCRIPTION:Children’s Ministry is for kids birth – 5th grade and friends. We embrace the teachings of Jesus when he calls us to Love God and Love Others!\nWe have opportunities for families and kids to connect\, learn\, play and grow in faith! All of our programming is intentionally crafted for kids to hear and experience the love of God and live out that faith in their daily lives.\nSunday School is offered during the 9:00 AM and 10:30 AM worship services on Sunday mornings for ages 3 years old to 5th grade. We have a staffed nursery for children ages 0-3 years old every Sunday.
URL:https://standrewlu.org/event/sunday-school-1030-am-5/
LOCATION:St. Andrew Lutheran Church
CATEGORIES:Children,Children, Youth & Family,Elementary,St. Andrew Lutheran Church,Worship
ATTACH;FMTTYPE=image/png:https://standrewlu.org/wp-content/uploads/2026/01/St-Andrew-Kids-logo-.png
END:VEVENT
BEGIN:VEVENT
DTSTART;TZID=Europe/Dublin:20260429T183000
DTEND;TZID=Europe/Dublin:20260429T190000
DTSTAMP:20260419T190152
CREATED:20260110T133047Z
LAST-MODIFIED:20260319T085941Z
UID:10000563-1777487400-1777489200@standrewlu.org
SUMMARY:Choir - Starlight Singers 2025-2026
DESCRIPTION:Starlight Singers welcomes the youngest children with a variety of activities. Children 3-years–kindergarten sing\, dance\, make music\, and learn of Jesus’ love for them. Participate in worship approximately once per month\, as well as additional Wiggle & Worship services. Parents are always invited to attend.
URL:https://standrewlu.org/event/choir-starlight-singers-2025-2026-16/
LOCATION:St. Andrew Lutheran Church
CATEGORIES:Children,Children, Youth & Family,Music,St. Andrew Lutheran Church
ATTACH;FMTTYPE=image/jpeg:https://standrewlu.org/wp-content/uploads/2026/01/starlight-singers.jpg
END:VEVENT
BEGIN:VEVENT
DTSTART;TZID=Europe/Dublin:20260429T190500
DTEND;TZID=Europe/Dublin:20260429T193000
DTSTAMP:20260419T190152
CREATED:20260111T154741Z
LAST-MODIFIED:20260319T085942Z
UID:10000559-1777489500-1777491000@standrewlu.org
SUMMARY:Pray and Play 2025-26
DESCRIPTION:Kids from age 3 through Kindergarten are invited to join us from 6:00 – 6:30 PM (after Starlight Singers choir). We’ll meet the kids in Room 206 and take them to the gym for a story\, prayer\, and play time in the gym with the Children’s Ministry staff!
URL:https://standrewlu.org/event/pray-and-play-2025-26-14/
LOCATION:St. Andrew Lutheran Church
CATEGORIES:Children,Children, Youth & Family,St. Andrew Lutheran Church
ATTACH;FMTTYPE=image/png:https://standrewlu.org/wp-content/uploads/2026/01/St-Andrew-Kids-logo-.png
END:VEVENT
BEGIN:VEVENT
DTSTART;TZID=Europe/Dublin:20260503T100000
DTEND;TZID=Europe/Dublin:20260503T110000
DTSTAMP:20260419T190152
CREATED:20260406T144101Z
LAST-MODIFIED:20260406T144101Z
UID:10000569-1777802400-1777806000@standrewlu.org
SUMMARY:Sunday School 9 AM
DESCRIPTION:Children’s Ministry is for kids birth – 5th grade and friends. We embrace the teachings of Jesus when he calls us to Love God and Love Others!\nWe have opportunities for families and kids to connect\, learn\, play and grow in faith! All of our programming is intentionally crafted for kids to hear and experience the love of God and live out that faith in their daily lives.\nSunday School is offered during the 9:00 AM and 10:30 AM worship services on Sunday mornings for ages 3 years old to 5th grade. We have a staffed nursery for children ages 0-3 years old every Sunday.
URL:https://standrewlu.org/event/sunday-school-9-am-6/
LOCATION:St. Andrew Lutheran Church
CATEGORIES:Children,Children, Youth & Family,Elementary,St. Andrew Lutheran Church,Worship
ATTACH;FMTTYPE=image/png:https://standrewlu.org/wp-content/uploads/2026/01/St-Andrew-Kids-logo-.png
END:VEVENT
BEGIN:VEVENT
DTSTART;TZID=Europe/Dublin:20260503T113000
DTEND;TZID=Europe/Dublin:20260503T123000
DTSTAMP:20260419T190152
CREATED:20260406T154926Z
LAST-MODIFIED:20260406T154926Z
UID:10000572-1777807800-1777811400@standrewlu.org
SUMMARY:Sunday School 10:30 AM
DESCRIPTION:Children’s Ministry is for kids birth – 5th grade and friends. We embrace the teachings of Jesus when he calls us to Love God and Love Others!\nWe have opportunities for families and kids to connect\, learn\, play and grow in faith! All of our programming is intentionally crafted for kids to hear and experience the love of God and live out that faith in their daily lives.\nSunday School is offered during the 9:00 AM and 10:30 AM worship services on Sunday mornings for ages 3 years old to 5th grade. We have a staffed nursery for children ages 0-3 years old every Sunday.
URL:https://standrewlu.org/event/sunday-school-1030-am-6/
LOCATION:St. Andrew Lutheran Church
CATEGORIES:Children,Children, Youth & Family,Elementary,St. Andrew Lutheran Church,Worship
ATTACH;FMTTYPE=image/png:https://standrewlu.org/wp-content/uploads/2026/01/St-Andrew-Kids-logo-.png
END:VEVENT
BEGIN:VEVENT
DTSTART;TZID=Europe/Dublin:20260506T183000
DTEND;TZID=Europe/Dublin:20260506T190000
DTSTAMP:20260419T190152
CREATED:20260110T133128Z
LAST-MODIFIED:20260319T085943Z
UID:10000579-1778092200-1778094000@standrewlu.org
SUMMARY:Choir - Starlight Singers 2025-2026
DESCRIPTION:Starlight Singers welcomes the youngest children with a variety of activities. Children 3-years–kindergarten sing\, dance\, make music\, and learn of Jesus’ love for them. Participate in worship approximately once per month\, as well as additional Wiggle & Worship services. Parents are always invited to attend.
URL:https://standrewlu.org/event/choir-starlight-singers-2025-2026-17/
LOCATION:St. Andrew Lutheran Church
CATEGORIES:Children,Children, Youth & Family,Music,St. Andrew Lutheran Church
ATTACH;FMTTYPE=image/jpeg:https://standrewlu.org/wp-content/uploads/2026/01/starlight-singers.jpg
END:VEVENT
BEGIN:VEVENT
DTSTART;TZID=Europe/Dublin:20260506T190500
DTEND;TZID=Europe/Dublin:20260506T193000
DTSTAMP:20260419T190152
CREATED:20260111T154800Z
LAST-MODIFIED:20260319T085942Z
UID:10000582-1778094300-1778095800@standrewlu.org
SUMMARY:Pray and Play 2025-26
DESCRIPTION:Kids from age 3 through Kindergarten are invited to join us from 6:00 – 6:30 PM (after Starlight Singers choir). We’ll meet the kids in Room 206 and take them to the gym for a story\, prayer\, and play time in the gym with the Children’s Ministry staff!
URL:https://standrewlu.org/event/pray-and-play-2025-26-15/
LOCATION:St. Andrew Lutheran Church
CATEGORIES:Children,Children, Youth & Family,St. Andrew Lutheran Church
ATTACH;FMTTYPE=image/png:https://standrewlu.org/wp-content/uploads/2026/01/St-Andrew-Kids-logo-.png
END:VEVENT
BEGIN:VEVENT
DTSTART;TZID=Europe/Dublin:20260510T100000
DTEND;TZID=Europe/Dublin:20260510T110000
DTSTAMP:20260419T190152
CREATED:20260406T160058Z
LAST-MODIFIED:20260406T160058Z
UID:10000592-1778407200-1778410800@standrewlu.org
SUMMARY:Sunday School 9 AM
DESCRIPTION:Children’s Ministry is for kids birth – 5th grade and friends. We embrace the teachings of Jesus when he calls us to Love God and Love Others!\nWe have opportunities for families and kids to connect\, learn\, play and grow in faith! All of our programming is intentionally crafted for kids to hear and experience the love of God and live out that faith in their daily lives.\nSunday School is offered during the 9:00 AM and 10:30 AM worship services on Sunday mornings for ages 3 years old to 5th grade. We have a staffed nursery for children ages 0-3 years old every Sunday.
URL:https://standrewlu.org/event/sunday-school-9-am-7/
LOCATION:St. Andrew Lutheran Church
CATEGORIES:Children,Children, Youth & Family,Elementary,St. Andrew Lutheran Church,Worship
ATTACH;FMTTYPE=image/png:https://standrewlu.org/wp-content/uploads/2026/01/St-Andrew-Kids-logo-.png
END:VEVENT
BEGIN:VEVENT
DTSTART;TZID=Europe/Dublin:20260510T113000
DTEND;TZID=Europe/Dublin:20260510T123000
DTSTAMP:20260419T190152
CREATED:20260406T160835Z
LAST-MODIFIED:20260406T160835Z
UID:10000595-1778412600-1778416200@standrewlu.org
SUMMARY:Sunday School 10:30 AM
DESCRIPTION:Children’s Ministry is for kids birth – 5th grade and friends. We embrace the teachings of Jesus when he calls us to Love God and Love Others!\nWe have opportunities for families and kids to connect\, learn\, play and grow in faith! All of our programming is intentionally crafted for kids to hear and experience the love of God and live out that faith in their daily lives.\nSunday School is offered during the 9:00 AM and 10:30 AM worship services on Sunday mornings for ages 3 years old to 5th grade. We have a staffed nursery for children ages 0-3 years old every Sunday.
URL:https://standrewlu.org/event/sunday-school-1030-am-7/
LOCATION:St. Andrew Lutheran Church
CATEGORIES:Children,Children, Youth & Family,Elementary,St. Andrew Lutheran Church,Worship
ATTACH;FMTTYPE=image/png:https://standrewlu.org/wp-content/uploads/2026/01/St-Andrew-Kids-logo-.png
END:VEVENT
BEGIN:VEVENT
DTSTART;TZID=Europe/Dublin:20260513T183000
DTEND;TZID=Europe/Dublin:20260513T190000
DTSTAMP:20260419T190152
CREATED:20260110T133151Z
LAST-MODIFIED:20260319T085943Z
UID:10000601-1778697000-1778698800@standrewlu.org
SUMMARY:Choir - Starlight Singers 2025-2026
DESCRIPTION:Starlight Singers welcomes the youngest children with a variety of activities. Children 3-years–kindergarten sing\, dance\, make music\, and learn of Jesus’ love for them. Participate in worship approximately once per month\, as well as additional Wiggle u0026amp; Worship services. Parents are always invited to attend. \n\n\nu003c?phpn$mp_reg_url = get_post_meta( get_the_ID()\, '_mp_registration_url'\, true );nif ( $mp_reg_url ) :n?u003ennu003cdiv style=u0022text-align:center; margin: 2rem 0;u0022u003en    u003cbuttonn        onclick=u0022document.getElementById('mp-modal').style.display='flex'u0022n        style=u0022n            background-color: #0073aa;n            color: #fff;n            border: none;n            padding: 14px 32px;n            border-radius: 4px;n            font-size: 1.1rem;n            font-weight: 600;n            cursor: pointer;n        u0022u003en        Register for This Eventn    u003c/buttonu003enu003c/divu003ennu003c!u002du002d Modal Overlay u002du002du003enu003cdiv id=u0022mp-modalu0022 style=u0022n    display: none;n    position: fixed;n    top: 0; left: 0;n    width: 100%; height: 100%;n    background: rgba(0\,0\,0\,0.7);n    z-index: 99999;n    align-items: center;n    justify-content: center;nu0022u003en    u003cdiv style=u0022n        background: #fff;n        width: 90%;n        max-width: 860px;n        height: 80vh;n        border-radius: 8px;n        overflow: hidden;n        position: relative;n        display: flex;n        flex-direction: column;n    u0022u003en        u003c!u002du002d Modal Header u002du002du003en        u003cdiv style=u0022n            display: flex;n            justify-content: space-between;n            align-items: center;n            padding: 12px 20px;n            background: #f5f5f5;n            border-bottom: 1px solid #ddd;n        u0022u003en            u003cstrongu003eEvent Registrationu003c/strongu003en            u003cbuttonn                onclick=u0022document.getElementById('mp-modal').style.display='none'u0022n                style=u0022n                    background: none;n                    border: none;n                    font-size: 1.4rem;n                    cursor: pointer;n                    color: #555;n                    line-height: 1;n                u0022n                aria-label=u0022Close registrationu0022u003en                u0026times;n            u003c/buttonu003en        u003c/divu003enn        u003c!u002du002d iframe u002du002du003en        u003ciframen            src=u0022u003c?php echo esc_url( $mp_reg_url ); ?u003eu0022n            style=u0022flex:1; width:100%; border:none;u0022n            title=u0022Event Registrationu0022u003en        u003c/iframeu003en    u003c/divu003enu003c/divu003ennu003c!u002du002d Close modal on overlay click u002du002du003enu003cscriptu003endocument.getElementById('mp-modal').addEventListener('click'\, function(e) {n    if (e.target === this) this.style.display = 'none';n});nu003c/scriptu003ennu003c?php endif; ?u003en
URL:https://standrewlu.org/event/choir-starlight-singers-2025-2026-18/
LOCATION:St. Andrew Lutheran Church
CATEGORIES:Children,Children, Youth & Family,Music,St. Andrew Lutheran Church
ATTACH;FMTTYPE=image/jpeg:https://standrewlu.org/wp-content/uploads/2026/01/starlight-singers.jpg
END:VEVENT
BEGIN:VEVENT
DTSTART;TZID=Europe/Dublin:20260513T190500
DTEND;TZID=Europe/Dublin:20260513T193000
DTSTAMP:20260419T190152
CREATED:20260111T154818Z
LAST-MODIFIED:20260319T085943Z
UID:10000603-1778699100-1778700600@standrewlu.org
SUMMARY:Pray and Play 2025-26
DESCRIPTION:Kids from age 3 through Kindergarten are invited to join us from 6:00 – 6:30 PM (after Starlight Singers choir). We’ll meet the kids in Room 206 and take them to the gym for a story\, prayer\, and play time in the gym with the Children’s Ministry staff!
URL:https://standrewlu.org/event/pray-and-play-2025-26-16/
LOCATION:St. Andrew Lutheran Church
CATEGORIES:Children,Children, Youth & Family,St. Andrew Lutheran Church
ATTACH;FMTTYPE=image/png:https://standrewlu.org/wp-content/uploads/2026/01/St-Andrew-Kids-logo-.png
END:VEVENT
BEGIN:VEVENT
DTSTART;TZID=Europe/Dublin:20260517T100000
DTEND;TZID=Europe/Dublin:20260517T110000
DTSTAMP:20260419T190152
CREATED:20260407T065443Z
LAST-MODIFIED:20260407T065443Z
UID:10000617-1779012000-1779015600@standrewlu.org
SUMMARY:Sunday School 9 AM
DESCRIPTION:Children’s Ministry is for kids birth – 5th grade and friends. We embrace the teachings of Jesus when he calls us to Love God and Love Others!\nWe have opportunities for families and kids to connect\, learn\, play and grow in faith! All of our programming is intentionally crafted for kids to hear and experience the love of God and live out that faith in their daily lives.\nSunday School is offered during the 9:00 AM and 10:30 AM worship services on Sunday mornings for ages 3 years old to 5th grade. We have a staffed nursery for children ages 0-3 years old every Sunday.
URL:https://standrewlu.org/event/sunday-school-9-am-8/
LOCATION:St. Andrew Lutheran Church
CATEGORIES:Children,Children, Youth & Family,Elementary,St. Andrew Lutheran Church,Worship
ATTACH;FMTTYPE=image/png:https://standrewlu.org/wp-content/uploads/2026/01/St-Andrew-Kids-logo-.png
END:VEVENT
BEGIN:VEVENT
DTSTART;TZID=Europe/Dublin:20260517T113000
DTEND;TZID=Europe/Dublin:20260517T123000
DTSTAMP:20260419T190152
CREATED:20260407T070251Z
LAST-MODIFIED:20260407T070251Z
UID:10000620-1779017400-1779021000@standrewlu.org
SUMMARY:Sunday School 10:30 AM
DESCRIPTION:Children’s Ministry is for kids birth – 5th grade and friends. We embrace the teachings of Jesus when he calls us to Love God and Love Others!\nWe have opportunities for families and kids to connect\, learn\, play and grow in faith! All of our programming is intentionally crafted for kids to hear and experience the love of God and live out that faith in their daily lives.\nSunday School is offered during the 9:00 AM and 10:30 AM worship services on Sunday mornings for ages 3 years old to 5th grade. We have a staffed nursery for children ages 0-3 years old every Sunday.
URL:https://standrewlu.org/event/sunday-school-1030-am-8/
LOCATION:St. Andrew Lutheran Church
CATEGORIES:Children,Children, Youth & Family,Elementary,St. Andrew Lutheran Church,Worship
ATTACH;FMTTYPE=image/png:https://standrewlu.org/wp-content/uploads/2026/01/St-Andrew-Kids-logo-.png
END:VEVENT
END:VCALENDAR