BEGIN:VCALENDAR
VERSION:2.0
PRODID:-//St. Andrew Lutheran Church - ECPv6.15.20//NONSGML v1.0//EN
CALSCALE:GREGORIAN
METHOD:PUBLISH
X-WR-CALNAME:St. Andrew Lutheran Church
X-ORIGINAL-URL:https://standrewlu.org
X-WR-CALDESC:Events for St. Andrew Lutheran Church
REFRESH-INTERVAL;VALUE=DURATION:PT1H
X-Robots-Tag:noindex
X-PUBLISHED-TTL:PT1H
BEGIN:VTIMEZONE
TZID:UTC
BEGIN:STANDARD
TZOFFSETFROM:+0000
TZOFFSETTO:+0000
TZNAME:UTC
DTSTART:20250101T000000
END:STANDARD
END:VTIMEZONE
BEGIN:VEVENT
DTSTART;TZID=UTC:20260408T174500
DTEND;TZID=UTC:20260408T182500
DTSTAMP:20260419T181021
CREATED:20260110T124017Z
LAST-MODIFIED:20260319T085939Z
UID:10000501-1775670300-1775672700@standrewlu.org
SUMMARY:Bell Choir - Peace Ringers 2025-2026
DESCRIPTION:In Peace Ringers\, 6th–12th graders will focus on learning and refining their handbell technique and musicianship while having a great time together! We play in worship several times throughout the year\, and we may do one performance out in the community through the year. No experience is necessary\, everyone is welcome!
URL:https://standrewlu.org/event/bell-choir-peace-ringers-2025-2026-13/
LOCATION:St. Andrew Lutheran Church
CATEGORIES:Children, Youth & Family,High School,Middle School,Music,St. Andrew Lutheran Church
ATTACH;FMTTYPE=image/jpeg:https://standrewlu.org/wp-content/uploads/2026/01/peace-ringers.jpg
END:VEVENT
BEGIN:VEVENT
DTSTART;TZID=UTC:20260408T173000
DTEND;TZID=UTC:20260408T180000
DTSTAMP:20260419T181021
CREATED:20260116T143132Z
LAST-MODIFIED:20260319T085939Z
UID:10000503-1775669400-1775671200@standrewlu.org
SUMMARY:Shine 2025-26
DESCRIPTION:Wednesday Nights for kids are centered around building community\, connection\, friendship and fellowship! Shine is a “youth group” for kids in 1st – 5th grade. We are going to play high energy games\, have creative competitions\, silly challenges and lots of laughs with friends\, old and new – all grounded in a Bible verse or story! We’ll probably even get messy. There will be opportunities for service events to care for people outside of our community as well. If you’re looking for something fun to do\, Wednesday Night is the place for you! We will meet from 5:30-6:00 PM. Depending on registration numbers\, we may split into two different age groups.
URL:https://standrewlu.org/event/shine-2025-26-11/
LOCATION:St. Andrew Lutheran Church
CATEGORIES:Children, Youth & Family,Elementary,Music,St. Andrew Lutheran Church
ATTACH;FMTTYPE=image/png:https://standrewlu.org/wp-content/uploads/2026/01/shine.png
END:VEVENT
BEGIN:VEVENT
DTSTART;TZID=UTC:20260408T173000
DTEND;TZID=UTC:20260408T180000
DTSTAMP:20260419T181021
CREATED:20260110T132920Z
LAST-MODIFIED:20260319T085939Z
UID:10000504-1775669400-1775671200@standrewlu.org
SUMMARY:Choir - Starlight Singers 2025-2026
DESCRIPTION:Starlight Singers welcomes the youngest children with a variety of activities. Children 3-years–kindergarten sing\, dance\, make music\, and learn of Jesus’ love for them. Participate in worship approximately once per month\, as well as additional Wiggle & Worship services. Parents are always invited to attend.
URL:https://standrewlu.org/event/choir-starlight-singers-2025-2026-13/
LOCATION:St. Andrew Lutheran Church
CATEGORIES:Children,Children, Youth & Family,Music,St. Andrew Lutheran Church
ATTACH;FMTTYPE=image/jpeg:https://standrewlu.org/wp-content/uploads/2026/01/starlight-singers.jpg
END:VEVENT
BEGIN:VEVENT
DTSTART;TZID=UTC:20260408T170000
DTEND;TZID=UTC:20260408T173000
DTSTAMP:20260419T181021
CREATED:20260110T125113Z
LAST-MODIFIED:20260319T085939Z
UID:10000497-1775667600-1775669400@standrewlu.org
SUMMARY:Bell Choir - Ring of Fire 2025-2026
DESCRIPTION:Ring of Fire is a great opportunity for 4th-6th graders to learn the basics of handbell ringing\, grow as a musician and make new friends in a supportive atmosphere! We play in worship several times throughout the year. No prior experience ringing handbells is necessary\, everyone is welcome!
URL:https://standrewlu.org/event/bell-choir-ring-of-fire-2025-2026-13/
LOCATION:St. Andrew Lutheran Church
CATEGORIES:Children, Youth & Family,Middle School,Music,St. Andrew Lutheran Church
ATTACH;FMTTYPE=image/jpeg:https://standrewlu.org/wp-content/uploads/2025/11/MP-Images28-1.jpg
END:VEVENT
BEGIN:VEVENT
DTSTART;TZID=UTC:20260408T164500
DTEND;TZID=UTC:20260408T183000
DTSTAMP:20260419T181021
CREATED:20260324T142809Z
LAST-MODIFIED:20260324T142809Z
UID:10000900-1775666700-1775673000@standrewlu.org
SUMMARY:Wednesday Night Dinner
DESCRIPTION:Menu:  walking tacos\nSmall Portion: $6\nLarge Portion: $9\nIncluded in the Small $6:\nMain Course\nFruit and Salad\nDessert\n(Large $9 includes a double portion of the Main course.)\nCash\, checks\, credit cards\, and digital pay are accepted.\nAll are welcome to Wednesday Night Dinner.
URL:https://standrewlu.org/event/wednesday-night-dinner/
LOCATION:St. Andrew Lutheran Church
CATEGORIES:Adult,Children, Youth & Family,St. Andrew Lutheran Church,Young Adult
ATTACH;FMTTYPE=image/png:https://standrewlu.org/wp-content/uploads/2026/03/Food.png
END:VEVENT
BEGIN:VEVENT
DTSTART;TZID=UTC:20260407T180000
DTEND;TZID=UTC:20260407T191500
DTSTAMP:20260419T181021
CREATED:20260110T120017Z
LAST-MODIFIED:20260319T085938Z
UID:10000687-1775584800-1775589300@standrewlu.org
SUMMARY:Basketball (16 yrs +)
DESCRIPTION:Join members and friends of St. Andrew for a friendly game of basketball and fellowship in the St. Andrew gym. Men and women are welcome. It is a great way to stay in shape\, meet some new people\, and bond over a shared interest in the sport. If interested\, contact Mark Domyahn at mdomyahn@gmail.com so that he can be in touch with you.
URL:https://standrewlu.org/event/basketball-16-yrs-16/
LOCATION:St. Andrew Lutheran Church
CATEGORIES:Adult,Children, Youth & Family,High School,Mixed Groups,St. Andrew Lutheran Church,Young Adult
END:VEVENT
END:VCALENDAR