BEGIN:VCALENDAR
VERSION:2.0
PRODID:-//St. Andrew Lutheran Church - ECPv6.15.20//NONSGML v1.0//EN
CALSCALE:GREGORIAN
METHOD:PUBLISH
X-ORIGINAL-URL:https://standrewlu.org
X-WR-CALDESC:Events for St. Andrew Lutheran Church
REFRESH-INTERVAL;VALUE=DURATION:PT1H
X-Robots-Tag:noindex
X-PUBLISHED-TTL:PT1H
BEGIN:VTIMEZONE
TZID:UTC
BEGIN:STANDARD
TZOFFSETFROM:+0000
TZOFFSETTO:+0000
TZNAME:UTC
DTSTART:20250101T000000
END:STANDARD
END:VTIMEZONE
BEGIN:VEVENT
DTSTART;TZID=UTC:20260613T130000
DTEND;TZID=UTC:20260613T170000
DTSTAMP:20260420T232559
CREATED:20251230T071223Z
LAST-MODIFIED:20260319T085945Z
UID:10000630-1781355600-1781370000@standrewlu.org
SUMMARY:Geeks & God : Meet up
DESCRIPTION:This meet up is for the hobbyist community (Board games\, RPG and Video games). This is a chance for you to get to know the other Gamers of St. Andrew and to have fellowship online playing the games you love to play. Bring your own board games\, bring friends and learn other games\, see you there! \n\n\nUse the side doors to meet in room 207
URL:https://standrewlu.org/event/geeks-god-meet-up/
LOCATION:St. Andrew Lutheran Church
CATEGORIES:Children, Youth & Family,High School,St. Andrew Lutheran Church,Young Adult
ATTACH;FMTTYPE=image/jpeg:https://standrewlu.org/wp-content/uploads/2025/12/geeks-and-gods.jpg
ORGANIZER;CN="Caleb Wragge":MAILTO:cwragge@standrewlu.org
END:VEVENT
BEGIN:VEVENT
DTSTART;TZID=UTC:20260622T090000
DTEND;TZID=UTC:20260625T120000
DTSTAMP:20260420T232559
CREATED:20260420T201020Z
LAST-MODIFIED:20260420T201020Z
UID:10000924-1782118800-1782388800@standrewlu.org
SUMMARY:VBS 2026 - Registration
DESCRIPTION:9AM-12PM\, Monday-Thursday\nJoin St. Andrew for our Snowball Mountain Challenge VBS from June 22-25\, 2026! Gear up for an unforgettable winter sports extravaganza with Snowball Mountain Challenge VBS 2026! Kids will experience hands-on activities\, laughter\, and life lessons rooted in solid faith. This VBS empowers children to trust God\, share love\, and discover they can face any challenge with God by their side! “I can do all things through him who strengthens me.” Philippians 4:13
URL:https://standrewlu.org/event/vbs-2026-registration/
LOCATION:St. Andrew Lutheran Church
CATEGORIES:Children,Children, Youth & Family,Elementary,St. Andrew Lutheran Church
ATTACH;FMTTYPE=image/avif:https://standrewlu.org/wp-content/uploads/2026/03/logo-primary.avif
END:VEVENT
BEGIN:VEVENT
DTSTART;TZID=UTC:20260622T090000
DTEND;TZID=UTC:20260625T160000
DTSTAMP:20260420T232559
CREATED:20260420T201211Z
LAST-MODIFIED:20260420T201211Z
UID:10000925-1782118800-1782403200@standrewlu.org
SUMMARY:VBX 2026  (ALL DAY VBS) - Registration
DESCRIPTION:VBX includes morning VBS and offsite activities in the afternoons!\n9 AM-4PM\, Monday-Thursday\n9 AM – 12 noon: Kids will be at St. Andrew for our Snowball Mountain Challenge VBS from June 22-25\, 2026 to experience hands-on activities\, laughter\, and life lessons rooted in solid faith. This VBS empowers children to trust God\, share love\, and discover they can face any challenge with God by their side! “I can do all things through him who strengthens me.” Philippians 4:13\n12 noon – 4 PM: VBX kids (Grades 1 – 5) will go on fun fieldtrips with Spirit in the Pines Counselors and our staff! Sign up for VBX (and it will automatically include registration to VBS!)\nRegistration closes June 10th.
URL:https://standrewlu.org/event/vbx-2026-all-day-vbs-registration/
LOCATION:St. Andrew Lutheran Church
CATEGORIES:Children, Youth & Family,Elementary,St. Andrew Lutheran Church
ATTACH;FMTTYPE=image/avif:https://standrewlu.org/wp-content/uploads/2026/03/logo-primary.avif
END:VEVENT
END:VCALENDAR