BEGIN:VCALENDAR
VERSION:2.0
PRODID:-//St. Andrew Lutheran Church - ECPv6.15.20//NONSGML v1.0//EN
CALSCALE:GREGORIAN
METHOD:PUBLISH
X-ORIGINAL-URL:https://standrewlu.org
X-WR-CALDESC:Events for St. Andrew Lutheran Church
REFRESH-INTERVAL;VALUE=DURATION:PT1H
X-Robots-Tag:noindex
X-PUBLISHED-TTL:PT1H
BEGIN:VTIMEZONE
TZID:UTC
BEGIN:STANDARD
TZOFFSETFROM:+0000
TZOFFSETTO:+0000
TZNAME:UTC
DTSTART:20250101T000000
END:STANDARD
END:VTIMEZONE
BEGIN:VEVENT
DTSTART;TZID=UTC:20260815T090000
DTEND;TZID=UTC:20260815T110000
DTSTAMP:20260419T211309
CREATED:20260116T141548Z
LAST-MODIFIED:20260319T085947Z
UID:10000772-1786784400-1786791600@standrewlu.org
SUMMARY:Saturday Morning Men's Bible Study
DESCRIPTION:The Saturday morning men’s group is a lighthearted bunch from several churches in the Southwest Metro that enjoys Christian fellowship and learning. \nWe have a particular liking to Andy Stanley and other contemporary Christian preachers. We use videos and Bible studies as conversation starters on living a Christian man’s life in today’s world. Join us anytime\, you don’t need to wait until we start a new series. \nAll mature (from 50 to 115) Christian men (St. Andrew membership not required) welcome. Come as you are as often as you can.\nLocation:\nFlagstone Retirement Community\n8350 Commonwealth Drive\, Eden Prairie\n1st Floor Conference Room (behind reception desk)
URL:https://standrewlu.org/event/saturday-morning-mens-bible-study-33/
LOCATION:Offsite
CATEGORIES:Adult,Bible and Book Studies,Men's Groups,Offsite,Small Group
ATTACH;FMTTYPE=image/jpeg:https://standrewlu.org/wp-content/uploads/2025/12/Small-Group-MP-Event-Widget-Image.jpg
END:VEVENT
BEGIN:VEVENT
DTSTART;TZID=UTC:20260819T063000
DTEND;TZID=UTC:20260819T073000
DTSTAMP:20260419T211309
CREATED:20260110T113940Z
LAST-MODIFIED:20260319T085947Z
UID:10000773-1787121000-1787124600@standrewlu.org
SUMMARY:Band of Brothers
DESCRIPTION:Join fellow Christian men each week to examine how faith affects our daily life and relationships. Participate weekly\, when you can.
URL:https://standrewlu.org/event/band-of-brothers-34/
LOCATION:St. Andrew Lutheran Church
CATEGORIES:Adult,Bible and Book Studies,Men's Groups,Small Group,St. Andrew Lutheran Church
ATTACH;FMTTYPE=image/jpeg:https://standrewlu.org/wp-content/uploads/2025/12/Small-Group-MP-Event-Widget-Image.jpg
END:VEVENT
BEGIN:VEVENT
DTSTART;TZID=UTC:20260822T090000
DTEND;TZID=UTC:20260822T110000
DTSTAMP:20260419T211309
CREATED:20260116T141607Z
LAST-MODIFIED:20260319T085947Z
UID:10000774-1787389200-1787396400@standrewlu.org
SUMMARY:Saturday Morning Men's Bible Study
DESCRIPTION:The Saturday morning men’s group is a lighthearted bunch from several churches in the Southwest Metro that enjoys Christian fellowship and learning. \nWe have a particular liking to Andy Stanley and other contemporary Christian preachers. We use videos and Bible studies as conversation starters on living a Christian man’s life in today’s world. Join us anytime\, you don’t need to wait until we start a new series. \nAll mature (from 50 to 115) Christian men (St. Andrew membership not required) welcome. Come as you are as often as you can.\nLocation:\nFlagstone Retirement Community\n8350 Commonwealth Drive\, Eden Prairie\n1st Floor Conference Room (behind reception desk)
URL:https://standrewlu.org/event/saturday-morning-mens-bible-study-34/
LOCATION:Offsite
CATEGORIES:Adult,Bible and Book Studies,Men's Groups,Offsite,Small Group
ATTACH;FMTTYPE=image/jpeg:https://standrewlu.org/wp-content/uploads/2025/12/Small-Group-MP-Event-Widget-Image.jpg
END:VEVENT
BEGIN:VEVENT
DTSTART;TZID=UTC:20260826T063000
DTEND;TZID=UTC:20260826T073000
DTSTAMP:20260419T211309
CREATED:20260110T114029Z
LAST-MODIFIED:20260319T085947Z
UID:10000775-1787725800-1787729400@standrewlu.org
SUMMARY:Band of Brothers
DESCRIPTION:Join fellow Christian men each week to examine how faith affects our daily life and relationships. Participate weekly\, when you can.
URL:https://standrewlu.org/event/band-of-brothers-35/
LOCATION:St. Andrew Lutheran Church
CATEGORIES:Adult,Bible and Book Studies,Men's Groups,Small Group,St. Andrew Lutheran Church
ATTACH;FMTTYPE=image/jpeg:https://standrewlu.org/wp-content/uploads/2025/12/Small-Group-MP-Event-Widget-Image.jpg
END:VEVENT
BEGIN:VEVENT
DTSTART;TZID=UTC:20260829T090000
DTEND;TZID=UTC:20260829T110000
DTSTAMP:20260419T211309
CREATED:20260116T141627Z
LAST-MODIFIED:20260319T085947Z
UID:10000776-1787994000-1788001200@standrewlu.org
SUMMARY:Saturday Morning Men's Bible Study
DESCRIPTION:The Saturday morning men’s group is a lighthearted bunch from several churches in the Southwest Metro that enjoys Christian fellowship and learning. \nWe have a particular liking to Andy Stanley and other contemporary Christian preachers. We use videos and Bible studies as conversation starters on living a Christian man’s life in today’s world. Join us anytime\, you don’t need to wait until we start a new series. \nAll mature (from 50 to 115) Christian men (St. Andrew membership not required) welcome. Come as you are as often as you can.\nLocation:\nFlagstone Retirement Community\n8350 Commonwealth Drive\, Eden Prairie\n1st Floor Conference Room (behind reception desk)
URL:https://standrewlu.org/event/saturday-morning-mens-bible-study-35/
LOCATION:Offsite
CATEGORIES:Adult,Bible and Book Studies,Men's Groups,Offsite,Small Group
ATTACH;FMTTYPE=image/jpeg:https://standrewlu.org/wp-content/uploads/2025/12/Small-Group-MP-Event-Widget-Image.jpg
END:VEVENT
BEGIN:VEVENT
DTSTART;TZID=UTC:20260902T063000
DTEND;TZID=UTC:20260902T073000
DTSTAMP:20260419T211309
CREATED:20260110T114100Z
LAST-MODIFIED:20260319T085948Z
UID:10000777-1788330600-1788334200@standrewlu.org
SUMMARY:Band of Brothers
DESCRIPTION:Join fellow Christian men each week to examine how faith affects our daily life and relationships. Participate weekly\, when you can.
URL:https://standrewlu.org/event/band-of-brothers-36/
LOCATION:St. Andrew Lutheran Church
CATEGORIES:Adult,Bible and Book Studies,Men's Groups,Small Group,St. Andrew Lutheran Church
ATTACH;FMTTYPE=image/jpeg:https://standrewlu.org/wp-content/uploads/2025/12/Small-Group-MP-Event-Widget-Image.jpg
END:VEVENT
BEGIN:VEVENT
DTSTART;TZID=UTC:20260905T090000
DTEND;TZID=UTC:20260905T110000
DTSTAMP:20260419T211309
CREATED:20260116T141749Z
LAST-MODIFIED:20260319T085948Z
UID:10000778-1788598800-1788606000@standrewlu.org
SUMMARY:Saturday Morning Men's Bible Study
DESCRIPTION:The Saturday morning men’s group is a lighthearted bunch from several churches in the Southwest Metro that enjoys Christian fellowship and learning. \nWe have a particular liking to Andy Stanley and other contemporary Christian preachers. We use videos and Bible studies as conversation starters on living a Christian man’s life in today’s world. Join us anytime\, you don’t need to wait until we start a new series. \nAll mature (from 50 to 115) Christian men (St. Andrew membership not required) welcome. Come as you are as often as you can.\nLocation:\nFlagstone Retirement Community\n8350 Commonwealth Drive\, Eden Prairie\n1st Floor Conference Room (behind reception desk)
URL:https://standrewlu.org/event/saturday-morning-mens-bible-study-36/
LOCATION:Offsite
CATEGORIES:Adult,Bible and Book Studies,Men's Groups,Offsite,Small Group,St. Andrew Lutheran Church
ATTACH;FMTTYPE=image/jpeg:https://standrewlu.org/wp-content/uploads/2025/12/Small-Group-MP-Event-Widget-Image.jpg
END:VEVENT
BEGIN:VEVENT
DTSTART;TZID=UTC:20260909T063000
DTEND;TZID=UTC:20260909T073000
DTSTAMP:20260419T211309
CREATED:20260110T114139Z
LAST-MODIFIED:20260319T085948Z
UID:10000779-1788935400-1788939000@standrewlu.org
SUMMARY:Band of Brothers
DESCRIPTION:Join fellow Christian men each week to examine how faith affects our daily life and relationships. Participate weekly\, when you can.
URL:https://standrewlu.org/event/band-of-brothers-37/
LOCATION:St. Andrew Lutheran Church
CATEGORIES:Adult,Bible and Book Studies,Men's Groups,Small Group,St. Andrew Lutheran Church
ATTACH;FMTTYPE=image/jpeg:https://standrewlu.org/wp-content/uploads/2025/12/Small-Group-MP-Event-Widget-Image.jpg
END:VEVENT
BEGIN:VEVENT
DTSTART;TZID=UTC:20260912T090000
DTEND;TZID=UTC:20260912T110000
DTSTAMP:20260419T211309
CREATED:20260116T141808Z
LAST-MODIFIED:20260319T085948Z
UID:10000780-1789203600-1789210800@standrewlu.org
SUMMARY:Saturday Morning Men's Bible Study
DESCRIPTION:The Saturday morning men’s group is a lighthearted bunch from several churches in the Southwest Metro that enjoys Christian fellowship and learning. \nWe have a particular liking to Andy Stanley and other contemporary Christian preachers. We use videos and Bible studies as conversation starters on living a Christian man’s life in today’s world. Join us anytime\, you don’t need to wait until we start a new series. \nAll mature (from 50 to 115) Christian men (St. Andrew membership not required) welcome. Come as you are as often as you can.\nLocation:\nFlagstone Retirement Community\n8350 Commonwealth Drive\, Eden Prairie\n1st Floor Conference Room (behind reception desk)
URL:https://standrewlu.org/event/saturday-morning-mens-bible-study-37/
LOCATION:Offsite
CATEGORIES:Adult,Bible and Book Studies,Men's Groups,Offsite,Small Group,St. Andrew Lutheran Church
ATTACH;FMTTYPE=image/jpeg:https://standrewlu.org/wp-content/uploads/2025/12/Small-Group-MP-Event-Widget-Image.jpg
END:VEVENT
BEGIN:VEVENT
DTSTART;TZID=UTC:20260916T063000
DTEND;TZID=UTC:20260916T073000
DTSTAMP:20260419T211309
CREATED:20260110T114219Z
LAST-MODIFIED:20260319T085948Z
UID:10000781-1789540200-1789543800@standrewlu.org
SUMMARY:Band of Brothers
DESCRIPTION:Join fellow Christian men each week to examine how faith affects our daily life and relationships. Participate weekly\, when you can.
URL:https://standrewlu.org/event/band-of-brothers-38/
LOCATION:St. Andrew Lutheran Church
CATEGORIES:Adult,Bible and Book Studies,Men's Groups,Small Group,St. Andrew Lutheran Church
ATTACH;FMTTYPE=image/jpeg:https://standrewlu.org/wp-content/uploads/2025/12/Small-Group-MP-Event-Widget-Image.jpg
END:VEVENT
BEGIN:VEVENT
DTSTART;TZID=UTC:20260919T090000
DTEND;TZID=UTC:20260919T110000
DTSTAMP:20260419T211309
CREATED:20260116T141831Z
LAST-MODIFIED:20260319T085948Z
UID:10000782-1789808400-1789815600@standrewlu.org
SUMMARY:Saturday Morning Men's Bible Study
DESCRIPTION:The Saturday morning men’s group is a lighthearted bunch from several churches in the Southwest Metro that enjoys Christian fellowship and learning. \nWe have a particular liking to Andy Stanley and other contemporary Christian preachers. We use videos and Bible studies as conversation starters on living a Christian man’s life in today’s world. Join us anytime\, you don’t need to wait until we start a new series. \nAll mature (from 50 to 115) Christian men (St. Andrew membership not required) welcome. Come as you are as often as you can.\nLocation:\nFlagstone Retirement Community\n8350 Commonwealth Drive\, Eden Prairie\n1st Floor Conference Room (behind reception desk)
URL:https://standrewlu.org/event/saturday-morning-mens-bible-study-38/
LOCATION:Offsite
CATEGORIES:Adult,Bible and Book Studies,Men's Groups,Offsite,Small Group
ATTACH;FMTTYPE=image/jpeg:https://standrewlu.org/wp-content/uploads/2025/12/Small-Group-MP-Event-Widget-Image.jpg
END:VEVENT
BEGIN:VEVENT
DTSTART;TZID=UTC:20260923T063000
DTEND;TZID=UTC:20260923T073000
DTSTAMP:20260419T211309
CREATED:20260110T114254Z
LAST-MODIFIED:20260319T085948Z
UID:10000783-1790145000-1790148600@standrewlu.org
SUMMARY:Band of Brothers
DESCRIPTION:Join fellow Christian men each week to examine how faith affects our daily life and relationships. Participate weekly\, when you can.
URL:https://standrewlu.org/event/band-of-brothers-39/
LOCATION:St. Andrew Lutheran Church
CATEGORIES:Adult,Bible and Book Studies,Men's Groups,Small Group,St. Andrew Lutheran Church
ATTACH;FMTTYPE=image/jpeg:https://standrewlu.org/wp-content/uploads/2025/12/Small-Group-MP-Event-Widget-Image.jpg
END:VEVENT
BEGIN:VEVENT
DTSTART;TZID=UTC:20260926T090000
DTEND;TZID=UTC:20260926T110000
DTSTAMP:20260419T211309
CREATED:20260116T141849Z
LAST-MODIFIED:20260319T085948Z
UID:10000784-1790413200-1790420400@standrewlu.org
SUMMARY:Saturday Morning Men's Bible Study
DESCRIPTION:The Saturday morning men’s group is a lighthearted bunch from several churches in the Southwest Metro that enjoys Christian fellowship and learning. \nWe have a particular liking to Andy Stanley and other contemporary Christian preachers. We use videos and Bible studies as conversation starters on living a Christian man’s life in today’s world. Join us anytime\, you don’t need to wait until we start a new series. \nAll mature (from 50 to 115) Christian men (St. Andrew membership not required) welcome. Come as you are as often as you can.\nLocation:\nFlagstone Retirement Community\n8350 Commonwealth Drive\, Eden Prairie\n1st Floor Conference Room (behind reception desk)
URL:https://standrewlu.org/event/saturday-morning-mens-bible-study-39/
LOCATION:Offsite
CATEGORIES:Adult,Bible and Book Studies,Men's Groups,Offsite,Small Group
ATTACH;FMTTYPE=image/jpeg:https://standrewlu.org/wp-content/uploads/2025/12/Small-Group-MP-Event-Widget-Image.jpg
END:VEVENT
BEGIN:VEVENT
DTSTART;TZID=UTC:20260930T063000
DTEND;TZID=UTC:20260930T073000
DTSTAMP:20260419T211309
CREATED:20260110T114324Z
LAST-MODIFIED:20260319T085948Z
UID:10000785-1790749800-1790753400@standrewlu.org
SUMMARY:Band of Brothers
DESCRIPTION:Join fellow Christian men each week to examine how faith affects our daily life and relationships. Participate weekly\, when you can.
URL:https://standrewlu.org/event/band-of-brothers-40/
LOCATION:St. Andrew Lutheran Church
CATEGORIES:Adult,Bible and Book Studies,Men's Groups,Small Group,St. Andrew Lutheran Church
ATTACH;FMTTYPE=image/jpeg:https://standrewlu.org/wp-content/uploads/2025/12/Small-Group-MP-Event-Widget-Image.jpg
END:VEVENT
BEGIN:VEVENT
DTSTART;TZID=UTC:20261003T090000
DTEND;TZID=UTC:20261003T110000
DTSTAMP:20260419T211309
CREATED:20260116T141909Z
LAST-MODIFIED:20260319T085948Z
UID:10000786-1791018000-1791025200@standrewlu.org
SUMMARY:Saturday Morning Men's Bible Study
DESCRIPTION:The Saturday morning men’s group is a lighthearted bunch from several churches in the Southwest Metro that enjoys Christian fellowship and learning. \nWe have a particular liking to Andy Stanley and other contemporary Christian preachers. We use videos and Bible studies as conversation starters on living a Christian man’s life in today’s world. Join us anytime\, you don’t need to wait until we start a new series. \nAll mature (from 50 to 115) Christian men (St. Andrew membership not required) welcome. Come as you are as often as you can.\nLocation:\nFlagstone Retirement Community\n8350 Commonwealth Drive\, Eden Prairie\n1st Floor Conference Room (behind reception desk)
URL:https://standrewlu.org/event/saturday-morning-mens-bible-study-40/
LOCATION:Offsite
CATEGORIES:Adult,Bible and Book Studies,Men's Groups,Offsite,Small Group
ATTACH;FMTTYPE=image/jpeg:https://standrewlu.org/wp-content/uploads/2025/12/Small-Group-MP-Event-Widget-Image.jpg
END:VEVENT
BEGIN:VEVENT
DTSTART;TZID=UTC:20261007T063000
DTEND;TZID=UTC:20261007T073000
DTSTAMP:20260419T211309
CREATED:20260110T114400Z
LAST-MODIFIED:20260319T085949Z
UID:10000787-1791354600-1791358200@standrewlu.org
SUMMARY:Band of Brothers
DESCRIPTION:Join fellow Christian men each week to examine how faith affects our daily life and relationships. Participate weekly\, when you can.
URL:https://standrewlu.org/event/band-of-brothers-41/
LOCATION:St. Andrew Lutheran Church
CATEGORIES:Adult,Bible and Book Studies,Men's Groups,Small Group,St. Andrew Lutheran Church
ATTACH;FMTTYPE=image/jpeg:https://standrewlu.org/wp-content/uploads/2025/12/Small-Group-MP-Event-Widget-Image.jpg
END:VEVENT
BEGIN:VEVENT
DTSTART;TZID=UTC:20261010T090000
DTEND;TZID=UTC:20261010T110000
DTSTAMP:20260419T211309
CREATED:20260116T141928Z
LAST-MODIFIED:20260319T085949Z
UID:10000788-1791622800-1791630000@standrewlu.org
SUMMARY:Saturday Morning Men's Bible Study
DESCRIPTION:The Saturday morning men’s group is a lighthearted bunch from several churches in the Southwest Metro that enjoys Christian fellowship and learning. \nWe have a particular liking to Andy Stanley and other contemporary Christian preachers. We use videos and Bible studies as conversation starters on living a Christian man’s life in today’s world. Join us anytime\, you don’t need to wait until we start a new series. \nAll mature (from 50 to 115) Christian men (St. Andrew membership not required) welcome. Come as you are as often as you can.\nLocation:\nFlagstone Retirement Community\n8350 Commonwealth Drive\, Eden Prairie\n1st Floor Conference Room (behind reception desk)
URL:https://standrewlu.org/event/saturday-morning-mens-bible-study-41/
LOCATION:Offsite
CATEGORIES:Adult,Bible and Book Studies,Men's Groups,Offsite,Small Group
ATTACH;FMTTYPE=image/jpeg:https://standrewlu.org/wp-content/uploads/2025/12/Small-Group-MP-Event-Widget-Image.jpg
END:VEVENT
BEGIN:VEVENT
DTSTART;TZID=UTC:20261014T063000
DTEND;TZID=UTC:20261014T073000
DTSTAMP:20260419T211309
CREATED:20260110T114442Z
LAST-MODIFIED:20260319T085949Z
UID:10000789-1791959400-1791963000@standrewlu.org
SUMMARY:Band of Brothers
DESCRIPTION:Join fellow Christian men each week to examine how faith affects our daily life and relationships. Participate weekly\, when you can.
URL:https://standrewlu.org/event/band-of-brothers-42/
LOCATION:St. Andrew Lutheran Church
CATEGORIES:Adult,Bible and Book Studies,Men's Groups,Small Group,St. Andrew Lutheran Church
ATTACH;FMTTYPE=image/jpeg:https://standrewlu.org/wp-content/uploads/2025/12/Small-Group-MP-Event-Widget-Image.jpg
END:VEVENT
BEGIN:VEVENT
DTSTART;TZID=UTC:20261017T090000
DTEND;TZID=UTC:20261017T110000
DTSTAMP:20260419T211309
CREATED:20260116T141948Z
LAST-MODIFIED:20260319T085949Z
UID:10000790-1792227600-1792234800@standrewlu.org
SUMMARY:Saturday Morning Men's Bible Study
DESCRIPTION:The Saturday morning men’s group is a lighthearted bunch from several churches in the Southwest Metro that enjoys Christian fellowship and learning. \nWe have a particular liking to Andy Stanley and other contemporary Christian preachers. We use videos and Bible studies as conversation starters on living a Christian man’s life in today’s world. Join us anytime\, you don’t need to wait until we start a new series. \nAll mature (from 50 to 115) Christian men (St. Andrew membership not required) welcome. Come as you are as often as you can.\nLocation:\nFlagstone Retirement Community\n8350 Commonwealth Drive\, Eden Prairie\n1st Floor Conference Room (behind reception desk)
URL:https://standrewlu.org/event/saturday-morning-mens-bible-study-42/
LOCATION:Offsite
CATEGORIES:Adult,Bible and Book Studies,Men's Groups,Offsite,Small Group
ATTACH;FMTTYPE=image/jpeg:https://standrewlu.org/wp-content/uploads/2025/12/Small-Group-MP-Event-Widget-Image.jpg
END:VEVENT
BEGIN:VEVENT
DTSTART;TZID=UTC:20261021T063000
DTEND;TZID=UTC:20261021T073000
DTSTAMP:20260419T211309
CREATED:20260110T114529Z
LAST-MODIFIED:20260319T085949Z
UID:10000791-1792564200-1792567800@standrewlu.org
SUMMARY:Band of Brothers
DESCRIPTION:Join fellow Christian men each week to examine how faith affects our daily life and relationships. Participate weekly\, when you can.
URL:https://standrewlu.org/event/band-of-brothers-43/
LOCATION:St. Andrew Lutheran Church
CATEGORIES:Adult,Bible and Book Studies,Men's Groups,Small Group,St. Andrew Lutheran Church
ATTACH;FMTTYPE=image/jpeg:https://standrewlu.org/wp-content/uploads/2025/12/Small-Group-MP-Event-Widget-Image.jpg
END:VEVENT
BEGIN:VEVENT
DTSTART;TZID=UTC:20261024T090000
DTEND;TZID=UTC:20261024T110000
DTSTAMP:20260419T211309
CREATED:20260116T142003Z
LAST-MODIFIED:20260319T085949Z
UID:10000792-1792832400-1792839600@standrewlu.org
SUMMARY:Saturday Morning Men's Bible Study
DESCRIPTION:The Saturday morning men’s group is a lighthearted bunch from several churches in the Southwest Metro that enjoys Christian fellowship and learning. \nWe have a particular liking to Andy Stanley and other contemporary Christian preachers. We use videos and Bible studies as conversation starters on living a Christian man’s life in today’s world. Join us anytime\, you don’t need to wait until we start a new series. \nAll mature (from 50 to 115) Christian men (St. Andrew membership not required) welcome. Come as you are as often as you can.\nLocation:\nFlagstone Retirement Community\n8350 Commonwealth Drive\, Eden Prairie\n1st Floor Conference Room (behind reception desk)
URL:https://standrewlu.org/event/saturday-morning-mens-bible-study-43/
LOCATION:Offsite
CATEGORIES:Adult,Bible and Book Studies,Men's Groups,Offsite,Small Group
ATTACH;FMTTYPE=image/jpeg:https://standrewlu.org/wp-content/uploads/2025/12/Small-Group-MP-Event-Widget-Image.jpg
END:VEVENT
BEGIN:VEVENT
DTSTART;TZID=UTC:20261028T063000
DTEND;TZID=UTC:20261028T073000
DTSTAMP:20260419T211309
CREATED:20260110T114611Z
LAST-MODIFIED:20260319T085949Z
UID:10000793-1793169000-1793172600@standrewlu.org
SUMMARY:Band of Brothers
DESCRIPTION:Join fellow Christian men each week to examine how faith affects our daily life and relationships. Participate weekly\, when you can.
URL:https://standrewlu.org/event/band-of-brothers-44/
LOCATION:St. Andrew Lutheran Church
CATEGORIES:Adult,Bible and Book Studies,Men's Groups,Small Group,St. Andrew Lutheran Church
ATTACH;FMTTYPE=image/jpeg:https://standrewlu.org/wp-content/uploads/2025/12/Small-Group-MP-Event-Widget-Image.jpg
END:VEVENT
BEGIN:VEVENT
DTSTART;TZID=UTC:20261031T090000
DTEND;TZID=UTC:20261031T110000
DTSTAMP:20260419T211309
CREATED:20260116T142025Z
LAST-MODIFIED:20260319T085949Z
UID:10000794-1793437200-1793444400@standrewlu.org
SUMMARY:Saturday Morning Men's Bible Study
DESCRIPTION:The Saturday morning men’s group is a lighthearted bunch from several churches in the Southwest Metro that enjoys Christian fellowship and learning. \nWe have a particular liking to Andy Stanley and other contemporary Christian preachers. We use videos and Bible studies as conversation starters on living a Christian man’s life in today’s world. Join us anytime\, you don’t need to wait until we start a new series. \nAll mature (from 50 to 115) Christian men (St. Andrew membership not required) welcome. Come as you are as often as you can.\nLocation:\nFlagstone Retirement Community\n8350 Commonwealth Drive\, Eden Prairie\n1st Floor Conference Room (behind reception desk)
URL:https://standrewlu.org/event/saturday-morning-mens-bible-study-44/
LOCATION:Offsite
CATEGORIES:Adult,Bible and Book Studies,Men's Groups,Offsite,Small Group
ATTACH;FMTTYPE=image/jpeg:https://standrewlu.org/wp-content/uploads/2025/12/Small-Group-MP-Event-Widget-Image.jpg
END:VEVENT
BEGIN:VEVENT
DTSTART;TZID=UTC:20261104T063000
DTEND;TZID=UTC:20261104T073000
DTSTAMP:20260419T211309
CREATED:20260110T114649Z
LAST-MODIFIED:20260319T085949Z
UID:10000795-1793773800-1793777400@standrewlu.org
SUMMARY:Band of Brothers
DESCRIPTION:Join fellow Christian men each week to examine how faith affects our daily life and relationships. Participate weekly\, when you can.
URL:https://standrewlu.org/event/band-of-brothers-45/
LOCATION:St. Andrew Lutheran Church
CATEGORIES:Adult,Bible and Book Studies,Men's Groups,Small Group,St. Andrew Lutheran Church
ATTACH;FMTTYPE=image/jpeg:https://standrewlu.org/wp-content/uploads/2025/12/Small-Group-MP-Event-Widget-Image.jpg
END:VEVENT
BEGIN:VEVENT
DTSTART;TZID=UTC:20261107T090000
DTEND;TZID=UTC:20261107T110000
DTSTAMP:20260419T211309
CREATED:20260116T142045Z
LAST-MODIFIED:20260319T085949Z
UID:10000796-1794042000-1794049200@standrewlu.org
SUMMARY:Saturday Morning Men's Bible Study
DESCRIPTION:The Saturday morning men’s group is a lighthearted bunch from several churches in the Southwest Metro that enjoys Christian fellowship and learning. \nWe have a particular liking to Andy Stanley and other contemporary Christian preachers. We use videos and Bible studies as conversation starters on living a Christian man’s life in today’s world. Join us anytime\, you don’t need to wait until we start a new series. \nAll mature (from 50 to 115) Christian men (St. Andrew membership not required) welcome. Come as you are as often as you can.\nLocation:\nFlagstone Retirement Community\n8350 Commonwealth Drive\, Eden Prairie\n1st Floor Conference Room (behind reception desk)
URL:https://standrewlu.org/event/saturday-morning-mens-bible-study-45/
LOCATION:Offsite
CATEGORIES:Adult,Bible and Book Studies,Men's Groups,Offsite,Small Group
ATTACH;FMTTYPE=image/jpeg:https://standrewlu.org/wp-content/uploads/2025/12/Small-Group-MP-Event-Widget-Image.jpg
END:VEVENT
BEGIN:VEVENT
DTSTART;TZID=UTC:20261111T063000
DTEND;TZID=UTC:20261111T073000
DTSTAMP:20260419T211309
CREATED:20260110T114726Z
LAST-MODIFIED:20260319T085949Z
UID:10000797-1794378600-1794382200@standrewlu.org
SUMMARY:Band of Brothers
DESCRIPTION:Join fellow Christian men each week to examine how faith affects our daily life and relationships. Participate weekly\, when you can.
URL:https://standrewlu.org/event/band-of-brothers-46/
LOCATION:St. Andrew Lutheran Church
CATEGORIES:Adult,Bible and Book Studies,Men's Groups,Small Group,St. Andrew Lutheran Church
ATTACH;FMTTYPE=image/jpeg:https://standrewlu.org/wp-content/uploads/2025/12/Small-Group-MP-Event-Widget-Image.jpg
END:VEVENT
BEGIN:VEVENT
DTSTART;TZID=UTC:20261114T090000
DTEND;TZID=UTC:20261114T110000
DTSTAMP:20260419T211309
CREATED:20260116T142102Z
LAST-MODIFIED:20260319T085950Z
UID:10000798-1794646800-1794654000@standrewlu.org
SUMMARY:Saturday Morning Men's Bible Study
DESCRIPTION:The Saturday morning men’s group is a lighthearted bunch from several churches in the Southwest Metro that enjoys Christian fellowship and learning. \nWe have a particular liking to Andy Stanley and other contemporary Christian preachers. We use videos and Bible studies as conversation starters on living a Christian man’s life in today’s world. Join us anytime\, you don’t need to wait until we start a new series. \nAll mature (from 50 to 115) Christian men (St. Andrew membership not required) welcome. Come as you are as often as you can.\nLocation:\nFlagstone Retirement Community\n8350 Commonwealth Drive\, Eden Prairie\n1st Floor Conference Room (behind reception desk)
URL:https://standrewlu.org/event/saturday-morning-mens-bible-study-46/
LOCATION:Offsite
CATEGORIES:Adult,Bible and Book Studies,Men's Groups,Offsite,Small Group
ATTACH;FMTTYPE=image/jpeg:https://standrewlu.org/wp-content/uploads/2025/12/Small-Group-MP-Event-Widget-Image.jpg
END:VEVENT
BEGIN:VEVENT
DTSTART;TZID=UTC:20261118T063000
DTEND;TZID=UTC:20261118T073000
DTSTAMP:20260419T211310
CREATED:20260110T114756Z
LAST-MODIFIED:20260319T085950Z
UID:10000799-1794983400-1794987000@standrewlu.org
SUMMARY:Band of Brothers
DESCRIPTION:Join fellow Christian men each week to examine how faith affects our daily life and relationships. Participate weekly\, when you can.
URL:https://standrewlu.org/event/band-of-brothers-47/
LOCATION:St. Andrew Lutheran Church
CATEGORIES:Adult,Bible and Book Studies,Men's Groups,Small Group,St. Andrew Lutheran Church
ATTACH;FMTTYPE=image/jpeg:https://standrewlu.org/wp-content/uploads/2025/12/Small-Group-MP-Event-Widget-Image.jpg
END:VEVENT
BEGIN:VEVENT
DTSTART;TZID=UTC:20261121T090000
DTEND;TZID=UTC:20261121T110000
DTSTAMP:20260419T211310
CREATED:20260116T142130Z
LAST-MODIFIED:20260319T085950Z
UID:10000800-1795251600-1795258800@standrewlu.org
SUMMARY:Saturday Morning Men's Bible Study
DESCRIPTION:The Saturday morning men’s group is a lighthearted bunch from several churches in the Southwest Metro that enjoys Christian fellowship and learning. \nWe have a particular liking to Andy Stanley and other contemporary Christian preachers. We use videos and Bible studies as conversation starters on living a Christian man’s life in today’s world. Join us anytime\, you don’t need to wait until we start a new series. \nAll mature (from 50 to 115) Christian men (St. Andrew membership not required) welcome. Come as you are as often as you can.\nLocation:\nFlagstone Retirement Community\n8350 Commonwealth Drive\, Eden Prairie\n1st Floor Conference Room (behind reception desk)
URL:https://standrewlu.org/event/saturday-morning-mens-bible-study-47/
LOCATION:Offsite
CATEGORIES:Adult,Bible and Book Studies,Men's Groups,Offsite,Small Group
ATTACH;FMTTYPE=image/jpeg:https://standrewlu.org/wp-content/uploads/2025/12/Small-Group-MP-Event-Widget-Image.jpg
END:VEVENT
BEGIN:VEVENT
DTSTART;TZID=UTC:20261125T063000
DTEND;TZID=UTC:20261125T073000
DTSTAMP:20260419T211310
CREATED:20260110T114851Z
LAST-MODIFIED:20260319T085950Z
UID:10000801-1795588200-1795591800@standrewlu.org
SUMMARY:Band of Brothers
DESCRIPTION:Join fellow Christian men each week to examine how faith affects our daily life and relationships. Participate weekly\, when you can.
URL:https://standrewlu.org/event/band-of-brothers-48/
LOCATION:St. Andrew Lutheran Church
CATEGORIES:Adult,Bible and Book Studies,Men's Groups,Small Group,St. Andrew Lutheran Church
ATTACH;FMTTYPE=image/jpeg:https://standrewlu.org/wp-content/uploads/2025/12/Small-Group-MP-Event-Widget-Image.jpg
END:VEVENT
END:VCALENDAR