BEGIN:VCALENDAR
VERSION:2.0
PRODID:-//St. Andrew Lutheran Church - ECPv6.15.20//NONSGML v1.0//EN
CALSCALE:GREGORIAN
METHOD:PUBLISH
X-ORIGINAL-URL:https://standrewlu.org
X-WR-CALDESC:Events for St. Andrew Lutheran Church
REFRESH-INTERVAL;VALUE=DURATION:PT1H
X-Robots-Tag:noindex
X-PUBLISHED-TTL:PT1H
BEGIN:VTIMEZONE
TZID:UTC
BEGIN:STANDARD
TZOFFSETFROM:+0000
TZOFFSETTO:+0000
TZNAME:UTC
DTSTART:20250101T000000
END:STANDARD
END:VTIMEZONE
BEGIN:VEVENT
DTSTART;TZID=UTC:20260514T090000
DTEND;TZID=UTC:20260514T100000
DTSTAMP:20260419T194922
CREATED:20260407T075406Z
LAST-MODIFIED:20260407T075406Z
UID:10001088-1778749200-1778752800@standrewlu.org
SUMMARY:Pastor's Book Study - Summer Book TBD
DESCRIPTION:
URL:https://standrewlu.org/event/pastors-book-study-summer-book-tbd-2/
LOCATION:St. Andrew Lutheran Church
CATEGORIES:Adult,Bible and Book Studies,Mixed Groups,Small Group,St. Andrew Lutheran Church
ATTACH;FMTTYPE=image/jpeg:https://standrewlu.org/wp-content/uploads/2026/01/pastors-book-study.jpg
END:VEVENT
BEGIN:VEVENT
DTSTART;TZID=UTC:20260514T183000
DTEND;TZID=UTC:20260514T200000
DTSTAMP:20260419T194922
CREATED:20260407T074836Z
LAST-MODIFIED:20260407T074836Z
UID:10000615-1778783400-1778788800@standrewlu.org
SUMMARY:Women of the Word (WOW) -- PM
DESCRIPTION:Join us for a women’s Bible study of faith and fellowship using streaming video\, workbook lessons\, and small group discussions. For beginners and advanced! All women are welcome\, members and non-members.\nJoin us for our eight-week study of The Way of Wisdom: A Study of the Book of Proverbs by Jen Wilkin\, Ruth Chou Simons\, Kelly Minter\, Adrienne Camp\, Elizabeth Woodson\, and Courtney Doctor beginning January 8.
URL:https://standrewlu.org/event/women-of-the-word-wow-pm-7/
LOCATION:St. Andrew Lutheran Church
CATEGORIES:Adult,Bible and Book Studies,Small Group,St. Andrew Lutheran Church,Women's Groups
ATTACH;FMTTYPE=image/png:https://standrewlu.org/wp-content/uploads/2026/03/W.O.W.-PM-1.png
END:VEVENT
BEGIN:VEVENT
DTSTART;TZID=UTC:20260516T090000
DTEND;TZID=UTC:20260516T110000
DTSTAMP:20260419T194922
CREATED:20260116T140824Z
LAST-MODIFIED:20260319T085944Z
UID:10000745-1778922000-1778929200@standrewlu.org
SUMMARY:Saturday Morning Men's Bible Study
DESCRIPTION:The Saturday morning men’s group is a lighthearted bunch from several churches in the Southwest Metro that enjoys Christian fellowship and learning. \nWe have a particular liking to Andy Stanley and other contemporary Christian preachers. We use videos and Bible studies as conversation starters on living a Christian man’s life in today’s world. Join us anytime\, you don’t need to wait until we start a new series. \nAll mature (from 50 to 115) Christian men (St. Andrew membership not required) welcome. Come as you are as often as you can.\nLocation:\nFlagstone Retirement Community\n8350 Commonwealth Drive\, Eden Prairie\n1st Floor Conference Room (behind reception desk)
URL:https://standrewlu.org/event/saturday-morning-mens-bible-study-20/
LOCATION:Offsite
CATEGORIES:Adult,Bible and Book Studies,Men's Groups,Offsite,Small Group
ATTACH;FMTTYPE=image/jpeg:https://standrewlu.org/wp-content/uploads/2025/12/Small-Group-MP-Event-Widget-Image.jpg
END:VEVENT
BEGIN:VEVENT
DTSTART;TZID=UTC:20260517T190000
DTEND;TZID=UTC:20260517T203000
DTSTAMP:20260419T194922
CREATED:20260407T094523Z
LAST-MODIFIED:20260407T094523Z
UID:10000621-1779044400-1779049800@standrewlu.org
SUMMARY:Young Adult: Bible Study & Board games
DESCRIPTION:Every week\, young adults gather for a laid-back evening of board games and Bible study at St. Andrew. It’s a space to laugh\, connect\, and dive into Scripture in a way that’s both meaningful and fun. Whether you’re competitive or contemplative\, there’s a seat at the table for you. 🎲📖
URL:https://standrewlu.org/event/young-adult-bible-study-board-games-8/
LOCATION:St. Andrew Lutheran Church
CATEGORIES:Bible and Book Studies,Small Group,St. Andrew Lutheran Church,Young Adult
ATTACH;FMTTYPE=image/png:https://standrewlu.org/wp-content/uploads/2026/03/Young-Adults-Games-and-Bible-Study.png
END:VEVENT
BEGIN:VEVENT
DTSTART;TZID=UTC:20260518T173000
DTEND;TZID=UTC:20260518T184500
DTSTAMP:20260419T194922
CREATED:20260111T150519Z
LAST-MODIFIED:20260319T085944Z
UID:10000746-1779125400-1779129900@standrewlu.org
SUMMARY:Monday Evening Men's Group
DESCRIPTION:We generally meet on the 1st and 3rd Monday of the month. PLEASE reach out to Gary Spears at gspears012@msn.com or Bill McMonigal at bmcmonigal@comcast.net to confirm dates.\nWith so many places to go and things to do\, it is often hard to take time for yourself. We want to gather adult men together to share experiences and wisdom about life and being a good dad\, husband\, and Christian. The group uses various videos and readings to stimulate conversation and learning – and there’s NO homework. We provide men with networking and relationship-building opportunities\, giving one another a source of support\, laughter\, and a chance to share their faith.
URL:https://standrewlu.org/event/monday-evening-mens-group-9/
LOCATION:St. Andrew Lutheran Church
CATEGORIES:Adult,Bible and Book Studies,Men's Groups,Small Group,St. Andrew Lutheran Church
ATTACH;FMTTYPE=image/jpeg:https://standrewlu.org/wp-content/uploads/2025/12/Small-Group-MP-Event-Widget-Image.jpg
END:VEVENT
BEGIN:VEVENT
DTSTART;TZID=UTC:20260518T190000
DTEND;TZID=UTC:20260518T203000
DTSTAMP:20260419T194922
CREATED:20260407T095901Z
LAST-MODIFIED:20260407T095901Z
UID:10001054-1779130800-1779136200@standrewlu.org
SUMMARY:Young Adult:  Shh.. Book Club
DESCRIPTION:Location: Chapel\nDays/Times: 3rd Monday of the Month @ 7-8:30 PM\nDescription: Join us for a cozy\, no-pressure reading hour with fellow book lovers. No assigned books\, no discussion required—just bring whatever you’re reading and enjoy quiet time together. Come as you are and let me know if you have any questions\nContact: Caleb Wragge at cwragge@standrewlu.org
URL:https://standrewlu.org/event/young-adult-shh-book-club-2/
LOCATION:St. Andrew Lutheran Church
CATEGORIES:Bible and Book Studies,St. Andrew Lutheran Church,Young Adult
ATTACH;FMTTYPE=image/png:https://standrewlu.org/wp-content/uploads/2026/03/Shh-Book-Club.png
END:VEVENT
BEGIN:VEVENT
DTSTART;TZID=UTC:20260520T063000
DTEND;TZID=UTC:20260520T073000
DTSTAMP:20260419T194922
CREATED:20260106T072632Z
LAST-MODIFIED:20260319T085944Z
UID:10000747-1779258600-1779262200@standrewlu.org
SUMMARY:Band of Brothers
DESCRIPTION:Join fellow Christian men each week to examine how faith affects our daily life and relationships. Participate weekly\, when you can.
URL:https://standrewlu.org/event/band-of-brothers-21/
LOCATION:St. Andrew Lutheran Church
CATEGORIES:Adult,Bible and Book Studies,Men's Groups,Small Group,St. Andrew Lutheran Church
ATTACH;FMTTYPE=image/jpeg:https://standrewlu.org/wp-content/uploads/2025/12/Small-Group-MP-Event-Widget-Image.jpg
END:VEVENT
BEGIN:VEVENT
DTSTART;TZID=UTC:20260520T080000
DTEND;TZID=UTC:20260520T090000
DTSTAMP:20260419T194922
CREATED:20260110T140004Z
LAST-MODIFIED:20260319T085944Z
UID:10000884-1779264000-1779267600@standrewlu.org
SUMMARY:Early Risers Bible Study - Book TBD
DESCRIPTION:Simon Peter–an ordinary fisherman who heard an extraordinary call. He left everything to follow his teacher and possessed a passion that would change the world. That’s one way to describe Peter. Here’s another: poor\, uneducated\, quick-tempered\, and full of doubts and fears. Doesn’t even sound like the same man.\nAnd that’s the point of Simon Peter\, a new book by Adam Hamilton. Peter was just an ordinary guy who heard and followed God’s extraordinary call. Discover how you\, too\, have special gifts\, talents\, and abilities that God can use to make a difference today.\nBooks will be available for purchase at the Front Desk soon.
URL:https://standrewlu.org/event/early-risers-bible-study-simon-peter-flawed-but-faithful-disciple-19/
LOCATION:St. Andrew Lutheran Church
CATEGORIES:Adult,Bible and Book Studies,Mixed Groups,Small Group,St. Andrew Lutheran Church
ATTACH;FMTTYPE=image/jpeg:https://standrewlu.org/wp-content/uploads/2026/01/early-risers-book-club.jpg
END:VEVENT
BEGIN:VEVENT
DTSTART;TZID=UTC:20260521T090000
DTEND;TZID=UTC:20260521T100000
DTSTAMP:20260419T194922
CREATED:20260407T100012Z
LAST-MODIFIED:20260407T100012Z
UID:10001089-1779354000-1779357600@standrewlu.org
SUMMARY:Pastor's Book Study - Summer Book TBD
DESCRIPTION:
URL:https://standrewlu.org/event/pastors-book-study-summer-book-tbd-3/
LOCATION:St. Andrew Lutheran Church
CATEGORIES:Adult,Bible and Book Studies,Mixed Groups,Small Group,St. Andrew Lutheran Church
ATTACH;FMTTYPE=image/jpeg:https://standrewlu.org/wp-content/uploads/2026/01/pastors-book-study.jpg
END:VEVENT
BEGIN:VEVENT
DTSTART;TZID=UTC:20260521T183000
DTEND;TZID=UTC:20260521T200000
DTSTAMP:20260419T194922
CREATED:20260407T100347Z
LAST-MODIFIED:20260407T100347Z
UID:10000622-1779388200-1779393600@standrewlu.org
SUMMARY:Women of the Word (WOW) -- PM
DESCRIPTION:Join us for a women’s Bible study of faith and fellowship using streaming video\, workbook lessons\, and small group discussions. For beginners and advanced! All women are welcome\, members and non-members.\nJoin us for our eight-week study of The Way of Wisdom: A Study of the Book of Proverbs by Jen Wilkin\, Ruth Chou Simons\, Kelly Minter\, Adrienne Camp\, Elizabeth Woodson\, and Courtney Doctor beginning January 8.
URL:https://standrewlu.org/event/women-of-the-word-wow-pm-8/
LOCATION:St. Andrew Lutheran Church
CATEGORIES:Adult,Bible and Book Studies,Small Group,St. Andrew Lutheran Church,Women's Groups
ATTACH;FMTTYPE=image/png:https://standrewlu.org/wp-content/uploads/2026/03/W.O.W.-PM-1.png
END:VEVENT
BEGIN:VEVENT
DTSTART;TZID=UTC:20260523T090000
DTEND;TZID=UTC:20260523T110000
DTSTAMP:20260419T194922
CREATED:20260116T141047Z
LAST-MODIFIED:20260319T085944Z
UID:10000748-1779526800-1779534000@standrewlu.org
SUMMARY:Saturday Morning Men's Bible Study
DESCRIPTION:The Saturday morning men’s group is a lighthearted bunch from several churches in the Southwest Metro that enjoys Christian fellowship and learning. \nWe have a particular liking to Andy Stanley and other contemporary Christian preachers. We use videos and Bible studies as conversation starters on living a Christian man’s life in today’s world. Join us anytime\, you don’t need to wait until we start a new series. \nAll mature (from 50 to 115) Christian men (St. Andrew membership not required) welcome. Come as you are as often as you can.\nLocation:\nFlagstone Retirement Community\n8350 Commonwealth Drive\, Eden Prairie\n1st Floor Conference Room (behind reception desk)
URL:https://standrewlu.org/event/saturday-morning-mens-bible-study-21/
LOCATION:Offsite
CATEGORIES:Adult,Bible and Book Studies,Men's Groups,Offsite,Small Group
ATTACH;FMTTYPE=image/jpeg:https://standrewlu.org/wp-content/uploads/2025/12/Small-Group-MP-Event-Widget-Image.jpg
END:VEVENT
BEGIN:VEVENT
DTSTART;TZID=UTC:20260527T063000
DTEND;TZID=UTC:20260527T073000
DTSTAMP:20260419T194922
CREATED:20260106T072700Z
LAST-MODIFIED:20260319T085945Z
UID:10000749-1779863400-1779867000@standrewlu.org
SUMMARY:Band of Brothers
DESCRIPTION:Join fellow Christian men each week to examine how faith affects our daily life and relationships. Participate weekly\, when you can.
URL:https://standrewlu.org/event/band-of-brothers-22/
LOCATION:St. Andrew Lutheran Church
CATEGORIES:Adult,Bible and Book Studies,Men's Groups,Small Group,St. Andrew Lutheran Church
ATTACH;FMTTYPE=image/jpeg:https://standrewlu.org/wp-content/uploads/2025/12/Small-Group-MP-Event-Widget-Image.jpg
END:VEVENT
BEGIN:VEVENT
DTSTART;TZID=UTC:20260527T080000
DTEND;TZID=UTC:20260527T090000
DTSTAMP:20260419T194922
CREATED:20260110T140026Z
LAST-MODIFIED:20260319T085945Z
UID:10000885-1779868800-1779872400@standrewlu.org
SUMMARY:Early Risers Bible Study - Book TBD
DESCRIPTION:Simon Peter–an ordinary fisherman who heard an extraordinary call. He left everything to follow his teacher and possessed a passion that would change the world. That’s one way to describe Peter. Here’s another: poor\, uneducated\, quick-tempered\, and full of doubts and fears. Doesn’t even sound like the same man.\nAnd that’s the point of Simon Peter\, a new book by Adam Hamilton. Peter was just an ordinary guy who heard and followed God’s extraordinary call. Discover how you\, too\, have special gifts\, talents\, and abilities that God can use to make a difference today.\nBooks will be available for purchase at the Front Desk soon.
URL:https://standrewlu.org/event/early-risers-bible-study-simon-peter-flawed-but-faithful-disciple-20/
LOCATION:St. Andrew Lutheran Church
CATEGORIES:Adult,Bible and Book Studies,Mixed Groups,Small Group,St. Andrew Lutheran Church
ATTACH;FMTTYPE=image/jpeg:https://standrewlu.org/wp-content/uploads/2026/01/early-risers-book-club.jpg
END:VEVENT
BEGIN:VEVENT
DTSTART;TZID=UTC:20260528T090000
DTEND;TZID=UTC:20260528T100000
DTSTAMP:20260419T194922
CREATED:20260407T101136Z
LAST-MODIFIED:20260407T101136Z
UID:10001090-1779958800-1779962400@standrewlu.org
SUMMARY:Pastor's Book Study - Summer Book TBD
DESCRIPTION:
URL:https://standrewlu.org/event/pastors-book-study-summer-book-tbd-4/
LOCATION:St. Andrew Lutheran Church
CATEGORIES:Adult,Bible and Book Studies,Mixed Groups,Small Group,St. Andrew Lutheran Church
ATTACH;FMTTYPE=image/jpeg:https://standrewlu.org/wp-content/uploads/2026/01/pastors-book-study.jpg
END:VEVENT
BEGIN:VEVENT
DTSTART;TZID=UTC:20260530T090000
DTEND;TZID=UTC:20260530T110000
DTSTAMP:20260419T194922
CREATED:20260116T141118Z
LAST-MODIFIED:20260319T085945Z
UID:10000750-1780131600-1780138800@standrewlu.org
SUMMARY:Saturday Morning Men's Bible Study
DESCRIPTION:The Saturday morning men’s group is a lighthearted bunch from several churches in the Southwest Metro that enjoys Christian fellowship and learning. \nWe have a particular liking to Andy Stanley and other contemporary Christian preachers. We use videos and Bible studies as conversation starters on living a Christian man’s life in today’s world. Join us anytime\, you don’t need to wait until we start a new series. \nAll mature (from 50 to 115) Christian men (St. Andrew membership not required) welcome. Come as you are as often as you can.\nLocation:\nFlagstone Retirement Community\n8350 Commonwealth Drive\, Eden Prairie\n1st Floor Conference Room (behind reception desk)
URL:https://standrewlu.org/event/saturday-morning-mens-bible-study-22/
LOCATION:Offsite
CATEGORIES:Adult,Bible and Book Studies,Men's Groups,Offsite,Small Group
ATTACH;FMTTYPE=image/jpeg:https://standrewlu.org/wp-content/uploads/2025/12/Small-Group-MP-Event-Widget-Image.jpg
END:VEVENT
BEGIN:VEVENT
DTSTART;TZID=UTC:20260603T063000
DTEND;TZID=UTC:20260603T073000
DTSTAMP:20260419T194922
CREATED:20260106T072732Z
LAST-MODIFIED:20260319T085945Z
UID:10000751-1780468200-1780471800@standrewlu.org
SUMMARY:Band of Brothers
DESCRIPTION:Join fellow Christian men each week to examine how faith affects our daily life and relationships. Participate weekly\, when you can.
URL:https://standrewlu.org/event/band-of-brothers-23/
LOCATION:St. Andrew Lutheran Church
CATEGORIES:Adult,Bible and Book Studies,Men's Groups,Small Group,St. Andrew Lutheran Church
ATTACH;FMTTYPE=image/jpeg:https://standrewlu.org/wp-content/uploads/2025/12/Small-Group-MP-Event-Widget-Image.jpg
END:VEVENT
BEGIN:VEVENT
DTSTART;TZID=UTC:20260606T090000
DTEND;TZID=UTC:20260606T110000
DTSTAMP:20260419T194922
CREATED:20260116T141211Z
LAST-MODIFIED:20260319T085945Z
UID:10000752-1780736400-1780743600@standrewlu.org
SUMMARY:Saturday Morning Men's Bible Study
DESCRIPTION:The Saturday morning men’s group is a lighthearted bunch from several churches in the Southwest Metro that enjoys Christian fellowship and learning. \nWe have a particular liking to Andy Stanley and other contemporary Christian preachers. We use videos and Bible studies as conversation starters on living a Christian man’s life in today’s world. Join us anytime\, you don’t need to wait until we start a new series. \nAll mature (from 50 to 115) Christian men (St. Andrew membership not required) welcome. Come as you are as often as you can.\nLocation:\nFlagstone Retirement Community\n8350 Commonwealth Drive\, Eden Prairie\n1st Floor Conference Room (behind reception desk)
URL:https://standrewlu.org/event/saturday-morning-mens-bible-study-23/
LOCATION:Offsite
CATEGORIES:Adult,Bible and Book Studies,Men's Groups,Offsite,Small Group
ATTACH;FMTTYPE=image/jpeg:https://standrewlu.org/wp-content/uploads/2025/12/Small-Group-MP-Event-Widget-Image.jpg
END:VEVENT
BEGIN:VEVENT
DTSTART;TZID=UTC:20260610T063000
DTEND;TZID=UTC:20260610T073000
DTSTAMP:20260419T194922
CREATED:20260106T072755Z
LAST-MODIFIED:20260319T085945Z
UID:10000753-1781073000-1781076600@standrewlu.org
SUMMARY:Band of Brothers
DESCRIPTION:Join fellow Christian men each week to examine how faith affects our daily life and relationships. Participate weekly\, when you can.
URL:https://standrewlu.org/event/band-of-brothers-24/
LOCATION:St. Andrew Lutheran Church
CATEGORIES:Adult,Bible and Book Studies,Men's Groups,Small Group,St. Andrew Lutheran Church
ATTACH;FMTTYPE=image/jpeg:https://standrewlu.org/wp-content/uploads/2025/12/Small-Group-MP-Event-Widget-Image.jpg
END:VEVENT
BEGIN:VEVENT
DTSTART;TZID=UTC:20260613T090000
DTEND;TZID=UTC:20260613T110000
DTSTAMP:20260419T194922
CREATED:20260116T141237Z
LAST-MODIFIED:20260319T085945Z
UID:10000754-1781341200-1781348400@standrewlu.org
SUMMARY:Saturday Morning Men's Bible Study
DESCRIPTION:The Saturday morning men’s group is a lighthearted bunch from several churches in the Southwest Metro that enjoys Christian fellowship and learning. \nWe have a particular liking to Andy Stanley and other contemporary Christian preachers. We use videos and Bible studies as conversation starters on living a Christian man’s life in today’s world. Join us anytime\, you don’t need to wait until we start a new series. \nAll mature (from 50 to 115) Christian men (St. Andrew membership not required) welcome. Come as you are as often as you can.\nLocation:\nFlagstone Retirement Community\n8350 Commonwealth Drive\, Eden Prairie\n1st Floor Conference Room (behind reception desk)
URL:https://standrewlu.org/event/saturday-morning-mens-bible-study-24/
LOCATION:Offsite
CATEGORIES:Adult,Bible and Book Studies,Men's Groups,Offsite,Small Group
ATTACH;FMTTYPE=image/jpeg:https://standrewlu.org/wp-content/uploads/2025/12/Small-Group-MP-Event-Widget-Image.jpg
END:VEVENT
BEGIN:VEVENT
DTSTART;TZID=UTC:20260617T063000
DTEND;TZID=UTC:20260617T073000
DTSTAMP:20260419T194922
CREATED:20260106T072821Z
LAST-MODIFIED:20260319T085945Z
UID:10000755-1781677800-1781681400@standrewlu.org
SUMMARY:Band of Brothers
DESCRIPTION:Join fellow Christian men each week to examine how faith affects our daily life and relationships. Participate weekly\, when you can.
URL:https://standrewlu.org/event/band-of-brothers-25/
LOCATION:St. Andrew Lutheran Church
CATEGORIES:Adult,Bible and Book Studies,Men's Groups,Small Group,St. Andrew Lutheran Church
ATTACH;FMTTYPE=image/jpeg:https://standrewlu.org/wp-content/uploads/2025/12/Small-Group-MP-Event-Widget-Image.jpg
END:VEVENT
BEGIN:VEVENT
DTSTART;TZID=UTC:20260620T090000
DTEND;TZID=UTC:20260620T110000
DTSTAMP:20260419T194922
CREATED:20260116T141305Z
LAST-MODIFIED:20260319T085945Z
UID:10000756-1781946000-1781953200@standrewlu.org
SUMMARY:Saturday Morning Men's Bible Study
DESCRIPTION:The Saturday morning men’s group is a lighthearted bunch from several churches in the Southwest Metro that enjoys Christian fellowship and learning. \nWe have a particular liking to Andy Stanley and other contemporary Christian preachers. We use videos and Bible studies as conversation starters on living a Christian man’s life in today’s world. Join us anytime\, you don’t need to wait until we start a new series. \nAll mature (from 50 to 115) Christian men (St. Andrew membership not required) welcome. Come as you are as often as you can.\nLocation:\nFlagstone Retirement Community\n8350 Commonwealth Drive\, Eden Prairie\n1st Floor Conference Room (behind reception desk)
URL:https://standrewlu.org/event/saturday-morning-mens-bible-study-25/
LOCATION:Offsite
CATEGORIES:Adult,Bible and Book Studies,Men's Groups,Offsite,Small Group
ATTACH;FMTTYPE=image/jpeg:https://standrewlu.org/wp-content/uploads/2025/12/Small-Group-MP-Event-Widget-Image.jpg
END:VEVENT
BEGIN:VEVENT
DTSTART;TZID=UTC:20260624T063000
DTEND;TZID=UTC:20260624T073000
DTSTAMP:20260419T194922
CREATED:20260106T072849Z
LAST-MODIFIED:20260319T085946Z
UID:10000757-1782282600-1782286200@standrewlu.org
SUMMARY:Band of Brothers
DESCRIPTION:Join fellow Christian men each week to examine how faith affects our daily life and relationships. Participate weekly\, when you can.
URL:https://standrewlu.org/event/band-of-brothers-26/
LOCATION:St. Andrew Lutheran Church
CATEGORIES:Adult,Bible and Book Studies,Men's Groups,Small Group,St. Andrew Lutheran Church
ATTACH;FMTTYPE=image/jpeg:https://standrewlu.org/wp-content/uploads/2025/12/Small-Group-MP-Event-Widget-Image.jpg
END:VEVENT
BEGIN:VEVENT
DTSTART;TZID=UTC:20260627T090000
DTEND;TZID=UTC:20260627T110000
DTSTAMP:20260419T194922
CREATED:20260116T141324Z
LAST-MODIFIED:20260319T085946Z
UID:10000758-1782550800-1782558000@standrewlu.org
SUMMARY:Saturday Morning Men's Bible Study
DESCRIPTION:The Saturday morning men’s group is a lighthearted bunch from several churches in the Southwest Metro that enjoys Christian fellowship and learning. \nWe have a particular liking to Andy Stanley and other contemporary Christian preachers. We use videos and Bible studies as conversation starters on living a Christian man’s life in today’s world. Join us anytime\, you don’t need to wait until we start a new series. \nAll mature (from 50 to 115) Christian men (St. Andrew membership not required) welcome. Come as you are as often as you can.\nLocation:\nFlagstone Retirement Community\n8350 Commonwealth Drive\, Eden Prairie\n1st Floor Conference Room (behind reception desk)
URL:https://standrewlu.org/event/saturday-morning-mens-bible-study-26/
LOCATION:Offsite
CATEGORIES:Adult,Bible and Book Studies,Men's Groups,Offsite,Small Group
ATTACH;FMTTYPE=image/jpeg:https://standrewlu.org/wp-content/uploads/2025/12/Small-Group-MP-Event-Widget-Image.jpg
END:VEVENT
BEGIN:VEVENT
DTSTART;TZID=UTC:20260701T063000
DTEND;TZID=UTC:20260701T073000
DTSTAMP:20260419T194922
CREATED:20260106T072916Z
LAST-MODIFIED:20260319T085946Z
UID:10000759-1782887400-1782891000@standrewlu.org
SUMMARY:Band of Brothers
DESCRIPTION:Join fellow Christian men each week to examine how faith affects our daily life and relationships. Participate weekly\, when you can.
URL:https://standrewlu.org/event/band-of-brothers-27/
LOCATION:St. Andrew Lutheran Church
CATEGORIES:Adult,Bible and Book Studies,Men's Groups,Small Group,St. Andrew Lutheran Church
ATTACH;FMTTYPE=image/jpeg:https://standrewlu.org/wp-content/uploads/2025/12/Small-Group-MP-Event-Widget-Image.jpg
END:VEVENT
BEGIN:VEVENT
DTSTART;TZID=UTC:20260704T090000
DTEND;TZID=UTC:20260704T110000
DTSTAMP:20260419T194922
CREATED:20260116T141342Z
LAST-MODIFIED:20260319T085946Z
UID:10000760-1783155600-1783162800@standrewlu.org
SUMMARY:Saturday Morning Men's Bible Study
DESCRIPTION:The Saturday morning men’s group is a lighthearted bunch from several churches in the Southwest Metro that enjoys Christian fellowship and learning. \nWe have a particular liking to Andy Stanley and other contemporary Christian preachers. We use videos and Bible studies as conversation starters on living a Christian man’s life in today’s world. Join us anytime\, you don’t need to wait until we start a new series. \nAll mature (from 50 to 115) Christian men (St. Andrew membership not required) welcome. Come as you are as often as you can.\nLocation:\nFlagstone Retirement Community\n8350 Commonwealth Drive\, Eden Prairie\n1st Floor Conference Room (behind reception desk)
URL:https://standrewlu.org/event/saturday-morning-mens-bible-study-27/
LOCATION:Offsite
CATEGORIES:Adult,Bible and Book Studies,Men's Groups,Offsite,Small Group
ATTACH;FMTTYPE=image/jpeg:https://standrewlu.org/wp-content/uploads/2025/12/Small-Group-MP-Event-Widget-Image.jpg
END:VEVENT
BEGIN:VEVENT
DTSTART;TZID=UTC:20260708T063000
DTEND;TZID=UTC:20260708T073000
DTSTAMP:20260419T194922
CREATED:20260110T112659Z
LAST-MODIFIED:20260319T085946Z
UID:10000761-1783492200-1783495800@standrewlu.org
SUMMARY:Band of Brothers
DESCRIPTION:Join fellow Christian men each week to examine how faith affects our daily life and relationships. Participate weekly\, when you can.
URL:https://standrewlu.org/event/band-of-brothers-28/
LOCATION:St. Andrew Lutheran Church
CATEGORIES:Adult,Bible and Book Studies,Men's Groups,Small Group,St. Andrew Lutheran Church
ATTACH;FMTTYPE=image/jpeg:https://standrewlu.org/wp-content/uploads/2025/12/Small-Group-MP-Event-Widget-Image.jpg
END:VEVENT
BEGIN:VEVENT
DTSTART;TZID=UTC:20260711T090000
DTEND;TZID=UTC:20260711T110000
DTSTAMP:20260419T194922
CREATED:20260116T141402Z
LAST-MODIFIED:20260319T085946Z
UID:10000762-1783760400-1783767600@standrewlu.org
SUMMARY:Saturday Morning Men's Bible Study
DESCRIPTION:The Saturday morning men’s group is a lighthearted bunch from several churches in the Southwest Metro that enjoys Christian fellowship and learning. \nWe have a particular liking to Andy Stanley and other contemporary Christian preachers. We use videos and Bible studies as conversation starters on living a Christian man’s life in today’s world. Join us anytime\, you don’t need to wait until we start a new series. \nAll mature (from 50 to 115) Christian men (St. Andrew membership not required) welcome. Come as you are as often as you can.\nLocation:\nFlagstone Retirement Community\n8350 Commonwealth Drive\, Eden Prairie\n1st Floor Conference Room (behind reception desk)
URL:https://standrewlu.org/event/saturday-morning-mens-bible-study-28/
LOCATION:Offsite
CATEGORIES:Adult,Bible and Book Studies,Men's Groups,Offsite,Small Group
ATTACH;FMTTYPE=image/jpeg:https://standrewlu.org/wp-content/uploads/2025/12/Small-Group-MP-Event-Widget-Image.jpg
END:VEVENT
BEGIN:VEVENT
DTSTART;TZID=UTC:20260715T063000
DTEND;TZID=UTC:20260715T073000
DTSTAMP:20260419T194922
CREATED:20260110T113454Z
LAST-MODIFIED:20260319T085946Z
UID:10000763-1784097000-1784100600@standrewlu.org
SUMMARY:Band of Brothers
DESCRIPTION:Join fellow Christian men each week to examine how faith affects our daily life and relationships. Participate weekly\, when you can.
URL:https://standrewlu.org/event/band-of-brothers-29/
LOCATION:St. Andrew Lutheran Church
CATEGORIES:Adult,Bible and Book Studies,Men's Groups,Small Group,St. Andrew Lutheran Church
ATTACH;FMTTYPE=image/jpeg:https://standrewlu.org/wp-content/uploads/2025/12/Small-Group-MP-Event-Widget-Image.jpg
END:VEVENT
BEGIN:VEVENT
DTSTART;TZID=UTC:20260718T090000
DTEND;TZID=UTC:20260718T110000
DTSTAMP:20260419T194922
CREATED:20260116T141419Z
LAST-MODIFIED:20260319T085946Z
UID:10000764-1784365200-1784372400@standrewlu.org
SUMMARY:Saturday Morning Men's Bible Study
DESCRIPTION:The Saturday morning men’s group is a lighthearted bunch from several churches in the Southwest Metro that enjoys Christian fellowship and learning. \nWe have a particular liking to Andy Stanley and other contemporary Christian preachers. We use videos and Bible studies as conversation starters on living a Christian man’s life in today’s world. Join us anytime\, you don’t need to wait until we start a new series. \nAll mature (from 50 to 115) Christian men (St. Andrew membership not required) welcome. Come as you are as often as you can.\nLocation:\nFlagstone Retirement Community\n8350 Commonwealth Drive\, Eden Prairie\n1st Floor Conference Room (behind reception desk)
URL:https://standrewlu.org/event/saturday-morning-mens-bible-study-29/
LOCATION:Offsite
CATEGORIES:Adult,Bible and Book Studies,Men's Groups,Offsite,Small Group
ATTACH;FMTTYPE=image/jpeg:https://standrewlu.org/wp-content/uploads/2025/12/Small-Group-MP-Event-Widget-Image.jpg
END:VEVENT
BEGIN:VEVENT
DTSTART;TZID=UTC:20260722T063000
DTEND;TZID=UTC:20260722T073000
DTSTAMP:20260419T194922
CREATED:20260110T113621Z
LAST-MODIFIED:20260319T085946Z
UID:10000765-1784701800-1784705400@standrewlu.org
SUMMARY:Band of Brothers
DESCRIPTION:Join fellow Christian men each week to examine how faith affects our daily life and relationships. Participate weekly\, when you can.
URL:https://standrewlu.org/event/band-of-brothers-30/
LOCATION:St. Andrew Lutheran Church
CATEGORIES:Adult,Bible and Book Studies,Men's Groups,Small Group,St. Andrew Lutheran Church
ATTACH;FMTTYPE=image/jpeg:https://standrewlu.org/wp-content/uploads/2025/12/Small-Group-MP-Event-Widget-Image.jpg
END:VEVENT
END:VCALENDAR