BEGIN:VCALENDAR
VERSION:2.0
PRODID:-//St. Andrew Lutheran Church - ECPv6.15.20//NONSGML v1.0//EN
CALSCALE:GREGORIAN
METHOD:PUBLISH
X-WR-CALNAME:St. Andrew Lutheran Church
X-ORIGINAL-URL:https://standrewlu.org
X-WR-CALDESC:Events for St. Andrew Lutheran Church
REFRESH-INTERVAL;VALUE=DURATION:PT1H
X-Robots-Tag:noindex
X-PUBLISHED-TTL:PT1H
BEGIN:VTIMEZONE
TZID:America/Chicago
BEGIN:DAYLIGHT
TZOFFSETFROM:-0600
TZOFFSETTO:-0500
TZNAME:CDT
DTSTART:20250309T080000
END:DAYLIGHT
BEGIN:STANDARD
TZOFFSETFROM:-0500
TZOFFSETTO:-0600
TZNAME:CST
DTSTART:20251102T070000
END:STANDARD
BEGIN:DAYLIGHT
TZOFFSETFROM:-0600
TZOFFSETTO:-0500
TZNAME:CDT
DTSTART:20260308T080000
END:DAYLIGHT
BEGIN:STANDARD
TZOFFSETFROM:-0500
TZOFFSETTO:-0600
TZNAME:CST
DTSTART:20261101T070000
END:STANDARD
BEGIN:DAYLIGHT
TZOFFSETFROM:-0600
TZOFFSETTO:-0500
TZNAME:CDT
DTSTART:20270314T080000
END:DAYLIGHT
BEGIN:STANDARD
TZOFFSETFROM:-0500
TZOFFSETTO:-0600
TZNAME:CST
DTSTART:20271107T070000
END:STANDARD
END:VTIMEZONE
BEGIN:VEVENT
DTSTART;TZID=America/Chicago:20260511T080000
DTEND;TZID=America/Chicago:20260511T100000
DTSTAMP:20260419T092649
CREATED:20260116T203904Z
LAST-MODIFIED:20260319T135943Z
UID:10000597-1778486400-1778493600@standrewlu.org
SUMMARY:St. Andrew Book Group - Afternoon
DESCRIPTION:Book Group meetings are held the second Monday of the month in Room 207 at St. Andrew. Participants are welcome on a regular or drop-in basis. Please join us for a lively discussion and small group fellowship. Feel free to bring a friend. Group is not restricted to church members.\nSeptember 8 – The Covenant of Water by Abraham Verghese\nOctober 13 – The Gifted School by Bruce Holsinger\nNovember 10 – The First Ladies by Marie Benedict and Victoria C Murray\nDecember 8 – Small and Mighty: Twelve Unsung Americans Who Changed the Course of History\, from the Founding to the Civil Rights Movement by Sharon McMahon\nJanuary 12 – Fresh Water for Flowers by Valerie Perrin\nFebruary 9 – A Fever in the Heartland: The Ku Klux Klan’s Plot to Take Over America\, and the Woman Who Stopped Them by Timothy Egan\nMarch 9 – Elegance of the Hedgehog by Muriel Barbery\nApril 13 – Parable of the Sower by Octavia Butler\nMay 11 – Next Year in Havana by Chanel Cleeton\nContacts:\nAfternoon session: Cori Eichelberger at irocknits@gmail.com\nEvening session: Jody Collis King at jcollisking@msn.com
URL:https://standrewlu.org/event/st-andrew-book-group-afternoon-4/
LOCATION:St. Andrew Lutheran Church
CATEGORIES:Adult,Bible and Book Studies,Mixed Groups,Small Group,St. Andrew Lutheran Church
ATTACH;FMTTYPE=image/jpeg:https://standrewlu.org/wp-content/uploads/2025/12/Small-Group-MP-Event-Widget-Image.jpg
END:VEVENT
BEGIN:VEVENT
DTSTART;TZID=America/Chicago:20260511T140000
DTEND;TZID=America/Chicago:20260511T160000
DTSTAMP:20260419T092649
CREATED:20260406T221701Z
LAST-MODIFIED:20260406T221701Z
UID:10000598-1778508000-1778515200@standrewlu.org
SUMMARY:St. Andrew Book Group - Evening
DESCRIPTION:Book Group meetings are held the second Monday of the month in Room 207 at St. Andrew. Participants are welcome on a regular or drop-in basis. Please join us for a lively discussion and small group fellowship. Feel free to bring a friend. Group is not restricted to church members.\nSeptember 8 – The Covenant of Water by Abraham Verghese\nOctober 13 – The Gifted School by Bruce Holsinger\nNovember 10 – The First Ladies by Marie Benedict and Victoria C Murray\nDecember 8 – Small and Mighty: Twelve Unsung Americans Who Changed the Course of History\, from the Founding to the Civil Rights Movement by Sharon McMahon\nJanuary 12 – Fresh Water for Flowers by Valerie Perrin\nFebruary 9 – A Fever in the Heartland: The Ku Klux Klan’s Plot to Take Over America\, and the Woman Who Stopped Them by Timothy Egan\nMarch 9 – Elegance of the Hedgehog by Muriel Barbery\nApril 13 – Parable of the Sower by Octavia Butler\nMay 11 – Next Year in Havana by Chanel Cleeton\nContacts:\nAfternoon session: Cori Eichelberger at irocknits@gmail.com\nEvening session: Jody Collis King at jcollisking@msn.com
URL:https://standrewlu.org/event/st-andrew-book-group-evening-4/
LOCATION:St. Andrew Lutheran Church
CATEGORIES:Adult,Bible and Book Studies,Mixed Groups,Small Group,St. Andrew Lutheran Church
ATTACH;FMTTYPE=image/png:https://standrewlu.org/wp-content/uploads/2026/03/St.-Andrew-Book-Group.png
END:VEVENT
END:VCALENDAR